Workbook

Sheet 4 medição
A2: PREFEITURA MUNICIPAL DE CONCEIÇÃO DOS OUROS Rua Vasco Gusmão Martins, 108 - Centro, CEP 37690-000
A3: PLANILHA ORÇAMENTÁRIA DE CUSTOS
A4: MUNICÍPIO: CONCEIÇÃO DOS OUROS/MG
A5: OBRA: REFORMA DO CINE OUROS
A6: END.: AVENIDA CORONEL DOMINGOS ROSA, Nº. 45. CENTRO
A7: DATA: | B7: 46188 | P7: 0.8972
C8: 4 MEDIÇÃO - 13/05/2026 a 13/06/2026 | K8: BDI: | L8: 0.2644
A9: Item | B9: Código | C9: Descrição | D9: Unid. | E9: Quantidade Contratual | F9: Quantidade acumulada anterior | G9: Quantidade medida | H9: Quantidade acumulada | I9: Saldo quantitativos | J9: Custo Unitário (R$) | K9: Unitário com BDI (R$) | L9: Valor da medição | M9: Valor acumulado | N9: Saldo financeiro por item | P9: CUSTO UNITÁRIO (R$) | S9: 1 medição | T9: 2 medição | U9: 3 medição | V9: 4 medição | W9: soma | X9: contrato
C10: TOTAL | E10: 1015112.1 | G10: 1015112.1 | L10: =SUM(L11:L79)+0.01 -> 70665.04 | M10: =SUM(M11:M79) -> 158277.37 | N10: =SUM(N11:N79) -> 16422.63 | S10: 1015112.1 | T10: 1015112.1 | U10: 1015112.1 | X10: 1015112.1
A12: 1 | C12: SERVIÇOS PRELIMINARES
A13: 1.1 | B13: ED-28427 | C13: FORNECIMENTO E COLOCAÇÃO DE PLACA DE OBRA EM CHAPA GALVANIZADA #26, ESP. 0,45MM, DIMENSÃO (3X1,5)M, PLOTADA COM ADESIVO VINÍLICO, AFIXADA COM REBITES 4,8X40MM, EM ESTRUTURA METÁLICA DE METALON 20X20MM, ESP. 1,25MM, INCLUSIVE SUPORTE EM EUCALIPTO AUTOCLAVADO PINTADO COM TINTA PVA DUAS (2) DEMÃOS | D13: un | E13: 1 | F13: =W13 -> 1 | H13: =F13+G13 -> 1 | I13: =E13-H13 -> 0 | J13: =P13*$P$7 -> 1055.3494 | K13: =ROUND(J13+(J13*$L$8),2) -> 1334.38 | L13: =ROUND(K13*G13,2) -> 0 | M13: =K13*H13 -> 1334.38 | N13: =ROUND(K13*I13,2) -> 0 | P13: 1176.27 | S13: 1 | W13: =SUM(S13:V13) -> 1 | X13: 1
A14: 2 | C14: VEDAÇÃO | L14: =ROUND(K14*G14,2) -> 0 | N14: =ROUND(K14*I14,2) -> 0 | W14: =SUM(S14:V14) -> 0
A15: 2.1 | B15: ED-28338 | C15: DEMOLIÇÃO MANUAL DE CONSTRUÇÃO EM ALVENARIAS DE VEDAÇÃO, COM ESPESSURA MÁXIMA DE 15CM, INCLUSIVE REMOÇÃO COM REAPROVEITAMENTO DE ESQUADRIAS, AFASTAMENTO E EMPILHAMENTO, EXCLUSIVE TRANSPORTE E RETIRADA DO MATERIAL DEMOLIDO/REMOVIDO NÃO REAPROVEITÁVEL | D15: M2 | E15: 188.56 | F15: =W15 -> 188.56 | H15: =F15+G15 -> 188.56 | I15: =E15-H15 -> 0 | J15: =P15*$P$7 -> 15.548476 | K15: =ROUND(J15+(J15*$L$8),2) -> 19.66 | L15: =ROUND(K15*G15,2) -> 0 | M15: =K15*H15 -> 3707.0896 | N15: =ROUND(K15*I15,2) -> 0 | P15: 17.33 | S15: =51.04+137.52 -> 188.56 | W15: =SUM(S15:V15) -> 188.56 | X15: 188.56
A16: 2.2 | B16: ED-48501 | C16: DEMOLIÇÃO MANUAL DE REBOCO OU EMBOÇO, COM ESPESSURA DE ATÉ 55MM, INCLUSIVE AFASTAMENTO E EMPILHAMENTO, EXCLUSIVE TRANSPORTE E RETIRADA DO MATERIAL DEMOLIDO | D16: M2 | E16: 188.56 | F16: =W16 -> 188.56 | H16: =F16+G16 -> 188.56 | I16: =E16-H16 -> 0 | J16: =P16*$P$7 -> 9.277048 | K16: =ROUND(J16+(J16*$L$8),2) -> 11.73 | L16: =ROUND(K16*G16,2) -> 0 | M16: =K16*H16 -> 2211.8088 | N16: =ROUND(K16*I16,2) -> 0 | P16: 10.34 | S16: 96.99 | T16: 91.57 | W16: =SUM(S16:V16) -> 188.56 | X16: 188.56
A17: 2.3 | B17: ED-48192 | C17: ALVENARIA DE VEDAÇÃO COM BLOCO DE CONCRETO, ESP. 14CM, PARA REVESTIMENTO, INCLUSIVE ARGAMASSA PARA ASSENTAMENTO | D17: M2 | E17: =((1.75+1.8)*2*3.1)+(4.3+3+3+2.45)*2.15+(31.5*1.85) -> 107.6975 | F17: =W17 -> 107.6975 | H17: =F17+G17 -> 107.6975 | I17: =E17-H17 -> 0 | J17: =P17*$P$7 -> 58.81146 | K17: =ROUND(J17+(J17*$L$8),2) -> 74.36 | L17: =ROUND(K17*G17,2) -> 0 | M17: =K17*H17 -> 8008.3861 | N17: =ROUND(K17*I17,2) -> 0 | P17: 65.55 | S17: 4.98 | T17: =35.6+64.56 -> 100.16 | U17: 2.5575 | W17: =SUM(S17:V17) -> 107.6975 | X17: =((1.75+1.8)*2*3.1)+(4.3+3+3+2.45)*2.15+(31.5*1.85) -> 107.6975
A18: 2.4 | B18: ED-48388 | C18: CINTA DE AMARRAÇÃO DE ALVENARIA COM BLOCO DE CONCRETO ESTRUTURAL, CANALETA TIPO "U", ESP. 14CM, (FBK 4, 5MPA), PARA REVESTIMENTO, INCLUSIVE ARGAMASSA PARA ASSENTAMENTO, EXCLUSIVE GRAUTE E ARMAÇÃO | D18: M | E18: =((1.75+1.8)*2)+(4.3+3+3+2.45)+60 -> 79.85 | F18: =W18 -> 79.85 | H18: =F18+G18 -> 79.85 | I18: =E18-H18 -> 0 | J18: =P18*$P$7 -> 19.280828 | K18: =ROUND(J18+(J18*$L$8),2) -> 24.38 | L18: =ROUND(K18*G18,2) -> 0 | M18: =K18*H18 -> 1946.743 | N18: =ROUND(K18*I18,2) -> 0 | P18: 21.49 | T18: =9.7+70.15 -> 79.85 | W18: =SUM(S18:V18) -> 79.85 | X18: 79.85
A19: 2.5 | B19: ED-50761 | C19: REBOCO COM ARGAMASSA, TRAÇO 1:2:8 (CIMENTO, CAL E AREIA) , ESP. 20MM, APLICAÇÃO MANUAL, INCLUSIVE ARGAMASSA COM PREPARO MECANIZADO, EXCLUSIVE CHAPISCO | D19: M2 | E19: 188.56 | F19: =W19 -> 188.56 | H19: =F19+G19 -> 188.56 | I19: =E19-H19 -> 0 | J19: =P19*$P$7 -> 33.15154 | K19: =ROUND(J19+(J19*$L$8),2) -> 41.92 | L19: =ROUND(K19*G19,2) -> 0 | M19: =K19*H19 -> 7904.4352 | N19: =ROUND(K19*I19,2) -> 0 | P19: 36.95 | S19: 73.96 | T19: 114.6 | W19: =SUM(S19:V19) -> 188.56 | X19: 188.56
A20: 3 | C20: COBERTURA | W20: =SUM(S20:V20) -> 0
A21: 3.1 | B21: ED-20603 | C21: FORNECIMENTO DE ESTRUTURA METÁLICA E ENGRADAMENTO METÁLICO, EM AÇO, PARA TELHADO, EXCLUSIVE TELHA, INCLUSIVE FABRICAÇÃO, TRANSPORTE, MONTAGEM E APLICAÇÃO DE FUNDO PREPARADOR ANTICORROSIVO EM SUPERFÍCIE METÁLICA, UMA (1) DEMÃO | D21: KG | E21: 216 | F21: =W21 -> 216 | H21: =F21+G21 -> 216 | I21: =E21-H21 -> 0 | J21: =P21*$P$7 -> 19.191108 | K21: =ROUND(J21+(J21*$L$8),2) -> 24.27 | L21: =ROUND(K21*G21,2) -> 0 | M21: =K21*H21 -> 5242.32 | N21: =ROUND(K21*I21,2) -> 0 | P21: 21.39 | U21: 216 | W21: =SUM(S21:V21) -> 216 | X21: 216
A22: 3.2 | B22: ED-20574 | C22: FORNECIMENTO DE ESTRUTURA METÁLICA E ENGRADAMENTO METÁLICO, EM AÇO PATINÁVEL, SOBRE LAJE PARA TELHA CERÂMICA, COBERTURA PADRÃO DO PRÉDIO ESCOLAR, EXCLUSIVE TELHA, INCLUSIVE FABRICAÇÃO, TRANSPORTE E MONTAGEM | D22: m2 | E22: 19.6 | F22: =W22 -> 19.6 | H22: =F22+G22 -> 19.6 | I22: =E22-H22 -> 0 | J22: =P22*$P$7 -> 282.60006 | K22: =ROUND(J22+(J22*$L$8),2) -> 357.32 | L22: =ROUND(K22*G22,2) -> 0 | M22: =K22*H22 -> 7003.472 | N22: =ROUND(K22*I22,2) -> 0 | P22: 314.98 | U22: 19.6 | W22: =SUM(S22:V22) -> 19.6 | X22: 19.6
A23: 3.3 | B23: ED-48428 | C23: COBERTURA EM TELHA METÁLICA GALVANIZADA TRAPEZOIDAL, TIPO SIMPLES, ESP. 0,50MM, ACABAMENTO NATURAL, INCLUSIVE ACESSÓRIOS PARA FIXAÇÃO, FORNECIMENTO E INSTALAÇÃO | D23: M2 | E23: 19.6 | F23: =W23 -> 19.6 | H23: =F23+G23 -> 19.6 | I23: =E23-H23 -> 0 | J23: =P23*$P$7 -> 96.35928 | K23: =ROUND(J23+(J23*$L$8),2) -> 121.84 | L23: =ROUND(K23*G23,2) -> 0 | M23: =K23*H23 -> 2388.064 | N23: =ROUND(K23*I23,2) -> 0 | P23: 107.4 | U23: 19.6 | W23: =SUM(S23:V23) -> 19.6 | X23: 19.6
A24: 3.4 | B24: ED-50678 | C24: RUFO E CONTRARRUFO EM CHAPA GALVANIZADA, ESP. 0,65MM (GSG-24), COM DESENVOLVIMENTO DE 33CM, INCLUSIVE IÇAMENTO MANUAL VERTICAL | D24: M | E24: 5.75 | F24: =W24 -> 5.75 | H24: =F24+G24 -> 5.75 | I24: =E24-H24 -> 0 | J24: =P24*$P$7 -> 42.285036 | K24: =ROUND(J24+(J24*$L$8),2) -> 53.47 | L24: =ROUND(K24*G24,2) -> 0 | M24: =K24*H24 -> 307.4525 | N24: =ROUND(K24*I24,2) -> 0 | P24: 47.13 | U24: 5.75 | W24: =SUM(S24:V24) -> 5.75 | X24: 5.75
A25: 3.5 | B25: ED-50663 | C25: CALHA EM CHAPA GALVANIZADA, ESP. 0,5MM (GSG-26), COM DESENVOLVIMENTO DE 50CM, INCLUSIVE IÇAMENTO MANUAL VERTICAL | D25: M | E25: 5.75 | F25: =W25 -> 5.75 | H25: =F25+G25 -> 5.75 | I25: =E25-H25 -> 0 | J25: =P25*$P$7 -> 51.624888 | K25: =ROUND(J25+(J25*$L$8),2) -> 65.27 | L25: =ROUND(K25*G25,2) -> 0 | M25: =K25*H25 -> 375.3025 | N25: =ROUND(K25*I25,2) -> 0 | P25: 57.54 | U25: 5.75 | W25: =SUM(S25:V25) -> 5.75 | X25: 5.75
A26: 3.6 | B26: ED-50668 | C26: CONDUTOR CIRCULAR DE ÁGUA PLUVIAL PARA TELHADO EM TUBO DE PVC, DIÂMETRO DE 100MM, INCLUSIVE CONEXÕES E SUPORTES | D26: M | E26: 6 | F26: =W26 -> 6 | H26: =F26+G26 -> 6 | I26: =E26-H26 -> 0 | J26: =P26*$P$7 -> 76.899012 | K26: =ROUND(J26+(J26*$L$8),2) -> 97.23 | L26: =ROUND(K26*G26,2) -> 0 | M26: =K26*H26 -> 583.38 | N26: =ROUND(K26*I26,2) -> 0 | P26: 85.71 | U26: 6 | W26: =SUM(S26:V26) -> 6 | X26: 6
A27: 4 | C27: INSTALAÇÃO HIDROSSANITÁRIA | W27: =SUM(S27:V27) -> 0
A28: 4.1 | B28: ED-48467 | C28: REMOÇÃO DE LOUÇAS (LAVATÓRIO, BANHEIRA, PIA, VASO SANITÁRIO, TANQUE), COM REAPROVEITAMENTO, INCLUSIVE AFASTAMENTO E EMPILHAMENTO, EXCLUSIVE TRANSPORTE E RETIRADA DO MATERIAL REMOVIDO NÃO REAPROVEITÁVEL | D28: Un. | E28: 6 | F28: =W28 -> 6 | H28: =F28+G28 -> 6 | I28: =E28-H28 -> 0 | J28: =P28*$P$7 -> 40.158672 | K28: =ROUND(J28+(J28*$L$8),2) -> 50.78 | L28: =ROUND(K28*G28,2) -> 0 | M28: =K28*H28 -> 304.68 | N28: =ROUND(K28*I28,2) -> 0 | P28: 44.76 | S28: 6 | W28: =SUM(S28:V28) -> 6 | X28: 6
A29: 4.2 | B29: ED-50223 | C29: PONTO DE EMBUTIR PARA ESGOTO EM TUBO PVC RÍGIDO, PB - SÉRIE NORMAL, DN 40MM (1.1/2"), EMBUTIDO NA ALVENARIA/PISO, COM ALTURA (SAÍDA) DE 50CM DO PISO, COM DISTÂNCIA DE ATÉ CINCO (5) METROS DO RAMAL DE ESGOTO, EXCLUSIVE ESCAVAÇÃO, INCLUSIVE CONEXÕES E FIXAÇÃO DO TUBO COM ENCHIMENTO DO RASGO NA ALVENARIA/CONCRETO COM ARGAMASSA (LAVATÓRIO) | D29: UN. | E29: 3 | F29: =W29 -> 3 | H29: =F29+G29 -> 3 | I29: =E29-H29 -> 0 | J29: =P29*$P$7 -> 149.42866 | K29: =ROUND(J29+(J29*$L$8),2) -> 188.94 | L29: =ROUND(K29*G29,2) -> 0 | M29: =K29*H29 -> 566.82 | N29: =ROUND(K29*I29,2) -> 0 | P29: 166.55 | T29: 3 | W29: =SUM(S29:V29) -> 3 | X29: 3
A30: 4.3 | B30: ED-50225 | C30: PONTO DE EMBUTIR PARA ESGOTO EM TUBO PVC RÍGIDO, PBV - SÉRIE NORMAL, DN 100MM (4"), EMBUTIDO EM PISO COM DISTÂNCIA DE ATÉ CINCO (5) METROS DO RAMAL DE ESGOTO, INCLUSIVE CONEXÕES E FIXAÇÃO DO TUBO COM ENCHIMENTO DO RASGO NO CONCRETO COM ARGAMASSA (VASO) | D30: UN. | E30: 3 | F30: =W30 -> 3 | H30: =F30+G30 -> 3 | I30: =E30-H30 -> 0 | J30: =P30*$P$7 -> 274.49834 | K30: =ROUND(J30+(J30*$L$8),2) -> 347.08 | L30: =ROUND(K30*G30,2) -> 0 | M30: =K30*H30 -> 1041.24 | N30: =ROUND(K30*I30,2) -> 0 | P30: 305.95 | T30: 3 | W30: =SUM(S30:V30) -> 3 | X30: 3
A31: 4.4 | B31: ED-50224 | C31: PONTO DE EMBUTIR PARA ESGOTO EM TUBO PVC RÍGIDO, PBV - SÉRIE NORMAL, DN 50MM (2"), EMBUTIDO EM PISO COM DISTÂNCIA DE ATÉ CINCO (5) METROS DO RAMAL DE ESGOTO, EXCLUSIVE ESCAVAÇÃO, INCLUSIVE CONEXÕES E FIXAÇÃO DO TUBO COM ENCHIMENTO DO RASGO NO CONCRETO COM ARGAMASSA (PIA E TANQUE) | D31: UN. | E31: 4 | F31: =W31 -> 4 | H31: =F31+G31 -> 4 | I31: =E31-H31 -> 0 | J31: =P31*$P$7 -> 196.7111 | K31: =ROUND(J31+(J31*$L$8),2) -> 248.72 | L31: =ROUND(K31*G31,2) -> 0 | M31: =K31*H31 -> 994.88 | N31: =ROUND(K31*I31,2) -> 0 | P31: 219.25 | T31: 4 | W31: =SUM(S31:V31) -> 4 | X31: 4
A32: 4.5 | B32: ED-50011 | C32: CAIXA SIFONADA EM PVC COM GRELHA REDONDA 100 X 100 X 50 MM | D32: UN | E32: 4 | F32: =W32 -> 4 | H32: =F32+G32 -> 4 | I32: =E32-H32 -> 0 | J32: =P32*$P$7 -> 61.512032 | K32: =ROUND(J32+(J32*$L$8),2) -> 77.78 | L32: =ROUND(K32*G32,2) -> 0 | M32: =K32*H32 -> 311.12 | N32: =ROUND(K32*I32,2) -> 0 | P32: 68.56 | T32: 4 | W32: =SUM(S32:V32) -> 4 | X32: 4
A33: 4.6 | B33: ED-50221 | C33: PONTO DE EMBUTIR PARA ÁGUA FRIA EM TUBO DE PVC RÍGIDO SOLDÁVEL, DN 20MM (1/2"), EMBUTIDO NA ALVENARIA COM DISTÂNCIA DE ATÉ CINCO (5) METROS DA TOMADA DE ÁGUA, INCLUSIVE CONEXÕES E FIXAÇÃO DO TUBO COM ENCHIMENTO DO RASGO NA ALVENARIA/CONCRETO COM ARGAMASSA | D33: UN | E33: 6 | F33: =W33 -> 6 | H33: =F33+G33 -> 6 | I33: =E33-H33 -> 0 | J33: =P33*$P$7 -> 123.63416 | K33: =ROUND(J33+(J33*$L$8),2) -> 156.32 | L33: =ROUND(K33*G33,2) -> 0 | M33: =K33*H33 -> 937.92 | N33: =ROUND(K33*I33,2) -> 0 | P33: 137.8 | T33: 6 | W33: =SUM(S33:V33) -> 6 | X33: 6
A34: 4.7 | B34: ED-49936 | C34: CAIXA D'ÁGUA DE POLIETILENO, CAPACIDADE DE 1.000L, INCLUSIVE TAMPA, TORNEIRA DE BOIA, EXTRAVASOR, TUBO DE LIMPEZA E ACESSÓRIOS, EXCLUSIVE TUBULAÇÃO DE ENTRADA/ SAÍDA DE ÁGUA | D34: UN | E34: 1 | F34: =W34 -> 1 | H34: =F34+G34 -> 1 | I34: =E34-H34 -> 0 | J34: =P34*$P$7 -> 800.02427 | K34: =ROUND(J34+(J34*$L$8),2) -> 1011.55 | L34: =ROUND(K34*G34,2) -> 0 | M34: =K34*H34 -> 1011.55 | N34: =ROUND(K34*I34,2) -> 0 | P34: 891.69 | T34: 1 | W34: =SUM(S34:V34) -> 1 | X34: 1
A35: 4.8 | B35: ED-49844 | C35: ADAPTADOR SOLDÁVEL DE PVC MARROM COM FLANGES E ANEL PARA CAIXA DÁGUA Ø 20 MM X 1/2" | D35: UN | E35: 4 | F35: =W35 -> 4 | H35: =F35+G35 -> 4 | I35: =E35-H35 -> 0 | J35: =P35*$P$7 -> 18.177272 | K35: =ROUND(J35+(J35*$L$8),2) -> 22.98 | L35: =ROUND(K35*G35,2) -> 0 | M35: =K35*H35 -> 91.92 | N35: =ROUND(K35*I35,2) -> 0 | P35: 20.26 | T35: 4 | W35: =SUM(S35:V35) -> 4 | X35: 4
A36: 4.9 | B36: ED-49848 | C36: ADAPTADOR SOLDÁVEL DE PVC MARROM COM FLANGES E ANEL PARA CAIXA DÁGUA Ø 50 MM X 1 1/2" | D36: UN | E36: 4 | F36: =W36 -> 4 | H36: =F36+G36 -> 4 | I36: =E36-H36 -> 0 | J36: =P36*$P$7 -> 51.983768 | K36: =ROUND(J36+(J36*$L$8),2) -> 65.73 | L36: =ROUND(K36*G36,2) -> 0 | M36: =K36*H36 -> 262.92 | N36: =ROUND(K36*I36,2) -> 0 | P36: 57.94 | T36: 4 | W36: =SUM(S36:V36) -> 4 | X36: 4
A37: 4.10 | B37: ED-50304 | C37: TORNEIRA DE BOIA, TIPO ROSCÁVEL 3/4", EXCLUSIVE ADAPTADOR SOLDÁVEL DE PVC COM FLANGES E ANEL PARA CAIXA DÁGUA | D37: UN | E37: 4 | F37: =W37 -> 4 | H37: =F37+G37 -> 4 | I37: =E37-H37 -> 0 | J37: =P37*$P$7 -> 92.285992 | K37: =ROUND(J37+(J37*$L$8),2) -> 116.69 | L37: =ROUND(K37*G37,2) -> 0 | M37: =K37*H37 -> 466.76 | N37: =ROUND(K37*I37,2) -> 0 | P37: 102.86 | T37: 4 | W37: =SUM(S37:V37) -> 4 | X37: 4
A38: 4.11 | B38: ED-50029 | C38: FORNECIMENTO E ASSENTAMENTO DE TUBO PVC RÍGIDO, ESGOTO, PBV - SÉRIE NORMAL, DN 100 MM (4"), INCLUSIVE CONEXÕES | D38: M | E38: 18 | F38: =W38 -> 18 | H38: =F38+G38 -> 18 | I38: =E38-H38 -> 0 | J38: =P38*$P$7 -> 36.704452 | K38: =ROUND(J38+(J38*$L$8),2) -> 46.41 | L38: =ROUND(K38*G38,2) -> 0 | M38: =K38*H38 -> 835.38 | N38: =ROUND(K38*I38,2) -> 0 | P38: 40.91 | T38: 18 | W38: =SUM(S38:V38) -> 18 | X38: 18
A39: 4.12 | B39: ED-50031 | C39: FORNECIMENTO E ASSENTAMENTO DE TUBO PVC RÍGIDO, ESGOTO, PBV - SÉRIE NORMAL, DN 200 MM (8"), INCLUSIVE CONEXÕES | D39: M | E39: 36 | F39: =W39 -> 36 | H39: =F39+G39 -> 36 | I39: =E39-H39 -> 0 | J39: =P39*$P$7 -> 118.8162 | K39: =ROUND(J39+(J39*$L$8),2) -> 150.23 | L39: =ROUND(K39*G39,2) -> 0 | M39: =K39*H39 -> 5408.28 | N39: =ROUND(K39*I39,2) -> 0 | P39: 132.43 | T39: 36 | W39: =SUM(S39:V39) -> 36 | X39: 36
A40: 4.13 | B40: ED-50018 | C40: FORNECIMENTO E ASSENTAMENTO DE TUBO PVC RÍGIDO SOLDÁVEL, ÁGUA FRIA, DN 20 MM (1/2"), INCLUSIVE CONEXÕES | D40: M | E40: 18 | F40: =W40 -> 18 | H40: =F40+G40 -> 18 | I40: =E40-H40 -> 0 | J40: =P40*$P$7 -> 18.957836 | K40: =ROUND(J40+(J40*$L$8),2) -> 23.97 | L40: =ROUND(K40*G40,2) -> 0 | M40: =K40*H40 -> 431.46 | N40: =ROUND(K40*I40,2) -> 0 | P40: 21.13 | T40: 18 | W40: =SUM(S40:V40) -> 18 | X40: 18
A41: 4.14 | B41: ED-50019 | C41: FORNECIMENTO E ASSENTAMENTO DE TUBO PVC RÍGIDO SOLDÁVEL, ÁGUA FRIA, DN 25 MM (3/4") , INCLUSIVE CONEXÕES | D41: M | E41: 18 | F41: =W41 -> 18 | H41: =F41+G41 -> 18 | I41: =E41-H41 -> 0 | J41: =P41*$P$7 -> 20.886816 | K41: =ROUND(J41+(J41*$L$8),2) -> 26.41 | L41: =ROUND(K41*G41,2) -> 0 | M41: =K41*H41 -> 475.38 | N41: =ROUND(K41*I41,2) -> 0 | P41: 23.28 | T41: 18 | W41: =SUM(S41:V41) -> 18 | X41: 18
A42: 5 | C42: PISOS E AZULEJOS | F42: =W42 -> 0 | H42: =F42+G42 -> 0 | I42: =E42-H42 -> 0 | L42: =ROUND(K42*G42,2) -> 0 | M42: =K42*H42 -> 0 | N42: =ROUND(K42*I42,2) -> 0 | W42: =SUM(S42:V42) -> 0
...

Sheet 3 medição
A2: PREFEITURA MUNICIPAL DE CONCEIÇÃO DOS OUROS Rua Vasco Gusmão Martins, 108 - Centro, CEP 37690-000
A3: PLANILHA ORÇAMENTÁRIA DE CUSTOS
A4: MUNICÍPIO: CONCEIÇÃO DOS OUROS/MG
A5: OBRA: REFORMA DO CINE OUROS
A6: END.: AVENIDA CORONEL DOMINGOS ROSA, Nº. 45. CENTRO
A7: DATA: | B7: 46128 | P7: 0.8972
C8: 3 MEDIÇÃO - 13/03/2026 a 13/04/2026 | K8: BDI: | L8: 0.2644
A9: Item | B9: Código | C9: Descrição | D9: Unid. | E9: Quantidade Contratual | F9: Quantidade acumulada anterior | G9: Quantidade medida | H9: Quantidade acumulada | I9: Saldo quantitativos | J9: Custo Unitário (R$) | K9: Unitário com BDI (R$) | L9: Valor da medição | M9: Valor acumulado | N9: Saldo financeiro por item | P9: CUSTO UNITÁRIO (R$) | S9: 1 medição | T9: 2 medição | U9: soma | V9: contrato
C10: TOTAL | E10: 1015112.1 | G10: 1015112.1 | L10: =SUM(L11:L79) -> 42445.39 | M10: =SUM(M11:M79) -> 86657.904 | N10: =SUM(N11:N79)+0.01 -> 88042.1 | S10: 1015112.1 | T10: 1015112.1 | V10: 1015112.1
A12: 1 | C12: SERVIÇOS PRELIMINARES
A13: 1.1 | B13: ED-28427 | C13: FORNECIMENTO E COLOCAÇÃO DE PLACA DE OBRA EM CHAPA GALVANIZADA #26, ESP. 0,45MM, DIMENSÃO (3X1,5)M, PLOTADA COM ADESIVO VINÍLICO, AFIXADA COM REBITES 4,8X40MM, EM ESTRUTURA METÁLICA DE METALON 20X20MM, ESP. 1,25MM, INCLUSIVE SUPORTE EM EUCALIPTO AUTOCLAVADO PINTADO COM TINTA PVA DUAS (2) DEMÃOS | D13: un | E13: 1 | F13: =U13 -> 1 | H13: =F13+G13 -> 1 | I13: =E13-H13 -> 0 | J13: =P13*$P$7 -> 1055.3494 | K13: =ROUND(J13+(J13*$L$8),2) -> 1334.38 | L13: =ROUND(K13*G13,2) -> 0 | M13: =K13*H13 -> 1334.38 | N13: =ROUND(K13*I13,2) -> 0 | P13: 1176.27 | S13: 1 | U13: =SUM(S13:T13) -> 1 | V13: 1
A14: 2 | C14: VEDAÇÃO | L14: =ROUND(K14*G14,2) -> 0 | N14: =ROUND(K14*I14,2) -> 0 | U14: =SUM(S14:T14) -> 0
A15: 2.1 | B15: ED-28338 | C15: DEMOLIÇÃO MANUAL DE CONSTRUÇÃO EM ALVENARIAS DE VEDAÇÃO, COM ESPESSURA MÁXIMA DE 15CM, INCLUSIVE REMOÇÃO COM REAPROVEITAMENTO DE ESQUADRIAS, AFASTAMENTO E EMPILHAMENTO, EXCLUSIVE TRANSPORTE E RETIRADA DO MATERIAL DEMOLIDO/REMOVIDO NÃO REAPROVEITÁVEL | D15: M2 | E15: 188.56 | F15: =U15 -> 188.56 | H15: =F15+G15 -> 188.56 | I15: =E15-H15 -> 0 | J15: =P15*$P$7 -> 15.548476 | K15: =ROUND(J15+(J15*$L$8),2) -> 19.66 | L15: =ROUND(K15*G15,2) -> 0 | M15: =K15*H15 -> 3707.0896 | N15: =ROUND(K15*I15,2) -> 0 | P15: 17.33 | S15: =51.04+137.52 -> 188.56 | U15: =SUM(S15:T15) -> 188.56 | V15: 188.56
A16: 2.2 | B16: ED-48501 | C16: DEMOLIÇÃO MANUAL DE REBOCO OU EMBOÇO, COM ESPESSURA DE ATÉ 55MM, INCLUSIVE AFASTAMENTO E EMPILHAMENTO, EXCLUSIVE TRANSPORTE E RETIRADA DO MATERIAL DEMOLIDO | D16: M2 | E16: 188.56 | F16: =U16 -> 188.56 | H16: =F16+G16 -> 188.56 | I16: =E16-H16 -> 0 | J16: =P16*$P$7 -> 9.277048 | K16: =ROUND(J16+(J16*$L$8),2) -> 11.73 | L16: =ROUND(K16*G16,2) -> 0 | M16: =K16*H16 -> 2211.8088 | N16: =ROUND(K16*I16,2) -> 0 | P16: 10.34 | S16: 96.99 | T16: 91.57 | U16: =SUM(S16:T16) -> 188.56 | V16: 188.56
A17: 2.3 | B17: ED-48192 | C17: ALVENARIA DE VEDAÇÃO COM BLOCO DE CONCRETO, ESP. 14CM, PARA REVESTIMENTO, INCLUSIVE ARGAMASSA PARA ASSENTAMENTO | D17: M2 | E17: =((1.75+1.8)*2*3.1)+(4.3+3+3+2.45)*2.15+(31.5*1.85) -> 107.6975 | F17: =U17 -> 105.14 | G17: 2.5575 | H17: =F17+G17 -> 107.6975 | I17: =E17-H17 -> 0 | J17: =P17*$P$7 -> 58.81146 | K17: =ROUND(J17+(J17*$L$8),2) -> 74.36 | L17: =ROUND(K17*G17,2) -> 190.18 | M17: =K17*H17 -> 8008.3861 | N17: =ROUND(K17*I17,2) -> 0 | P17: 65.55 | S17: 4.98 | T17: =35.6+64.56 -> 100.16 | U17: =SUM(S17:T17) -> 105.14 | V17: =((1.75+1.8)*2*3.1)+(4.3+3+3+2.45)*2.15+(31.5*1.85) -> 107.6975
A18: 2.4 | B18: ED-48388 | C18: CINTA DE AMARRAÇÃO DE ALVENARIA COM BLOCO DE CONCRETO ESTRUTURAL, CANALETA TIPO "U", ESP. 14CM, (FBK 4, 5MPA), PARA REVESTIMENTO, INCLUSIVE ARGAMASSA PARA ASSENTAMENTO, EXCLUSIVE GRAUTE E ARMAÇÃO | D18: M | E18: =((1.75+1.8)*2)+(4.3+3+3+2.45)+60 -> 79.85 | F18: =U18 -> 79.85 | H18: =F18+G18 -> 79.85 | I18: =E18-H18 -> 0 | J18: =P18*$P$7 -> 19.280828 | K18: =ROUND(J18+(J18*$L$8),2) -> 24.38 | L18: =ROUND(K18*G18,2) -> 0 | M18: =K18*H18 -> 1946.743 | N18: =ROUND(K18*I18,2) -> 0 | P18: 21.49 | T18: =9.7+70.15 -> 79.85 | U18: =SUM(S18:T18) -> 79.85 | V18: 79.85
A19: 2.5 | B19: ED-50761 | C19: REBOCO COM ARGAMASSA, TRAÇO 1:2:8 (CIMENTO, CAL E AREIA) , ESP. 20MM, APLICAÇÃO MANUAL, INCLUSIVE ARGAMASSA COM PREPARO MECANIZADO, EXCLUSIVE CHAPISCO | D19: M2 | E19: 188.56 | F19: =U19 -> 188.56 | H19: =F19+G19 -> 188.56 | I19: =E19-H19 -> 0 | J19: =P19*$P$7 -> 33.15154 | K19: =ROUND(J19+(J19*$L$8),2) -> 41.92 | L19: =ROUND(K19*G19,2) -> 0 | M19: =K19*H19 -> 7904.4352 | N19: =ROUND(K19*I19,2) -> 0 | P19: 36.95 | S19: 73.96 | T19: 114.6 | U19: =SUM(S19:T19) -> 188.56 | V19: 188.56
A20: 3 | C20: COBERTURA | U20: =SUM(S20:T20) -> 0
A21: 3.1 | B21: ED-20603 | C21: FORNECIMENTO DE ESTRUTURA METÁLICA E ENGRADAMENTO METÁLICO, EM AÇO, PARA TELHADO, EXCLUSIVE TELHA, INCLUSIVE FABRICAÇÃO, TRANSPORTE, MONTAGEM E APLICAÇÃO DE FUNDO PREPARADOR ANTICORROSIVO EM SUPERFÍCIE METÁLICA, UMA (1) DEMÃO | D21: KG | E21: 216 | F21: =U21 -> 0 | G21: 216 | H21: =F21+G21 -> 216 | I21: =E21-H21 -> 0 | J21: =P21*$P$7 -> 19.191108 | K21: =ROUND(J21+(J21*$L$8),2) -> 24.27 | L21: =ROUND(K21*G21,2) -> 5242.32 | M21: =K21*H21 -> 5242.32 | N21: =ROUND(K21*I21,2) -> 0 | P21: 21.39 | U21: =SUM(S21:T21) -> 0 | V21: 216
A22: 3.2 | B22: ED-20574 | C22: FORNECIMENTO DE ESTRUTURA METÁLICA E ENGRADAMENTO METÁLICO, EM AÇO PATINÁVEL, SOBRE LAJE PARA TELHA CERÂMICA, COBERTURA PADRÃO DO PRÉDIO ESCOLAR, EXCLUSIVE TELHA, INCLUSIVE FABRICAÇÃO, TRANSPORTE E MONTAGEM | D22: m2 | E22: 19.6 | F22: =U22 -> 0 | G22: 19.6 | H22: =F22+G22 -> 19.6 | I22: =E22-H22 -> 0 | J22: =P22*$P$7 -> 282.60006 | K22: =ROUND(J22+(J22*$L$8),2) -> 357.32 | L22: =ROUND(K22*G22,2) -> 7003.47 | M22: =K22*H22 -> 7003.472 | N22: =ROUND(K22*I22,2) -> 0 | P22: 314.98 | U22: =SUM(S22:T22) -> 0 | V22: 19.6
A23: 3.3 | B23: ED-48428 | C23: COBERTURA EM TELHA METÁLICA GALVANIZADA TRAPEZOIDAL, TIPO SIMPLES, ESP. 0,50MM, ACABAMENTO NATURAL, INCLUSIVE ACESSÓRIOS PARA FIXAÇÃO, FORNECIMENTO E INSTALAÇÃO | D23: M2 | E23: 19.6 | F23: =U23 -> 0 | G23: 19.6 | H23: =F23+G23 -> 19.6 | I23: =E23-H23 -> 0 | J23: =P23*$P$7 -> 96.35928 | K23: =ROUND(J23+(J23*$L$8),2) -> 121.84 | L23: =ROUND(K23*G23,2) -> 2388.06 | M23: =K23*H23 -> 2388.064 | N23: =ROUND(K23*I23,2) -> 0 | P23: 107.4 | U23: =SUM(S23:T23) -> 0 | V23: 19.6
A24: 3.4 | B24: ED-50678 | C24: RUFO E CONTRARRUFO EM CHAPA GALVANIZADA, ESP. 0,65MM (GSG-24), COM DESENVOLVIMENTO DE 33CM, INCLUSIVE IÇAMENTO MANUAL VERTICAL | D24: M | E24: 5.75 | F24: =U24 -> 0 | G24: 5.75 | H24: =F24+G24 -> 5.75 | I24: =E24-H24 -> 0 | J24: =P24*$P$7 -> 42.285036 | K24: =ROUND(J24+(J24*$L$8),2) -> 53.47 | L24: =ROUND(K24*G24,2) -> 307.45 | M24: =K24*H24 -> 307.4525 | N24: =ROUND(K24*I24,2) -> 0 | P24: 47.13 | U24: =SUM(S24:T24) -> 0 | V24: 5.75
A25: 3.5 | B25: ED-50663 | C25: CALHA EM CHAPA GALVANIZADA, ESP. 0,5MM (GSG-26), COM DESENVOLVIMENTO DE 50CM, INCLUSIVE IÇAMENTO MANUAL VERTICAL | D25: M | E25: 5.75 | F25: =U25 -> 0 | G25: 5.75 | H25: =F25+G25 -> 5.75 | I25: =E25-H25 -> 0 | J25: =P25*$P$7 -> 51.624888 | K25: =ROUND(J25+(J25*$L$8),2) -> 65.27 | L25: =ROUND(K25*G25,2) -> 375.3 | M25: =K25*H25 -> 375.3025 | N25: =ROUND(K25*I25,2) -> 0 | P25: 57.54 | U25: =SUM(S25:T25) -> 0 | V25: 5.75
A26: 3.6 | B26: ED-50668 | C26: CONDUTOR CIRCULAR DE ÁGUA PLUVIAL PARA TELHADO EM TUBO DE PVC, DIÂMETRO DE 100MM, INCLUSIVE CONEXÕES E SUPORTES | D26: M | E26: 6 | F26: =U26 -> 0 | G26: 6 | H26: =F26+G26 -> 6 | I26: =E26-H26 -> 0 | J26: =P26*$P$7 -> 76.899012 | K26: =ROUND(J26+(J26*$L$8),2) -> 97.23 | L26: =ROUND(K26*G26,2) -> 583.38 | M26: =K26*H26 -> 583.38 | N26: =ROUND(K26*I26,2) -> 0 | P26: 85.71 | U26: =SUM(S26:T26) -> 0 | V26: 6
A27: 4 | C27: INSTALAÇÃO HIDROSSANITÁRIA | U27: =SUM(S27:T27) -> 0
A28: 4.1 | B28: ED-48467 | C28: REMOÇÃO DE LOUÇAS (LAVATÓRIO, BANHEIRA, PIA, VASO SANITÁRIO, TANQUE), COM REAPROVEITAMENTO, INCLUSIVE AFASTAMENTO E EMPILHAMENTO, EXCLUSIVE TRANSPORTE E RETIRADA DO MATERIAL REMOVIDO NÃO REAPROVEITÁVEL | D28: Un. | E28: 6 | F28: =U28 -> 6 | H28: =F28+G28 -> 6 | I28: =E28-H28 -> 0 | J28: =P28*$P$7 -> 40.158672 | K28: =ROUND(J28+(J28*$L$8),2) -> 50.78 | L28: =ROUND(K28*G28,2) -> 0 | M28: =K28*H28 -> 304.68 | N28: =ROUND(K28*I28,2) -> 0 | P28: 44.76 | S28: 6 | U28: =SUM(S28:T28) -> 6 | V28: 6
A29: 4.2 | B29: ED-50223 | C29: PONTO DE EMBUTIR PARA ESGOTO EM TUBO PVC RÍGIDO, PB - SÉRIE NORMAL, DN 40MM (1.1/2"), EMBUTIDO NA ALVENARIA/PISO, COM ALTURA (SAÍDA) DE 50CM DO PISO, COM DISTÂNCIA DE ATÉ CINCO (5) METROS DO RAMAL DE ESGOTO, EXCLUSIVE ESCAVAÇÃO, INCLUSIVE CONEXÕES E FIXAÇÃO DO TUBO COM ENCHIMENTO DO RASGO NA ALVENARIA/CONCRETO COM ARGAMASSA (LAVATÓRIO) | D29: UN. | E29: 3 | F29: =U29 -> 3 | H29: =F29+G29 -> 3 | I29: =E29-H29 -> 0 | J29: =P29*$P$7 -> 149.42866 | K29: =ROUND(J29+(J29*$L$8),2) -> 188.94 | L29: =ROUND(K29*G29,2) -> 0 | M29: =K29*H29 -> 566.82 | N29: =ROUND(K29*I29,2) -> 0 | P29: 166.55 | T29: 3 | U29: =SUM(S29:T29) -> 3 | V29: 3
A30: 4.3 | B30: ED-50225 | C30: PONTO DE EMBUTIR PARA ESGOTO EM TUBO PVC RÍGIDO, PBV - SÉRIE NORMAL, DN 100MM (4"), EMBUTIDO EM PISO COM DISTÂNCIA DE ATÉ CINCO (5) METROS DO RAMAL DE ESGOTO, INCLUSIVE CONEXÕES E FIXAÇÃO DO TUBO COM ENCHIMENTO DO RASGO NO CONCRETO COM ARGAMASSA (VASO) | D30: UN. | E30: 3 | F30: =U30 -> 3 | H30: =F30+G30 -> 3 | I30: =E30-H30 -> 0 | J30: =P30*$P$7 -> 274.49834 | K30: =ROUND(J30+(J30*$L$8),2) -> 347.08 | L30: =ROUND(K30*G30,2) -> 0 | M30: =K30*H30 -> 1041.24 | N30: =ROUND(K30*I30,2) -> 0 | P30: 305.95 | T30: 3 | U30: =SUM(S30:T30) -> 3 | V30: 3
A31: 4.4 | B31: ED-50224 | C31: PONTO DE EMBUTIR PARA ESGOTO EM TUBO PVC RÍGIDO, PBV - SÉRIE NORMAL, DN 50MM (2"), EMBUTIDO EM PISO COM DISTÂNCIA DE ATÉ CINCO (5) METROS DO RAMAL DE ESGOTO, EXCLUSIVE ESCAVAÇÃO, INCLUSIVE CONEXÕES E FIXAÇÃO DO TUBO COM ENCHIMENTO DO RASGO NO CONCRETO COM ARGAMASSA (PIA E TANQUE) | D31: UN. | E31: 4 | F31: =U31 -> 4 | H31: =F31+G31 -> 4 | I31: =E31-H31 -> 0 | J31: =P31*$P$7 -> 196.7111 | K31: =ROUND(J31+(J31*$L$8),2) -> 248.72 | L31: =ROUND(K31*G31,2) -> 0 | M31: =K31*H31 -> 994.88 | N31: =ROUND(K31*I31,2) -> 0 | P31: 219.25 | T31: 4 | U31: =SUM(S31:T31) -> 4 | V31: 4
A32: 4.5 | B32: ED-50011 | C32: CAIXA SIFONADA EM PVC COM GRELHA REDONDA 100 X 100 X 50 MM | D32: UN | E32: 4 | F32: =U32 -> 4 | H32: =F32+G32 -> 4 | I32: =E32-H32 -> 0 | J32: =P32*$P$7 -> 61.512032 | K32: =ROUND(J32+(J32*$L$8),2) -> 77.78 | L32: =ROUND(K32*G32,2) -> 0 | M32: =K32*H32 -> 311.12 | N32: =ROUND(K32*I32,2) -> 0 | P32: 68.56 | T32: 4 | U32: =SUM(S32:T32) -> 4 | V32: 4
A33: 4.6 | B33: ED-50221 | C33: PONTO DE EMBUTIR PARA ÁGUA FRIA EM TUBO DE PVC RÍGIDO SOLDÁVEL, DN 20MM (1/2"), EMBUTIDO NA ALVENARIA COM DISTÂNCIA DE ATÉ CINCO (5) METROS DA TOMADA DE ÁGUA, INCLUSIVE CONEXÕES E FIXAÇÃO DO TUBO COM ENCHIMENTO DO RASGO NA ALVENARIA/CONCRETO COM ARGAMASSA | D33: UN | E33: 6 | F33: =U33 -> 6 | H33: =F33+G33 -> 6 | I33: =E33-H33 -> 0 | J33: =P33*$P$7 -> 123.63416 | K33: =ROUND(J33+(J33*$L$8),2) -> 156.32 | L33: =ROUND(K33*G33,2) -> 0 | M33: =K33*H33 -> 937.92 | N33: =ROUND(K33*I33,2) -> 0 | P33: 137.8 | T33: 6 | U33: =SUM(S33:T33) -> 6 | V33: 6
A34: 4.7 | B34: ED-49936 | C34: CAIXA D'ÁGUA DE POLIETILENO, CAPACIDADE DE 1.000L, INCLUSIVE TAMPA, TORNEIRA DE BOIA, EXTRAVASOR, TUBO DE LIMPEZA E ACESSÓRIOS, EXCLUSIVE TUBULAÇÃO DE ENTRADA/ SAÍDA DE ÁGUA | D34: UN | E34: 1 | F34: =U34 -> 1 | H34: =F34+G34 -> 1 | I34: =E34-H34 -> 0 | J34: =P34*$P$7 -> 800.02427 | K34: =ROUND(J34+(J34*$L$8),2) -> 1011.55 | L34: =ROUND(K34*G34,2) -> 0 | M34: =K34*H34 -> 1011.55 | N34: =ROUND(K34*I34,2) -> 0 | P34: 891.69 | T34: 1 | U34: =SUM(S34:T34) -> 1 | V34: 1
A35: 4.8 | B35: ED-49844 | C35: ADAPTADOR SOLDÁVEL DE PVC MARROM COM FLANGES E ANEL PARA CAIXA DÁGUA Ø 20 MM X 1/2" | D35: UN | E35: 4 | F35: =U35 -> 4 | H35: =F35+G35 -> 4 | I35: =E35-H35 -> 0 | J35: =P35*$P$7 -> 18.177272 | K35: =ROUND(J35+(J35*$L$8),2) -> 22.98 | L35: =ROUND(K35*G35,2) -> 0 | M35: =K35*H35 -> 91.92 | N35: =ROUND(K35*I35,2) -> 0 | P35: 20.26 | T35: 4 | U35: =SUM(S35:T35) -> 4 | V35: 4
A36: 4.9 | B36: ED-49848 | C36: ADAPTADOR SOLDÁVEL DE PVC MARROM COM FLANGES E ANEL PARA CAIXA DÁGUA Ø 50 MM X 1 1/2" | D36: UN | E36: 4 | F36: =U36 -> 4 | H36: =F36+G36 -> 4 | I36: =E36-H36 -> 0 | J36: =P36*$P$7 -> 51.983768 | K36: =ROUND(J36+(J36*$L$8),2) -> 65.73 | L36: =ROUND(K36*G36,2) -> 0 | M36: =K36*H36 -> 262.92 | N36: =ROUND(K36*I36,2) -> 0 | P36: 57.94 | T36: 4 | U36: =SUM(S36:T36) -> 4 | V36: 4
A37: 4.10 | B37: ED-50304 | C37: TORNEIRA DE BOIA, TIPO ROSCÁVEL 3/4", EXCLUSIVE ADAPTADOR SOLDÁVEL DE PVC COM FLANGES E ANEL PARA CAIXA DÁGUA | D37: UN | E37: 4 | F37: =U37 -> 4 | H37: =F37+G37 -> 4 | I37: =E37-H37 -> 0 | J37: =P37*$P$7 -> 92.285992 | K37: =ROUND(J37+(J37*$L$8),2) -> 116.69 | L37: =ROUND(K37*G37,2) -> 0 | M37: =K37*H37 -> 466.76 | N37: =ROUND(K37*I37,2) -> 0 | P37: 102.86 | T37: 4 | U37: =SUM(S37:T37) -> 4 | V37: 4
A38: 4.11 | B38: ED-50029 | C38: FORNECIMENTO E ASSENTAMENTO DE TUBO PVC RÍGIDO, ESGOTO, PBV - SÉRIE NORMAL, DN 100 MM (4"), INCLUSIVE CONEXÕES | D38: M | E38: 18 | F38: =U38 -> 18 | H38: =F38+G38 -> 18 | I38: =E38-H38 -> 0 | J38: =P38*$P$7 -> 36.704452 | K38: =ROUND(J38+(J38*$L$8),2) -> 46.41 | L38: =ROUND(K38*G38,2) -> 0 | M38: =K38*H38 -> 835.38 | N38: =ROUND(K38*I38,2) -> 0 | P38: 40.91 | T38: 18 | U38: =SUM(S38:T38) -> 18 | V38: 18
A39: 4.12 | B39: ED-50031 | C39: FORNECIMENTO E ASSENTAMENTO DE TUBO PVC RÍGIDO, ESGOTO, PBV - SÉRIE NORMAL, DN 200 MM (8"), INCLUSIVE CONEXÕES | D39: M | E39: 36 | F39: =U39 -> 36 | H39: =F39+G39 -> 36 | I39: =E39-H39 -> 0 | J39: =P39*$P$7 -> 118.8162 | K39: =ROUND(J39+(J39*$L$8),2) -> 150.23 | L39: =ROUND(K39*G39,2) -> 0 | M39: =K39*H39 -> 5408.28 | N39: =ROUND(K39*I39,2) -> 0 | P39: 132.43 | T39: 36 | U39: =SUM(S39:T39) -> 36 | V39: 36
A40: 4.13 | B40: ED-50018 | C40: FORNECIMENTO E ASSENTAMENTO DE TUBO PVC RÍGIDO SOLDÁVEL, ÁGUA FRIA, DN 20 MM (1/2"), INCLUSIVE CONEXÕES | D40: M | E40: 18 | F40: =U40 -> 18 | H40: =F40+G40 -> 18 | I40: =E40-H40 -> 0 | J40: =P40*$P$7 -> 18.957836 | K40: =ROUND(J40+(J40*$L$8),2) -> 23.97 | L40: =ROUND(K40*G40,2) -> 0 | M40: =K40*H40 -> 431.46 | N40: =ROUND(K40*I40,2) -> 0 | P40: 21.13 | T40: 18 | U40: =SUM(S40:T40) -> 18 | V40: 18
A41: 4.14 | B41: ED-50019 | C41: FORNECIMENTO E ASSENTAMENTO DE TUBO PVC RÍGIDO SOLDÁVEL, ÁGUA FRIA, DN 25 MM (3/4") , INCLUSIVE CONEXÕES | D41: M | E41: 18 | F41: =U41 -> 18 | H41: =F41+G41 -> 18 | I41: =E41-H41 -> 0 | J41: =P41*$P$7 -> 20.886816 | K41: =ROUND(J41+(J41*$L$8),2) -> 26.41 | L41: =ROUND(K41*G41,2) -> 0 | M41: =K41*H41 -> 475.38 | N41: =ROUND(K41*I41,2) -> 0 | P41: 23.28 | T41: 18 | U41: =SUM(S41:T41) -> 18 | V41: 18
A42: 5 | C42: PISOS E AZULEJOS | F42: =U42 -> 0 | H42: =F42+G42 -> 0 | I42: =E42-H42 -> 0 | L42: =ROUND(K42*G42,2) -> 0 | M42: =K42*H42 -> 0 | N42: =ROUND(K42*I42,2) -> 0 | U42: =SUM(S42:T42) -> 0
...

Sheet 2 medição
A2: PREFEITURA MUNICIPAL DE CONCEIÇÃO DOS OUROS Rua Vasco Gusmão Martins, 108 - Centro, CEP 37690-000
A3: PLANILHA ORÇAMENTÁRIA DE CUSTOS
A4: MUNICÍPIO: CONCEIÇÃO DOS OUROS/MG
A5: OBRA: REFORMA DO CINE OUROS
A6: END.: AVENIDA CORONEL DOMINGOS ROSA, Nº. 45. CENTRO
A7: DATA: | B7: 46097 | J7: 0.8972
C8: 1 MEDIÇÃO - 13/01/2026 a 13/02/2026 | G8: BDI: | H8: 0.2644
A9: ITEM | B9: CÓDIGO | C9: DESCRIÇÃO | D9: UNID | E9: QUANT | F9: CUSTO UNITÁRIO (R$) | G9: UNITÁRIO COM BDI (R$) | H9: VALOR TOTAL COM BDI (R$) | J9: CUSTO UNITÁRIO (R$) | M9: 1 medição | O9: contrato
C10: TOTAL | E10: 1015112.1 | H10: =ROUND(H11,2) -> 30262.98 | M10: 1015112.1 | O10: 1015112.1
H11: =SUM(H12+H20+H27+H42+H48+H56+H62+H71+H78+H14) -> 30262.98
A12: 1 | C12: SERVIÇOS PRELIMINARES | H12: =SUM(H13:H13) -> 0
A13: 1.1 | B13: ED-28427 | C13: FORNECIMENTO E COLOCAÇÃO DE PLACA DE OBRA EM CHAPA GALVANIZADA #26, ESP. 0,45MM, DIMENSÃO (3X1,5)M, PLOTADA COM ADESIVO VINÍLICO, AFIXADA COM REBITES 4,8X40MM, EM ESTRUTURA METÁLICA DE METALON 20X20MM, ESP. 1,25MM, INCLUSIVE SUPORTE EM EUCALIPTO AUTOCLAVADO PINTADO COM TINTA PVA DUAS (2) DEMÃOS | D13: un | F13: =J13*$J$7 -> 1055.3494 | G13: =ROUND(F13+(F13*$H$8),2) -> 1334.38 | H13: =E13*G13 -> 0 | J13: 1176.27 | M13: 1 | O13: 1
A14: 2 | C14: VEDAÇÃO | H14: =SUM(H15:H19) -> 15272.79
A15: 2.1 | B15: ED-28338 | C15: DEMOLIÇÃO MANUAL DE CONSTRUÇÃO EM ALVENARIAS DE VEDAÇÃO, COM ESPESSURA MÁXIMA DE 15CM, INCLUSIVE REMOÇÃO COM REAPROVEITAMENTO DE ESQUADRIAS, AFASTAMENTO E EMPILHAMENTO, EXCLUSIVE TRANSPORTE E RETIRADA DO MATERIAL DEMOLIDO/REMOVIDO NÃO REAPROVEITÁVEL | D15: M2 | F15: =J15*$J$7 -> 15.548476 | G15: =ROUND(F15+(F15*$H$8),2) -> 19.66 | H15: =ROUND(E15*G15,2) -> 0 | J15: 17.33 | M15: =51.04+137.52 -> 188.56 | O15: 188.56
A16: 2.2 | B16: ED-48501 | C16: DEMOLIÇÃO MANUAL DE REBOCO OU EMBOÇO, COM ESPESSURA DE ATÉ 55MM, INCLUSIVE AFASTAMENTO E EMPILHAMENTO, EXCLUSIVE TRANSPORTE E RETIRADA DO MATERIAL DEMOLIDO | D16: M2 | E16: 91.57 | F16: =J16*$J$7 -> 9.277048 | G16: =ROUND(F16+(F16*$H$8),2) -> 11.73 | H16: =ROUND(E16*G16,2) -> 1074.12 | J16: 10.34 | M16: 96.99 | O16: 188.56
A17: 2.3 | B17: ED-48192 | C17: ALVENARIA DE VEDAÇÃO COM BLOCO DE CONCRETO, ESP. 14CM, PARA REVESTIMENTO, INCLUSIVE ARGAMASSA PARA ASSENTAMENTO | D17: M2 | E17: =35.6+64.56 -> 100.16 | F17: =J17*$J$7 -> 58.81146 | G17: =ROUND(F17+(F17*$H$8),2) -> 74.36 | H17: =ROUND(E17*G17,2) -> 7447.9 | J17: 65.55 | M17: 4.98 | O17: =((1.75+1.8)*2*3.1)+(4.3+3+3+2.45)*2.15+(31.5*1.85) -> 107.6975
A18: 2.4 | B18: ED-48388 | C18: CINTA DE AMARRAÇÃO DE ALVENARIA COM BLOCO DE CONCRETO ESTRUTURAL, CANALETA TIPO "U", ESP. 14CM, (FBK 4, 5MPA), PARA REVESTIMENTO, INCLUSIVE ARGAMASSA PARA ASSENTAMENTO, EXCLUSIVE GRAUTE E ARMAÇÃO | D18: M | E18: =9.7+70.15 -> 79.85 | F18: =J18*$J$7 -> 19.280828 | G18: =ROUND(F18+(F18*$H$8),2) -> 24.38 | H18: =ROUND(E18*G18,2) -> 1946.74 | J18: 21.49 | O18: 79.85
A19: 2.5 | B19: ED-50761 | C19: REBOCO COM ARGAMASSA, TRAÇO 1:2:8 (CIMENTO, CAL E AREIA) , ESP. 20MM, APLICAÇÃO MANUAL, INCLUSIVE ARGAMASSA COM PREPARO MECANIZADO, EXCLUSIVE CHAPISCO | D19: M2 | E19: 114.6 | F19: =J19*$J$7 -> 33.15154 | G19: =ROUND(F19+(F19*$H$8),2) -> 41.92 | H19: =ROUND(E19*G19,2) -> 4804.03 | J19: 36.95 | M19: 73.96 | O19: 188.56
A20: 3 | C20: COBERTURA | H20: =SUM(H21:H26) -> 0
A21: 3.1 | B21: ED-20603 | C21: FORNECIMENTO DE ESTRUTURA METÁLICA E ENGRADAMENTO METÁLICO, EM AÇO, PARA TELHADO, EXCLUSIVE TELHA, INCLUSIVE FABRICAÇÃO, TRANSPORTE, MONTAGEM E APLICAÇÃO DE FUNDO PREPARADOR ANTICORROSIVO EM SUPERFÍCIE METÁLICA, UMA (1) DEMÃO | D21: KG | F21: =J21*$J$7 -> 19.191108 | G21: =ROUND(F21+(F21*$H$8),2) -> 24.27 | H21: =ROUND(E21*G21,2) -> 0 | J21: 21.39 | O21: 216
A22: 3.2 | B22: ED-20574 | C22: FORNECIMENTO DE ESTRUTURA METÁLICA E ENGRADAMENTO METÁLICO, EM AÇO PATINÁVEL, SOBRE LAJE PARA TELHA CERÂMICA, COBERTURA PADRÃO DO PRÉDIO ESCOLAR, EXCLUSIVE TELHA, INCLUSIVE FABRICAÇÃO, TRANSPORTE E MONTAGEM | D22: m2 | F22: =J22*$J$7 -> 282.60006 | G22: =ROUND(F22+(F22*$H$8),2) -> 357.32 | H22: =ROUND(E22*G22,2) -> 0 | J22: 314.98 | O22: 19.6
A23: 3.3 | B23: ED-48428 | C23: COBERTURA EM TELHA METÁLICA GALVANIZADA TRAPEZOIDAL, TIPO SIMPLES, ESP. 0,50MM, ACABAMENTO NATURAL, INCLUSIVE ACESSÓRIOS PARA FIXAÇÃO, FORNECIMENTO E INSTALAÇÃO | D23: M2 | F23: =J23*$J$7 -> 96.35928 | G23: =ROUND(F23+(F23*$H$8),2) -> 121.84 | H23: =ROUND(E23*G23,2) -> 0 | J23: 107.4 | O23: 19.6
A24: 3.4 | B24: ED-50678 | C24: RUFO E CONTRARRUFO EM CHAPA GALVANIZADA, ESP. 0,65MM (GSG-24), COM DESENVOLVIMENTO DE 33CM, INCLUSIVE IÇAMENTO MANUAL VERTICAL | D24: M | F24: =J24*$J$7 -> 42.285036 | G24: =ROUND(F24+(F24*$H$8),2) -> 53.47 | H24: =ROUND(E24*G24,2) -> 0 | J24: 47.13 | O24: 5.75
A25: 3.5 | B25: ED-50663 | C25: CALHA EM CHAPA GALVANIZADA, ESP. 0,5MM (GSG-26), COM DESENVOLVIMENTO DE 50CM, INCLUSIVE IÇAMENTO MANUAL VERTICAL | D25: M | F25: =J25*$J$7 -> 51.624888 | G25: =ROUND(F25+(F25*$H$8),2) -> 65.27 | H25: =ROUND(E25*G25,2) -> 0 | J25: 57.54 | O25: 5.75
A26: 3.6 | B26: ED-50668 | C26: CONDUTOR CIRCULAR DE ÁGUA PLUVIAL PARA TELHADO EM TUBO DE PVC, DIÂMETRO DE 100MM, INCLUSIVE CONEXÕES E SUPORTES | D26: M | F26: =J26*$J$7 -> 76.899012 | G26: =ROUND(F26+(F26*$H$8),2) -> 97.23 | H26: =ROUND(E26*G26,2) -> 0 | J26: 85.71 | O26: 6
A27: 4 | C27: INSTALAÇÃO HIDROSSANITÁRIA | H27: =SUM(H28:H41) -> 12835.63
A28: 4.1 | B28: ED-48467 | C28: REMOÇÃO DE LOUÇAS (LAVATÓRIO, BANHEIRA, PIA, VASO SANITÁRIO, TANQUE), COM REAPROVEITAMENTO, INCLUSIVE AFASTAMENTO E EMPILHAMENTO, EXCLUSIVE TRANSPORTE E RETIRADA DO MATERIAL REMOVIDO NÃO REAPROVEITÁVEL | D28: Un. | F28: =J28*$J$7 -> 40.158672 | G28: =ROUND(F28+(F28*$H$8),2) -> 50.78 | H28: =ROUND(E28*G28,2) -> 0 | J28: 44.76 | M28: 6 | O28: 6
A29: 4.2 | B29: ED-50223 | C29: PONTO DE EMBUTIR PARA ESGOTO EM TUBO PVC RÍGIDO, PB - SÉRIE NORMAL, DN 40MM (1.1/2"), EMBUTIDO NA ALVENARIA/PISO, COM ALTURA (SAÍDA) DE 50CM DO PISO, COM DISTÂNCIA DE ATÉ CINCO (5) METROS DO RAMAL DE ESGOTO, EXCLUSIVE ESCAVAÇÃO, INCLUSIVE CONEXÕES E FIXAÇÃO DO TUBO COM ENCHIMENTO DO RASGO NA ALVENARIA/CONCRETO COM ARGAMASSA (LAVATÓRIO) | D29: UN. | E29: 3 | F29: =J29*$J$7 -> 149.42866 | G29: =ROUND(F29+(F29*$H$8),2) -> 188.94 | H29: =ROUND(E29*G29,2) -> 566.82 | J29: 166.55 | O29: 3
A30: 4.3 | B30: ED-50225 | C30: PONTO DE EMBUTIR PARA ESGOTO EM TUBO PVC RÍGIDO, PBV - SÉRIE NORMAL, DN 100MM (4"), EMBUTIDO EM PISO COM DISTÂNCIA DE ATÉ CINCO (5) METROS DO RAMAL DE ESGOTO, INCLUSIVE CONEXÕES E FIXAÇÃO DO TUBO COM ENCHIMENTO DO RASGO NO CONCRETO COM ARGAMASSA (VASO) | D30: UN. | E30: 3 | F30: =J30*$J$7 -> 274.49834 | G30: =ROUND(F30+(F30*$H$8),2) -> 347.08 | H30: =ROUND(E30*G30,2) -> 1041.24 | J30: 305.95 | O30: 3
A31: 4.4 | B31: ED-50224 | C31: PONTO DE EMBUTIR PARA ESGOTO EM TUBO PVC RÍGIDO, PBV - SÉRIE NORMAL, DN 50MM (2"), EMBUTIDO EM PISO COM DISTÂNCIA DE ATÉ CINCO (5) METROS DO RAMAL DE ESGOTO, EXCLUSIVE ESCAVAÇÃO, INCLUSIVE CONEXÕES E FIXAÇÃO DO TUBO COM ENCHIMENTO DO RASGO NO CONCRETO COM ARGAMASSA (PIA E TANQUE) | D31: UN. | E31: 4 | F31: =J31*$J$7 -> 196.7111 | G31: =ROUND(F31+(F31*$H$8),2) -> 248.72 | H31: =ROUND(E31*G31,2) -> 994.88 | J31: 219.25 | O31: 4
A32: 4.5 | B32: ED-50011 | C32: CAIXA SIFONADA EM PVC COM GRELHA REDONDA 100 X 100 X 50 MM | D32: UN | E32: 4 | F32: =J32*$J$7 -> 61.512032 | G32: =ROUND(F32+(F32*$H$8),2) -> 77.78 | H32: =ROUND(E32*G32,2) -> 311.12 | J32: 68.56 | O32: 4
A33: 4.6 | B33: ED-50221 | C33: PONTO DE EMBUTIR PARA ÁGUA FRIA EM TUBO DE PVC RÍGIDO SOLDÁVEL, DN 20MM (1/2"), EMBUTIDO NA ALVENARIA COM DISTÂNCIA DE ATÉ CINCO (5) METROS DA TOMADA DE ÁGUA, INCLUSIVE CONEXÕES E FIXAÇÃO DO TUBO COM ENCHIMENTO DO RASGO NA ALVENARIA/CONCRETO COM ARGAMASSA | D33: UN | E33: 6 | F33: =J33*$J$7 -> 123.63416 | G33: =ROUND(F33+(F33*$H$8),2) -> 156.32 | H33: =ROUND(E33*G33,2) -> 937.92 | J33: 137.8 | O33: 6
A34: 4.7 | B34: ED-49936 | C34: CAIXA D'ÁGUA DE POLIETILENO, CAPACIDADE DE 1.000L, INCLUSIVE TAMPA, TORNEIRA DE BOIA, EXTRAVASOR, TUBO DE LIMPEZA E ACESSÓRIOS, EXCLUSIVE TUBULAÇÃO DE ENTRADA/ SAÍDA DE ÁGUA | D34: UN | E34: 1 | F34: =J34*$J$7 -> 800.02427 | G34: =ROUND(F34+(F34*$H$8),2) -> 1011.55 | H34: =ROUND(E34*G34,2) -> 1011.55 | J34: 891.69 | O34: 1
A35: 4.8 | B35: ED-49844 | C35: ADAPTADOR SOLDÁVEL DE PVC MARROM COM FLANGES E ANEL PARA CAIXA DÁGUA Ø 20 MM X 1/2" | D35: UN | E35: 4 | F35: =J35*$J$7 -> 18.177272 | G35: =ROUND(F35+(F35*$H$8),2) -> 22.98 | H35: =ROUND(E35*G35,2) -> 91.92 | J35: 20.26 | O35: 4
A36: 4.9 | B36: ED-49848 | C36: ADAPTADOR SOLDÁVEL DE PVC MARROM COM FLANGES E ANEL PARA CAIXA DÁGUA Ø 50 MM X 1 1/2" | D36: UN | E36: 4 | F36: =J36*$J$7 -> 51.983768 | G36: =ROUND(F36+(F36*$H$8),2) -> 65.73 | H36: =ROUND(E36*G36,2) -> 262.92 | J36: 57.94 | O36: 4
A37: 4.10 | B37: ED-50304 | C37: TORNEIRA DE BOIA, TIPO ROSCÁVEL 3/4", EXCLUSIVE ADAPTADOR SOLDÁVEL DE PVC COM FLANGES E ANEL PARA CAIXA DÁGUA | D37: UN | E37: 4 | F37: =J37*$J$7 -> 92.285992 | G37: =ROUND(F37+(F37*$H$8),2) -> 116.69 | H37: =ROUND(E37*G37,2) -> 466.76 | J37: 102.86 | O37: 4
A38: 4.11 | B38: ED-50029 | C38: FORNECIMENTO E ASSENTAMENTO DE TUBO PVC RÍGIDO, ESGOTO, PBV - SÉRIE NORMAL, DN 100 MM (4"), INCLUSIVE CONEXÕES | D38: M | E38: 18 | F38: =J38*$J$7 -> 36.704452 | G38: =ROUND(F38+(F38*$H$8),2) -> 46.41 | H38: =ROUND(E38*G38,2) -> 835.38 | J38: 40.91 | O38: 18
A39: 4.12 | B39: ED-50031 | C39: FORNECIMENTO E ASSENTAMENTO DE TUBO PVC RÍGIDO, ESGOTO, PBV - SÉRIE NORMAL, DN 200 MM (8"), INCLUSIVE CONEXÕES | D39: M | E39: 36 | F39: =J39*$J$7 -> 118.8162 | G39: =ROUND(F39+(F39*$H$8),2) -> 150.23 | H39: =ROUND(E39*G39,2) -> 5408.28 | J39: 132.43 | O39: 36
A40: 4.13 | B40: ED-50018 | C40: FORNECIMENTO E ASSENTAMENTO DE TUBO PVC RÍGIDO SOLDÁVEL, ÁGUA FRIA, DN 20 MM (1/2"), INCLUSIVE CONEXÕES | D40: M | E40: 18 | F40: =J40*$J$7 -> 18.957836 | G40: =ROUND(F40+(F40*$H$8),2) -> 23.97 | H40: =ROUND(E40*G40,2) -> 431.46 | J40: 21.13 | O40: 18
A41: 4.14 | B41: ED-50019 | C41: FORNECIMENTO E ASSENTAMENTO DE TUBO PVC RÍGIDO SOLDÁVEL, ÁGUA FRIA, DN 25 MM (3/4") , INCLUSIVE CONEXÕES | D41: M | E41: 18 | F41: =J41*$J$7 -> 20.886816 | G41: =ROUND(F41+(F41*$H$8),2) -> 26.41 | H41: =ROUND(E41*G41,2) -> 475.38 | J41: 23.28 | O41: 18
...

Sheet 1 medição
A2: PREFEITURA MUNICIPAL DE CONCEIÇÃO DOS OUROS Rua Vasco Gusmão Martins, 108 - Centro, CEP 37690-000
A3: PLANILHA ORÇAMENTÁRIA DE CUSTOS
A4: MUNICÍPIO: CONCEIÇÃO DOS OUROS/MG
A5: OBRA: REFORMA DO CINE OUROS
A6: END.: AVENIDA CORONEL DOMINGOS ROSA, Nº. 45. CENTRO
A7: DATA: | B7: 46069 | J7: 0.8972
C8: 1 MEDIÇÃO - 13/012026 a 13/02/2026 | G8: BDI: | H8: 0.2644
A9: ITEM | B9: CÓDIGO | C9: DESCRIÇÃO | D9: UNID | E9: QUANT | F9: CUSTO UNITÁRIO (R$) | G9: UNITÁRIO COM BDI (R$) | H9: VALOR TOTAL COM BDI (R$) | J9: CUSTO UNITÁRIO (R$)
C10: TOTAL | E10: 1015112.1 | H10: =ROUND(H11,2) -> 14903.96
H11: =SUM(H12+H20+H27+H42+H48+H56+H62+H71+H78+H14) -> 14903.96
A12: 1 | C12: SERVIÇOS PRELIMINARES | H12: =SUM(H13:H13) -> 1334.38
A13: 1.1 | B13: ED-28427 | C13: FORNECIMENTO E COLOCAÇÃO DE PLACA DE OBRA EM CHAPA GALVANIZADA #26, ESP. 0,45MM, DIMENSÃO (3X1,5)M, PLOTADA COM ADESIVO VINÍLICO, AFIXADA COM REBITES 4,8X40MM, EM ESTRUTURA METÁLICA DE METALON 20X20MM, ESP. 1,25MM, INCLUSIVE SUPORTE EM EUCALIPTO AUTOCLAVADO PINTADO COM TINTA PVA DUAS (2) DEMÃOS | D13: un | E13: 1 | F13: =J13*$J$7 -> 1055.3494 | G13: =ROUND(F13+(F13*$H$8),2) -> 1334.38 | H13: =E13*G13 -> 1334.38 | J13: 1176.27
A14: 2 | C14: VEDAÇÃO | H14: =SUM(H15:H19) -> 8315.49
A15: 2.1 | B15: ED-28338 | C15: DEMOLIÇÃO MANUAL DE CONSTRUÇÃO EM ALVENARIAS DE VEDAÇÃO, COM ESPESSURA MÁXIMA DE 15CM, INCLUSIVE REMOÇÃO COM REAPROVEITAMENTO DE ESQUADRIAS, AFASTAMENTO E EMPILHAMENTO, EXCLUSIVE TRANSPORTE E RETIRADA DO MATERIAL DEMOLIDO/REMOVIDO NÃO REAPROVEITÁVEL | D15: M2 | E15: =51.04+137.52 -> 188.56 | F15: =J15*$J$7 -> 15.548476 | G15: =ROUND(F15+(F15*$H$8),2) -> 19.66 | H15: =ROUND(E15*G15,2) -> 3707.09 | J15: 17.33
A16: 2.2 | B16: ED-48501 | C16: DEMOLIÇÃO MANUAL DE REBOCO OU EMBOÇO, COM ESPESSURA DE ATÉ 55MM, INCLUSIVE AFASTAMENTO E EMPILHAMENTO, EXCLUSIVE TRANSPORTE E RETIRADA DO MATERIAL DEMOLIDO | D16: M2 | E16: 96.99 | F16: =J16*$J$7 -> 9.277048 | G16: =ROUND(F16+(F16*$H$8),2) -> 11.73 | H16: =ROUND(E16*G16,2) -> 1137.69 | J16: 10.34
A17: 2.3 | B17: ED-48192 | C17: ALVENARIA DE VEDAÇÃO COM BLOCO DE CONCRETO, ESP. 14CM, PARA REVESTIMENTO, INCLUSIVE ARGAMASSA PARA ASSENTAMENTO | D17: M2 | E17: 4.98 | F17: =J17*$J$7 -> 58.81146 | G17: =ROUND(F17+(F17*$H$8),2) -> 74.36 | H17: =ROUND(E17*G17,2) -> 370.31 | J17: 65.55
A18: 2.4 | B18: ED-48388 | C18: CINTA DE AMARRAÇÃO DE ALVENARIA COM BLOCO DE CONCRETO ESTRUTURAL, CANALETA TIPO "U", ESP. 14CM, (FBK 4, 5MPA), PARA REVESTIMENTO, INCLUSIVE ARGAMASSA PARA ASSENTAMENTO, EXCLUSIVE GRAUTE E ARMAÇÃO | D18: M | F18: =J18*$J$7 -> 19.280828 | G18: =ROUND(F18+(F18*$H$8),2) -> 24.38 | H18: =ROUND(E18*G18,2) -> 0 | J18: 21.49
A19: 2.5 | B19: ED-50761 | C19: REBOCO COM ARGAMASSA, TRAÇO 1:2:8 (CIMENTO, CAL E AREIA) , ESP. 20MM, APLICAÇÃO MANUAL, INCLUSIVE ARGAMASSA COM PREPARO MECANIZADO, EXCLUSIVE CHAPISCO | D19: M2 | E19: 73.96 | F19: =J19*$J$7 -> 33.15154 | G19: =ROUND(F19+(F19*$H$8),2) -> 41.92 | H19: =ROUND(E19*G19,2) -> 3100.4 | J19: 36.95
A20: 3 | C20: COBERTURA | H20: =SUM(H21:H26) -> 0
A21: 3.1 | B21: ED-20603 | C21: FORNECIMENTO DE ESTRUTURA METÁLICA E ENGRADAMENTO METÁLICO, EM AÇO, PARA TELHADO, EXCLUSIVE TELHA, INCLUSIVE FABRICAÇÃO, TRANSPORTE, MONTAGEM E APLICAÇÃO DE FUNDO PREPARADOR ANTICORROSIVO EM SUPERFÍCIE METÁLICA, UMA (1) DEMÃO | D21: KG | F21: =J21*$J$7 -> 19.191108 | G21: =ROUND(F21+(F21*$H$8),2) -> 24.27 | H21: =ROUND(E21*G21,2) -> 0 | J21: 21.39
A22: 3.2 | B22: ED-20574 | C22: FORNECIMENTO DE ESTRUTURA METÁLICA E ENGRADAMENTO METÁLICO, EM AÇO PATINÁVEL, SOBRE LAJE PARA TELHA CERÂMICA, COBERTURA PADRÃO DO PRÉDIO ESCOLAR, EXCLUSIVE TELHA, INCLUSIVE FABRICAÇÃO, TRANSPORTE E MONTAGEM | D22: m2 | F22: =J22*$J$7 -> 282.60006 | G22: =ROUND(F22+(F22*$H$8),2) -> 357.32 | H22: =ROUND(E22*G22,2) -> 0 | J22: 314.98
A23: 3.3 | B23: ED-48428 | C23: COBERTURA EM TELHA METÁLICA GALVANIZADA TRAPEZOIDAL, TIPO SIMPLES, ESP. 0,50MM, ACABAMENTO NATURAL, INCLUSIVE ACESSÓRIOS PARA FIXAÇÃO, FORNECIMENTO E INSTALAÇÃO | D23: M2 | F23: =J23*$J$7 -> 96.35928 | G23: =ROUND(F23+(F23*$H$8),2) -> 121.84 | H23: =ROUND(E23*G23,2) -> 0 | J23: 107.4
A24: 3.4 | B24: ED-50678 | C24: RUFO E CONTRARRUFO EM CHAPA GALVANIZADA, ESP. 0,65MM (GSG-24), COM DESENVOLVIMENTO DE 33CM, INCLUSIVE IÇAMENTO MANUAL VERTICAL | D24: M | F24: =J24*$J$7 -> 42.285036 | G24: =ROUND(F24+(F24*$H$8),2) -> 53.47 | H24: =ROUND(E24*G24,2) -> 0 | J24: 47.13
A25: 3.5 | B25: ED-50663 | C25: CALHA EM CHAPA GALVANIZADA, ESP. 0,5MM (GSG-26), COM DESENVOLVIMENTO DE 50CM, INCLUSIVE IÇAMENTO MANUAL VERTICAL | D25: M | F25: =J25*$J$7 -> 51.624888 | G25: =ROUND(F25+(F25*$H$8),2) -> 65.27 | H25: =ROUND(E25*G25,2) -> 0 | J25: 57.54
A26: 3.6 | B26: ED-50668 | C26: CONDUTOR CIRCULAR DE ÁGUA PLUVIAL PARA TELHADO EM TUBO DE PVC, DIÂMETRO DE 100MM, INCLUSIVE CONEXÕES E SUPORTES | D26: M | F26: =J26*$J$7 -> 76.899012 | G26: =ROUND(F26+(F26*$H$8),2) -> 97.23 | H26: =ROUND(E26*G26,2) -> 0 | J26: 85.71
A27: 4 | C27: INSTALAÇÃO HIDROSSANITÁRIA | H27: =SUM(H28:H41) -> 304.68
A28: 4.1 | B28: ED-48467 | C28: REMOÇÃO DE LOUÇAS (LAVATÓRIO, BANHEIRA, PIA, VASO SANITÁRIO, TANQUE), COM REAPROVEITAMENTO, INCLUSIVE AFASTAMENTO E EMPILHAMENTO, EXCLUSIVE TRANSPORTE E RETIRADA DO MATERIAL REMOVIDO NÃO REAPROVEITÁVEL | D28: Un. | E28: 6 | F28: =J28*$J$7 -> 40.158672 | G28: =ROUND(F28+(F28*$H$8),2) -> 50.78 | H28: =ROUND(E28*G28,2) -> 304.68 | J28: 44.76
A29: 4.2 | B29: ED-50223 | C29: PONTO DE EMBUTIR PARA ESGOTO EM TUBO PVC RÍGIDO, PB - SÉRIE NORMAL, DN 40MM (1.1/2"), EMBUTIDO NA ALVENARIA/PISO, COM ALTURA (SAÍDA) DE 50CM DO PISO, COM DISTÂNCIA DE ATÉ CINCO (5) METROS DO RAMAL DE ESGOTO, EXCLUSIVE ESCAVAÇÃO, INCLUSIVE CONEXÕES E FIXAÇÃO DO TUBO COM ENCHIMENTO DO RASGO NA ALVENARIA/CONCRETO COM ARGAMASSA (LAVATÓRIO) | D29: UN. | F29: =J29*$J$7 -> 149.42866 | G29: =ROUND(F29+(F29*$H$8),2) -> 188.94 | H29: =ROUND(E29*G29,2) -> 0 | J29: 166.55
A30: 4.3 | B30: ED-50225 | C30: PONTO DE EMBUTIR PARA ESGOTO EM TUBO PVC RÍGIDO, PBV - SÉRIE NORMAL, DN 100MM (4"), EMBUTIDO EM PISO COM DISTÂNCIA DE ATÉ CINCO (5) METROS DO RAMAL DE ESGOTO, INCLUSIVE CONEXÕES E FIXAÇÃO DO TUBO COM ENCHIMENTO DO RASGO NO CONCRETO COM ARGAMASSA (VASO) | D30: UN. | F30: =J30*$J$7 -> 274.49834 | G30: =ROUND(F30+(F30*$H$8),2) -> 347.08 | H30: =ROUND(E30*G30,2) -> 0 | J30: 305.95
A31: 4.4 | B31: ED-50224 | C31: PONTO DE EMBUTIR PARA ESGOTO EM TUBO PVC RÍGIDO, PBV - SÉRIE NORMAL, DN 50MM (2"), EMBUTIDO EM PISO COM DISTÂNCIA DE ATÉ CINCO (5) METROS DO RAMAL DE ESGOTO, EXCLUSIVE ESCAVAÇÃO, INCLUSIVE CONEXÕES E FIXAÇÃO DO TUBO COM ENCHIMENTO DO RASGO NO CONCRETO COM ARGAMASSA (PIA E TANQUE) | D31: UN. | F31: =J31*$J$7 -> 196.7111 | G31: =ROUND(F31+(F31*$H$8),2) -> 248.72 | H31: =ROUND(E31*G31,2) -> 0 | J31: 219.25
A32: 4.5 | B32: ED-50011 | C32: CAIXA SIFONADA EM PVC COM GRELHA REDONDA 100 X 100 X 50 MM | D32: UN | F32: =J32*$J$7 -> 61.512032 | G32: =ROUND(F32+(F32*$H$8),2) -> 77.78 | H32: =ROUND(E32*G32,2) -> 0 | J32: 68.56
A33: 4.6 | B33: ED-50221 | C33: PONTO DE EMBUTIR PARA ÁGUA FRIA EM TUBO DE PVC RÍGIDO SOLDÁVEL, DN 20MM (1/2"), EMBUTIDO NA ALVENARIA COM DISTÂNCIA DE ATÉ CINCO (5) METROS DA TOMADA DE ÁGUA, INCLUSIVE CONEXÕES E FIXAÇÃO DO TUBO COM ENCHIMENTO DO RASGO NA ALVENARIA/CONCRETO COM ARGAMASSA | D33: UN | F33: =J33*$J$7 -> 123.63416 | G33: =ROUND(F33+(F33*$H$8),2) -> 156.32 | H33: =ROUND(E33*G33,2) -> 0 | J33: 137.8
A34: 4.7 | B34: ED-49936 | C34: CAIXA D'ÁGUA DE POLIETILENO, CAPACIDADE DE 1.000L, INCLUSIVE TAMPA, TORNEIRA DE BOIA, EXTRAVASOR, TUBO DE LIMPEZA E ACESSÓRIOS, EXCLUSIVE TUBULAÇÃO DE ENTRADA/ SAÍDA DE ÁGUA | D34: UN | F34: =J34*$J$7 -> 800.02427 | G34: =ROUND(F34+(F34*$H$8),2) -> 1011.55 | H34: =ROUND(E34*G34,2) -> 0 | J34: 891.69
A35: 4.8 | B35: ED-49844 | C35: ADAPTADOR SOLDÁVEL DE PVC MARROM COM FLANGES E ANEL PARA CAIXA DÁGUA Ø 20 MM X 1/2" | D35: UN | F35: =J35*$J$7 -> 18.177272 | G35: =ROUND(F35+(F35*$H$8),2) -> 22.98 | H35: =ROUND(E35*G35,2) -> 0 | J35: 20.26
A36: 4.9 | B36: ED-49848 | C36: ADAPTADOR SOLDÁVEL DE PVC MARROM COM FLANGES E ANEL PARA CAIXA DÁGUA Ø 50 MM X 1 1/2" | D36: UN | F36: =J36*$J$7 -> 51.983768 | G36: =ROUND(F36+(F36*$H$8),2) -> 65.73 | H36: =ROUND(E36*G36,2) -> 0 | J36: 57.94
A37: 4.10 | B37: ED-50304 | C37: TORNEIRA DE BOIA, TIPO ROSCÁVEL 3/4", EXCLUSIVE ADAPTADOR SOLDÁVEL DE PVC COM FLANGES E ANEL PARA CAIXA DÁGUA | D37: UN | F37: =J37*$J$7 -> 92.285992 | G37: =ROUND(F37+(F37*$H$8),2) -> 116.69 | H37: =ROUND(E37*G37,2) -> 0 | J37: 102.86
A38: 4.11 | B38: ED-50029 | C38: FORNECIMENTO E ASSENTAMENTO DE TUBO PVC RÍGIDO, ESGOTO, PBV - SÉRIE NORMAL, DN 100 MM (4"), INCLUSIVE CONEXÕES | D38: M | F38: =J38*$J$7 -> 36.704452 | G38: =ROUND(F38+(F38*$H$8),2) -> 46.41 | H38: =ROUND(E38*G38,2) -> 0 | J38: 40.91
A39: 4.12 | B39: ED-50031 | C39: FORNECIMENTO E ASSENTAMENTO DE TUBO PVC RÍGIDO, ESGOTO, PBV - SÉRIE NORMAL, DN 200 MM (8"), INCLUSIVE CONEXÕES | D39: M | F39: =J39*$J$7 -> 118.8162 | G39: =ROUND(F39+(F39*$H$8),2) -> 150.23 | H39: =ROUND(E39*G39,2) -> 0 | J39: 132.43
A40: 4.13 | B40: ED-50018 | C40: FORNECIMENTO E ASSENTAMENTO DE TUBO PVC RÍGIDO SOLDÁVEL, ÁGUA FRIA, DN 20 MM (1/2"), INCLUSIVE CONEXÕES | D40: M | F40: =J40*$J$7 -> 18.957836 | G40: =ROUND(F40+(F40*$H$8),2) -> 23.97 | H40: =ROUND(E40*G40,2) -> 0 | J40: 21.13
A41: 4.14 | B41: ED-50019 | C41: FORNECIMENTO E ASSENTAMENTO DE TUBO PVC RÍGIDO SOLDÁVEL, ÁGUA FRIA, DN 25 MM (3/4") , INCLUSIVE CONEXÕES | D41: M | F41: =J41*$J$7 -> 20.886816 | G41: =ROUND(F41+(F41*$H$8),2) -> 26.41 | H41: =ROUND(E41*G41,2) -> 0 | J41: 23.28
...

Sheet planilha principal
A2: PREFEITURA MUNICIPAL DE CONCEIÇÃO DOS OUROS Rua Vasco Gusmão Martins, 108 - Centro, CEP 37690-000
A3: PLANILHA ORÇAMENTÁRIA DE CUSTOS
A4: MUNICÍPIO: CONCEIÇÃO DOS OUROS/MG
A5: OBRA: REFORMA DO CINE OUROS
A6: END.: AVENIDA CORONEL DOMINGOS ROSA, Nº. 45. CENTRO
A7: DATA: | B7: 46007 | J7: 0.8972
G8: BDI: | H8: 0.2644
A9: ITEM | B9: CÓDIGO | C9: DESCRIÇÃO | D9: UNID | E9: QUANT | F9: CUSTO UNITÁRIO (R$) | G9: UNITÁRIO COM BDI (R$) | H9: VALOR TOTAL COM BDI (R$) | J9: CUSTO UNITÁRIO (R$)
C10: TOTAL | E10: 1015112.1 | H10: =ROUND(H11,2) -> 174700
H11: =SUM(H12+H20+H27+H42+H48+H56+H62+H71+H78+H14) -> 174700
A12: 1 | C12: SERVIÇOS PRELIMINARES | H12: =SUM(H13:H13) -> 1334.38
A13: 1.1 | B13: ED-28427 | C13: FORNECIMENTO E COLOCAÇÃO DE PLACA DE OBRA EM CHAPA GALVANIZADA #26, ESP. 0,45MM, DIMENSÃO (3X1,5)M, PLOTADA COM ADESIVO VINÍLICO, AFIXADA COM REBITES 4,8X40MM, EM ESTRUTURA METÁLICA DE METALON 20X20MM, ESP. 1,25MM, INCLUSIVE SUPORTE EM EUCALIPTO AUTOCLAVADO PINTADO COM TINTA PVA DUAS (2) DEMÃOS | D13: un | E13: 1 | F13: =J13*$J$7 -> 1055.3494 | G13: =ROUND(F13+(F13*$H$8),2) -> 1334.38 | H13: =E13*G13 -> 1334.38 | J13: 1176.27
A14: 2 | C14: VEDAÇÃO | H14: =SUM(H15:H19) -> 23778.47
A15: 2.1 | B15: ED-28338 | C15: DEMOLIÇÃO MANUAL DE CONSTRUÇÃO EM ALVENARIAS DE VEDAÇÃO, COM ESPESSURA MÁXIMA DE 15CM, INCLUSIVE REMOÇÃO COM REAPROVEITAMENTO DE ESQUADRIAS, AFASTAMENTO E EMPILHAMENTO, EXCLUSIVE TRANSPORTE E RETIRADA DO MATERIAL DEMOLIDO/REMOVIDO NÃO REAPROVEITÁVEL | D15: M2 | E15: 188.56 | F15: =J15*$J$7 -> 15.548476 | G15: =ROUND(F15+(F15*$H$8),2) -> 19.66 | H15: =ROUND(E15*G15,2) -> 3707.09 | J15: 17.33
A16: 2.2 | B16: ED-48501 | C16: DEMOLIÇÃO MANUAL DE REBOCO OU EMBOÇO, COM ESPESSURA DE ATÉ 55MM, INCLUSIVE AFASTAMENTO E EMPILHAMENTO, EXCLUSIVE TRANSPORTE E RETIRADA DO MATERIAL DEMOLIDO | D16: M2 | E16: 188.56 | F16: =J16*$J$7 -> 9.277048 | G16: =ROUND(F16+(F16*$H$8),2) -> 11.73 | H16: =ROUND(E16*G16,2) -> 2211.81 | J16: 10.34 | Q16: muro
A17: 2.3 | B17: ED-48192 | C17: ALVENARIA DE VEDAÇÃO COM BLOCO DE CONCRETO, ESP. 14CM, PARA REVESTIMENTO, INCLUSIVE ARGAMASSA PARA ASSENTAMENTO | D17: M2 | E17: =((1.75+1.8)*2*3.1)+(4.3+3+3+2.45)*2.15+(31.5*1.85) -> 107.6975 | F17: =J17*$J$7 -> 58.81146 | G17: =ROUND(F17+(F17*$H$8),2) -> 74.36 | H17: =ROUND(E17*G17,2) -> 8008.39 | I17: =((1.75+1.8)*2*3.1)+(4.3+3+3+2.45)*2.15+(31.5*1.85) -> 107.6975 | J17: 65.55 | Q17: 31,5*1,85
A18: 2.4 | B18: ED-48388 | C18: CINTA DE AMARRAÇÃO DE ALVENARIA COM BLOCO DE CONCRETO ESTRUTURAL, CANALETA TIPO "U", ESP. 14CM, (FBK 4, 5MPA), PARA REVESTIMENTO, INCLUSIVE ARGAMASSA PARA ASSENTAMENTO, EXCLUSIVE GRAUTE E ARMAÇÃO | D18: M | E18: =((1.75+1.8)*2)+(4.3+3+3+2.45)+60 -> 79.85 | F18: =J18*$J$7 -> 19.280828 | G18: =ROUND(F18+(F18*$H$8),2) -> 24.38 | H18: =ROUND(E18*G18,2) -> 1946.74 | J18: 21.49 | O18: banheiro
A19: 2.5 | B19: ED-50761 | C19: REBOCO COM ARGAMASSA, TRAÇO 1:2:8 (CIMENTO, CAL E AREIA) , ESP. 20MM, APLICAÇÃO MANUAL, INCLUSIVE ARGAMASSA COM PREPARO MECANIZADO, EXCLUSIVE CHAPISCO | D19: M2 | E19: 188.56 | F19: =J19*$J$7 -> 33.15154 | G19: =ROUND(F19+(F19*$H$8),2) -> 41.92 | H19: =ROUND(E19*G19,2) -> 7904.44 | J19: 36.95
A20: 3 | C20: COBERTURA | H20: =SUM(H21:H26) -> 15899.98
A21: 3.1 | B21: ED-20603 | C21: FORNECIMENTO DE ESTRUTURA METÁLICA E ENGRADAMENTO METÁLICO, EM AÇO, PARA TELHADO, EXCLUSIVE TELHA, INCLUSIVE FABRICAÇÃO, TRANSPORTE, MONTAGEM E APLICAÇÃO DE FUNDO PREPARADOR ANTICORROSIVO EM SUPERFÍCIE METÁLICA, UMA (1) DEMÃO | D21: KG | E21: 216 | F21: =J21*$J$7 -> 19.191108 | G21: =ROUND(F21+(F21*$H$8),2) -> 24.27 | H21: =ROUND(E21*G21,2) -> 5242.32 | J21: 21.39 | Q21: =84*114 -> 9576 | R21: =24*184 -> 4416 | S21: =R21+Q21 -> 13992
A22: 3.2 | B22: ED-20574 | C22: FORNECIMENTO DE ESTRUTURA METÁLICA E ENGRADAMENTO METÁLICO, EM AÇO PATINÁVEL, SOBRE LAJE PARA TELHA CERÂMICA, COBERTURA PADRÃO DO PRÉDIO ESCOLAR, EXCLUSIVE TELHA, INCLUSIVE FABRICAÇÃO, TRANSPORTE E MONTAGEM | D22: m2 | E22: 19.6 | F22: =J22*$J$7 -> 282.60006 | G22: =ROUND(F22+(F22*$H$8),2) -> 357.32 | H22: =ROUND(E22*G22,2) -> 7003.47 | J22: 314.98
A23: 3.3 | B23: ED-48428 | C23: COBERTURA EM TELHA METÁLICA GALVANIZADA TRAPEZOIDAL, TIPO SIMPLES, ESP. 0,50MM, ACABAMENTO NATURAL, INCLUSIVE ACESSÓRIOS PARA FIXAÇÃO, FORNECIMENTO E INSTALAÇÃO | D23: M2 | E23: 19.6 | F23: =J23*$J$7 -> 96.35928 | G23: =ROUND(F23+(F23*$H$8),2) -> 121.84 | H23: =ROUND(E23*G23,2) -> 2388.06 | J23: 107.4
A24: 3.4 | B24: ED-50678 | C24: RUFO E CONTRARRUFO EM CHAPA GALVANIZADA, ESP. 0,65MM (GSG-24), COM DESENVOLVIMENTO DE 33CM, INCLUSIVE IÇAMENTO MANUAL VERTICAL | D24: M | E24: 5.75 | F24: =J24*$J$7 -> 42.285036 | G24: =ROUND(F24+(F24*$H$8),2) -> 53.47 | H24: =ROUND(E24*G24,2) -> 307.45 | J24: 47.13
A25: 3.5 | B25: ED-50663 | C25: CALHA EM CHAPA GALVANIZADA, ESP. 0,5MM (GSG-26), COM DESENVOLVIMENTO DE 50CM, INCLUSIVE IÇAMENTO MANUAL VERTICAL | D25: M | E25: 5.75 | F25: =J25*$J$7 -> 51.624888 | G25: =ROUND(F25+(F25*$H$8),2) -> 65.27 | H25: =ROUND(E25*G25,2) -> 375.3 | J25: 57.54
A26: 3.6 | B26: ED-50668 | C26: CONDUTOR CIRCULAR DE ÁGUA PLUVIAL PARA TELHADO EM TUBO DE PVC, DIÂMETRO DE 100MM, INCLUSIVE CONEXÕES E SUPORTES | D26: M | E26: 6 | F26: =J26*$J$7 -> 76.899012 | G26: =ROUND(F26+(F26*$H$8),2) -> 97.23 | H26: =ROUND(E26*G26,2) -> 583.38 | J26: 85.71
A27: 4 | C27: INSTALAÇÃO HIDROSSANITÁRIA | H27: =SUM(H28:H41) -> 13140.31
A28: 4.1 | B28: ED-48467 | C28: REMOÇÃO DE LOUÇAS (LAVATÓRIO, BANHEIRA, PIA, VASO SANITÁRIO, TANQUE), COM REAPROVEITAMENTO, INCLUSIVE AFASTAMENTO E EMPILHAMENTO, EXCLUSIVE TRANSPORTE E RETIRADA DO MATERIAL REMOVIDO NÃO REAPROVEITÁVEL | D28: Un. | E28: 6 | F28: =J28*$J$7 -> 40.158672 | G28: =ROUND(F28+(F28*$H$8),2) -> 50.78 | H28: =ROUND(E28*G28,2) -> 304.68 | J28: 44.76
A29: 4.2 | B29: ED-50223 | C29: PONTO DE EMBUTIR PARA ESGOTO EM TUBO PVC RÍGIDO, PB - SÉRIE NORMAL, DN 40MM (1.1/2"), EMBUTIDO NA ALVENARIA/PISO, COM ALTURA (SAÍDA) DE 50CM DO PISO, COM DISTÂNCIA DE ATÉ CINCO (5) METROS DO RAMAL DE ESGOTO, EXCLUSIVE ESCAVAÇÃO, INCLUSIVE CONEXÕES E FIXAÇÃO DO TUBO COM ENCHIMENTO DO RASGO NA ALVENARIA/CONCRETO COM ARGAMASSA (LAVATÓRIO) | D29: UN. | E29: 3 | F29: =J29*$J$7 -> 149.42866 | G29: =ROUND(F29+(F29*$H$8),2) -> 188.94 | H29: =ROUND(E29*G29,2) -> 566.82 | J29: 166.55 | Q29: =S21/288 -> 48.583333 | R29: =Q29*2 -> 97.166667
A30: 4.3 | B30: ED-50225 | C30: PONTO DE EMBUTIR PARA ESGOTO EM TUBO PVC RÍGIDO, PBV - SÉRIE NORMAL, DN 100MM (4"), EMBUTIDO EM PISO COM DISTÂNCIA DE ATÉ CINCO (5) METROS DO RAMAL DE ESGOTO, INCLUSIVE CONEXÕES E FIXAÇÃO DO TUBO COM ENCHIMENTO DO RASGO NO CONCRETO COM ARGAMASSA (VASO) | D30: UN. | E30: 3 | F30: =J30*$J$7 -> 274.49834 | G30: =ROUND(F30+(F30*$H$8),2) -> 347.08 | H30: =ROUND(E30*G30,2) -> 1041.24 | J30: 305.95
A31: 4.4 | B31: ED-50224 | C31: PONTO DE EMBUTIR PARA ESGOTO EM TUBO PVC RÍGIDO, PBV - SÉRIE NORMAL, DN 50MM (2"), EMBUTIDO EM PISO COM DISTÂNCIA DE ATÉ CINCO (5) METROS DO RAMAL DE ESGOTO, EXCLUSIVE ESCAVAÇÃO, INCLUSIVE CONEXÕES E FIXAÇÃO DO TUBO COM ENCHIMENTO DO RASGO NO CONCRETO COM ARGAMASSA (PIA E TANQUE) | D31: UN. | E31: 4 | F31: =J31*$J$7 -> 196.7111 | G31: =ROUND(F31+(F31*$H$8),2) -> 248.72 | H31: =ROUND(E31*G31,2) -> 994.88 | J31: 219.25
A32: 4.5 | B32: ED-50011 | C32: CAIXA SIFONADA EM PVC COM GRELHA REDONDA 100 X 100 X 50 MM | D32: UN | E32: 4 | F32: =J32*$J$7 -> 61.512032 | G32: =ROUND(F32+(F32*$H$8),2) -> 77.78 | H32: =ROUND(E32*G32,2) -> 311.12 | J32: 68.56
A33: 4.6 | B33: ED-50221 | C33: PONTO DE EMBUTIR PARA ÁGUA FRIA EM TUBO DE PVC RÍGIDO SOLDÁVEL, DN 20MM (1/2"), EMBUTIDO NA ALVENARIA COM DISTÂNCIA DE ATÉ CINCO (5) METROS DA TOMADA DE ÁGUA, INCLUSIVE CONEXÕES E FIXAÇÃO DO TUBO COM ENCHIMENTO DO RASGO NA ALVENARIA/CONCRETO COM ARGAMASSA | D33: UN | E33: 6 | F33: =J33*$J$7 -> 123.63416 | G33: =ROUND(F33+(F33*$H$8),2) -> 156.32 | H33: =ROUND(E33*G33,2) -> 937.92 | J33: 137.8
A34: 4.7 | B34: ED-49936 | C34: CAIXA D'ÁGUA DE POLIETILENO, CAPACIDADE DE 1.000L, INCLUSIVE TAMPA, TORNEIRA DE BOIA, EXTRAVASOR, TUBO DE LIMPEZA E ACESSÓRIOS, EXCLUSIVE TUBULAÇÃO DE ENTRADA/ SAÍDA DE ÁGUA | D34: UN | E34: 1 | F34: =J34*$J$7 -> 800.02427 | G34: =ROUND(F34+(F34*$H$8),2) -> 1011.55 | H34: =ROUND(E34*G34,2) -> 1011.55 | J34: 891.69
A35: 4.8 | B35: ED-49844 | C35: ADAPTADOR SOLDÁVEL DE PVC MARROM COM FLANGES E ANEL PARA CAIXA DÁGUA Ø 20 MM X 1/2" | D35: UN | E35: 4 | F35: =J35*$J$7 -> 18.177272 | G35: =ROUND(F35+(F35*$H$8),2) -> 22.98 | H35: =ROUND(E35*G35,2) -> 91.92 | J35: 20.26
A36: 4.9 | B36: ED-49848 | C36: ADAPTADOR SOLDÁVEL DE PVC MARROM COM FLANGES E ANEL PARA CAIXA DÁGUA Ø 50 MM X 1 1/2" | D36: UN | E36: 4 | F36: =J36*$J$7 -> 51.983768 | G36: =ROUND(F36+(F36*$H$8),2) -> 65.73 | H36: =ROUND(E36*G36,2) -> 262.92 | J36: 57.94
A37: 4.10 | B37: ED-50304 | C37: TORNEIRA DE BOIA, TIPO ROSCÁVEL 3/4", EXCLUSIVE ADAPTADOR SOLDÁVEL DE PVC COM FLANGES E ANEL PARA CAIXA DÁGUA | D37: UN | E37: 4 | F37: =J37*$J$7 -> 92.285992 | G37: =ROUND(F37+(F37*$H$8),2) -> 116.69 | H37: =ROUND(E37*G37,2) -> 466.76 | J37: 102.86
A38: 4.11 | B38: ED-50029 | C38: FORNECIMENTO E ASSENTAMENTO DE TUBO PVC RÍGIDO, ESGOTO, PBV - SÉRIE NORMAL, DN 100 MM (4"), INCLUSIVE CONEXÕES | D38: M | E38: 18 | F38: =J38*$J$7 -> 36.704452 | G38: =ROUND(F38+(F38*$H$8),2) -> 46.41 | H38: =ROUND(E38*G38,2) -> 835.38 | J38: 40.91
A39: 4.12 | B39: ED-50031 | C39: FORNECIMENTO E ASSENTAMENTO DE TUBO PVC RÍGIDO, ESGOTO, PBV - SÉRIE NORMAL, DN 200 MM (8"), INCLUSIVE CONEXÕES | D39: M | E39: 36 | F39: =J39*$J$7 -> 118.8162 | G39: =ROUND(F39+(F39*$H$8),2) -> 150.23 | H39: =ROUND(E39*G39,2) -> 5408.28 | J39: 132.43
A40: 4.13 | B40: ED-50018 | C40: FORNECIMENTO E ASSENTAMENTO DE TUBO PVC RÍGIDO SOLDÁVEL, ÁGUA FRIA, DN 20 MM (1/2"), INCLUSIVE CONEXÕES | D40: M | E40: 18 | F40: =J40*$J$7 -> 18.957836 | G40: =ROUND(F40+(F40*$H$8),2) -> 23.97 | H40: =ROUND(E40*G40,2) -> 431.46 | J40: 21.13
A41: 4.14 | B41: ED-50019 | C41: FORNECIMENTO E ASSENTAMENTO DE TUBO PVC RÍGIDO SOLDÁVEL, ÁGUA FRIA, DN 25 MM (3/4") , INCLUSIVE CONEXÕES | D41: M | E41: 18 | F41: =J41*$J$7 -> 20.886816 | G41: =ROUND(F41+(F41*$H$8),2) -> 26.41 | H41: =ROUND(E41*G41,2) -> 475.38 | J41: 23.28
...

Sheet compensação 2med
A2: PREFEITURA MUNICIPAL DE CONCEIÇÃO DOS OUROS Rua Vasco Gusmão Martins, 108 - Centro, CEP 37690-000
A3: PLANILHA COMPENSATÓRIA DA 2 MEDIÇÃO - 16/03/2026
A4: OBRA: REFORMA DO CINE OUROS
A5: DATA: | B5: 46097 | G5: BDI: | H5: 0.2644
A6: ITEM | B6: CÓDIGO | C6: DESCRIÇÃO | D6: UNID | E6: QUANT | F6: CUSTO UNITÁRIO (R$) | G6: UNITÁRIO COM BDI (R$) | H6: VALOR TOTAL COM BDI (R$)
A7: A | C7: SERVIÇOS EXECUTADOS NÃO CONTEMPLADOS EM PLANILHA DE CONTRATO | H7: =SUM(H8:H21) -> 9214.055
