Workbook
Name ___sub1: #REF!
Name ___sub1: #REF!
Name ___sub1: #REF!
Name ___sub2: #REF!
Name ___sub2: #REF!
Name ___sub3: #REF!
Name ___sub3: #REF!
Name _sub1: #REF!
Name _sub1: #REF!
Name _sub2: #REF!
Name _sub2: #REF!
Name _sub3: #REF!
Name _sub3: #REF!
Name a: #REF!
Name a: #REF!
Name AREA: #REF!
Name AREA: #REF!
Name AREA: #REF!
Name B: #REF!
Name B: #REF!
Name B: #REF!
Name BDI: #REF!
Name BDI: #REF!
Name DOLAR: [1]INSUMOS!$G$8
Name ersdcefgbrnghrbgbrgfbgfwbvbfgvwfv: #REF!
Name ersdcefgbrnghrbgbrgfbgfwbvbfgvwfv: #REF!
Name ersdcefgbrnghrbgbrgfbgfwbvbfgvwfv: #REF!
Name Excel_BuiltIn_Print_Area_2: #REF!
Name Excel_BuiltIn_Print_Area_2: #REF!
Name Excel_BuiltIn_Print_Area_2_1: #REF!
Name Excel_BuiltIn_Print_Area_2_1: #REF!
Name Excel_BuiltIn_Print_Area_2_1_1: #REF!
Name Excel_BuiltIn_Print_Area_2_1_1: #REF!
Name Excel_BuiltIn_Print_Area_2_1_1_1: #REF!
Name Excel_BuiltIn_Print_Area_2_1_1_1: #REF!
Name Excel_BuiltIn_Print_Area_4: #REF!
Name Excel_BuiltIn_Print_Area_4: #REF!
Name leosde: #REF!
Name leosde: #REF!
Name leosde: #REF!
Name NCOMPOSICOES: 7
Name NCOTACOES: 15
Name obra: #REF!
Name obra: #REF!
Name obra: #REF!
Name obra1: #REF!
Name obra1: #REF!
Name obra2: #REF!
Name obra2: #REF!
Name obra3: #REF!
Name obra3: #REF!
Name obra4: #REF!
Name obra4: #REF!
Name obra5: #REF!
Name obra5: #REF!
Name P.1: #REF!
Name P.1: #REF!
Name P.1: #REF!
Name P.10: #REF!
Name P.10: #REF!

Sheet Memória de Cálculo
C1: PREFEITURA MUNICIPAL DE CONCEIÇÃO DOS OUROS _____________________ESTADO DE MINAS GERAIS_____________________ Praça José Maria de Souza, 01 – Centro – CEP: 37548-000 – Conceição dos Ouros – MG. Tel. (35)3653-1220 - Fax: (35)3653-1281 - E-mail: prefeitura@conceicaodosouros.mg.gov.br CNPJ 18.677.609/0001-65
A2: MEMÓRIA DE CÁLCULO DE QUANTITATIVOS
A3: PREFEITURA MUNICIPAL DE CONCEIÇÃO DOS OUROS
A4: OBRA: RECAPEAMENTO ASFÁLTICO EM CBUQ | E4: FOLHA Nº: | F4: 01/01.
A5: LOCAL: Ruas Diversas no Município de Conceição dos Ouros/MG | E5: DATA: | F5: 45407
A7: ITEM | B7: CÓDIGO | C7: DESCRIÇÃO | D7: UNIDADE | E7: QUANTIDADE | F7: FÓRMULA DO CÁLCULO
A8: 1.0 | C8: SERVIÇOS PRELIMINARES
A9: 1.1 | B9: ED-28427 | C9: FORNECIMENTO E COLOCAÇÃO DE PLACA DE OBRA EM CHAPA GALVANIZADA (3,00 X 1,50 M) - EM CHAPA GALVANIZADA 0,26 AFIXADAS COM REBITES 540 E PARAFUSOS 3/8, EM ESTRUTURA METÁLICA VIGA U 2" ENRIJECIDA COM METALON 20 X 20, SUPORTE EM EUCALIPTO AUTOCLAVADO PINTADAS NE FRENTE E NO VERSO COM FUNDO ANTICORROSIVO E TINTA AUTOMOTIVA, CONFORME MANUAL DE IDENTIDADE VISUAL DO GOVERNO DE MINAS | D9: U | E9: 1 | F9: 1,00 unidade conforme padrão exigido
A10: 2.0 | C10: REPERFILAMENTO
A11: 2.1 | B11: RO-42208 | C11: Usinagem de concreto betuminoso usinado a quente para reperfilamento (faixa C) (Execução, incluindo o fornecimento dos agregados; exclui o fornecimento e transporte do material betuminoso e o transporte dos agregados) | D11: m3 | E11: =E12/2.4 -> 416.66667 | F11: usinagem: 1000/2,4
A12: 2.2 | B12: RO-41207 | C12: Reperfilamento de pavimento (para CBUQ e prémisturado a frio) (Aplicação com motoniveladora, exclui o fornecimento da massa) | D12: T | E12: 1000 | F12: reperfilamento: 1000 toneladas
A13: 2.3 | B13: RO-41376 | C13: TRANSPORTE DE MATERIAL DE QUALQUER NATUREZA. DISTÂNCIA MÉDIA DE TRANSPORTE >= 50,10 KM | D13: TxKM | E13: =E12*45 -> 45000 | F13: transporte: 1000x45
A14: 3.0 | C14: RECAPEAMENTO ASFÁLTICO SOBRE CALÇAMENTO
A15: 1ª CAMADA
A16: 3.1 | B16: RO-41375 | C16: Transporte de material de qualquer natureza. Distância média de transporte de 40,10 a 50,00 km | D16: TxKM | E16: =ROUND(E17*0.0005*45,2) -> 1170 | F16: Transporte = área de pintura de ligação x IC x DMT = 52.000,00 m² x 0,0005 t/m² x 45 km
A17: 3.2 | B17: RO-51229 | C17: PINTURA DE LIGAÇÃO (EXECUÇÃO E FORNECIMENTO DO MATERIAL BETUMINOSO, EXCLUSIVE TRANSPORTE DO MATERIAL BETUMINOSO) | D17: M² | E17: =8000*6.5 -> 52000 | F17: Pintura de ligação: Comprimento x Largura 8.000,00m x 6,50m = 52.000,00 m²
A18: 3.3 | B18: RO-14037 | C18: Transporte de Concreto Betuminoso Usinado a Quente. Distância média de transporte de 40,10 a 50,00 km (volume compactado) | D18: M3xKM | E18: =ROUND(E19*45,2) -> 46800 | F18: Transporte = volume de CBUQ x DMT = 1.040,00 x 45
A19: 3.4 | B19: ED-7623 | C19: EXECUÇÃO E APLICAÇÃO DE CONCRETO BETUMINOSO USINADO A QUENTE (CBUQ), MASSA COMERCIAL, INCLUINDO FORNECIMENTO E TRANSPORTE DOS AGREGADOS E MATERIAL BETUMINOSO. | D19: M³ | E19: =ROUND(E17*0.02,2) -> 1040 | F19: Volume de CBUQ (1ª camada) = 52.000,00 * 0,02
A20: 2ª CAMADA
A21: 3.5 | B21: RO-41375 | C21: Transporte de material de qualquer natureza. Distância média de transporte de 40,10 a 50,00 km | D21: TxKM | E21: =ROUND(E22*0.0005*45,2) -> 1170 | F21: Transporte = área de pintura de ligação x IC x DMT = 52.000,00 m² x 0,0005 t/m² x 45 km
A22: 3.6 | B22: RO-51229 | C22: PINTURA DE LIGAÇÃO (EXECUÇÃO E FORNECIMENTO DO MATERIAL BETUMINOSO, EXCLUSIVE TRANSPORTE DO MATERIAL BETUMINOSO) | D22: M² | E22: 52000 | F22: Pintura de ligação: Comprimento x Largura 8.000,00m x 6,50m = 52.000,00 m²
A23: 3.7 | B23: RO-14037 | C23: Transporte de Concreto Betuminoso Usinado a Quente. Distância média de transporte de 40,10 a 50,00 km (volume compactado) | D23: M3xKM | E23: =ROUND(E24*45,2) -> 70200 | F23: Transporte = volume de CBUQ x DMT = 1.560,00 x 45
A24: 3.8 | B24: ED-7623 | C24: EXECUÇÃO E APLICAÇÃO DE CONCRETO BETUMINOSO USINADO A QUENTE (CBUQ), MASSA COMERCIAL, INCLUINDO FORNECIMENTO E TRANSPORTE DOS AGREGADOS E MATERIAL BETUMINOSO. | D24: M³ | E24: =ROUND(E22*0.03,2) -> 1560 | F24: Volume de CBUQ (2ª camada) = 52.000,00 * 0,03
A25: 5.3 | B25: RO-41844 | C25: PLACA DE AÇO CARBONO COM PELÍCULA REFLETIVA GRAU TÉCNICO TIPO I DA ABNT - PLACA QUADRADA (EXECUÇÃO, INCLUINDO FORNECIMENTO E TRANSPORTE DE TODOS OS MATERIAIS, INCLUSIVE POSTE | D25: M² | E25: =ROUND(10*(0.6*0.6),2) -> 3.6 | F25: 10 unidades com área de 0,60x0,60, cada uma
C30: José Airton Junho dos Reis
C31: Engenheiro Civil
C32: CREA/MG Nº: 56.250/D
C36: Luís Fernando Rosa de Castro
C37: Prefeito Municipal

Sheet Planilha Orcamentária
C1: PREFEITURA MUNICIPAL DE CONCEIÇÃO DOS OUROS _____________________ESTADO DE MINAS GERAIS_____________________ Praça José Maria de Souza, 01 – Centro – CEP: 37548-000 – Conceição dos Ouros – MG. Tel. (35)3653-1220 - Fax: (35)3653-1281 - E-mail: prefeitura@conceicaodosouros.mg.gov.br CNPJ 18.677.609/0001-65
A2: PLANILHA ORÇAMENTÁRIA DE CUSTOS
A3: PREFEITURA MUNICIPAL DE CONCEIÇÃO DOS OUROS | E3: FOLHA Nº: | G3: 01/01.
A4: OBRA: RECAPEAMENTO ASFÁLTICO EM CBUQ | E4: DATA: | G4: 45407
A5: LOCAL: Ruas Diversas no Município de Conceição dos Ouros/MG | E5: FORMA DE EXECUÇÃO:
A6: REGIÃO/MÊS DE REFERÊNCIA: TABELA SEINFRA - REGIÃO SUL - JANEIRO 2024 - COM DESONERAÇÃO; TABELA SEINFRA - REGIÃO SUL - OUTUBRO 2023 - COM DESONERAÇÃO | E6: ( ) | F6: DIRETA | G6: ( X ) | H6: INDIRETA
A7: COMPOSIÇÃO/DEMONSTRATIVO DE BDI - EM ANEXO CONFORME MODELO DA PAG. 16 DA TABELA DA SEINFRA. | E7: % ISS MUNICIPAL: | F7: 0.03 | G7: BDI: | H7: 0.2851
A8: ITEM | B8: CÓDIGO | C8: DESCRIÇÃO | D8: UNIDADE | E8: QUANTIDADE | F8: PREÇO UNITÁRIO S/ BDI | G8: PREÇO UNITÁRIO C/ BDI | H8: PREÇO TOTAL
A9: ='Memória de Cálculo'!A8 -> 1.0 | C9: ='Memória de Cálculo'!C8 -> SERVIÇOS PRELIMINARES | H9: =SUM(H10:H10) -> 1746.63
A10: ='Memória de Cálculo'!A9 -> 1.1 | B10: ='Memória de Cálculo'!B9 -> ED-28427 | C10: ='Memória de Cálculo'!C9 -> FORNECIMENTO E COLOCAÇÃO DE PLACA DE OBRA EM CHAPA GALVANIZADA (3,00 X 1,50 M) - EM CHAPA GALVANIZADA 0,26 AFIXADAS COM REBITES 540 E PARAFUSOS 3/8, EM ESTRUTURA METÁLICA VIGA U 2" ENRIJECIDA COM METALON 20 X 20, SUPORTE EM EUCALIPTO AUTOCLAVADO PINTADAS NE FRENTE E NO VERSO COM FUNDO ANTICORROSIVO E TINTA AUTOMOTIVA, CONFORME MANUAL DE IDENTIDADE VISUAL DO GOVERNO DE MINAS | D10: ='Memória de Cálculo'!D9 -> U | E10: ='Memória de Cálculo'!E9 -> 1 | F10: 1359.14 | G10: =ROUND(F10+(F10*$H$7),2) -> 1746.63 | H10: =ROUND((E10*G10),2) -> 1746.63 | K10: =6000*6.5 -> 39000 | L10: 40000
A11: ='Memória de Cálculo'!A10 -> 2.0 | C11: REPERFILAMENTO | H11: =H12+H13+H14 -> 257363.33
A12: 2.1 | B12: RO-42208 | C12: Usinagem de concreto betuminoso usinado a quente para reperfilamento (faixa C) (Execução, incluindo o fornecimento dos agregados; exclui o fornecimento e transporte do material betuminoso e o transporte dos agregados) | D12: m3 | E12: =E13/2.4 -> 416.66667 | F12: 360.13 | G12: =ROUND(F12+(F12*$H$7),2) -> 462.8 | H12: =ROUND((E12*G12),2) -> 192833.33
A13: 2.2 | B13: RO-41207 | C13: Reperfilamento de pavimento (para CBUQ e prémisturado a frio) (Aplicação com motoniveladora, exclui o fornecimento da massa) | D13: T | E13: 1000 | F13: 16.95 | G13: =ROUND(F13+(F13*$H$7),2) -> 21.78 | H13: =ROUND((E13*G13),2) -> 21780
A14: 2.3 | B14: RO-41376 | C14: TRANSPORTE DE MATERIAL DE QUALQUER NATUREZA. DISTÂNCIA MÉDIA DE TRANSPORTE >= 50,10 KM | D14: TxKM | E14: ='Memória de Cálculo'!E13 -> 45000 | F14: 0.74 | G14: 0.95 | H14: =E14*G14 -> 42750
A15: 3.0 | C15: ='Memória de Cálculo'!C14 -> RECAPEAMENTO ASFÁLTICO SOBRE CALÇAMENTO | H15: =SUM(H17:H25) -> 6107966.8
A16: 1ª CAMADA
A17: 3.1 | B17: ='Memória de Cálculo'!B16 -> RO-41375 | C17: ='Memória de Cálculo'!C16 -> Transporte de material de qualquer natureza. Distância média de transporte de 40,10 a 50,00 km | D17: ='Memória de Cálculo'!D16 -> TxKM | E17: ='Memória de Cálculo'!E16 -> 1170 | F17: 0.79 | G17: =ROUND(F17+(F17*$H$7),2) -> 1.02 | H17: =ROUND((E17*G17),2) -> 1193.4 | I17: CÓDIGO RO planilha out/23
A18: 3.2 | B18: ='Memória de Cálculo'!B17 -> RO-51229 | C18: ='Memória de Cálculo'!C17 -> PINTURA DE LIGAÇÃO (EXECUÇÃO E FORNECIMENTO DO MATERIAL BETUMINOSO, EXCLUSIVE TRANSPORTE DO MATERIAL BETUMINOSO) | D18: ='Memória de Cálculo'!D17 -> M² | E18: ='Memória de Cálculo'!E17 -> 52000 | F18: 1.89 | G18: =ROUND(F18+(F18*$H$7),2) -> 2.43 | H18: =ROUND((E18*G18),2) -> 126360
A19: 3.3 | B19: ='Memória de Cálculo'!B18 -> RO-14037 | C19: ='Memória de Cálculo'!C18 -> Transporte de Concreto Betuminoso Usinado a Quente. Distância média de transporte de 40,10 a 50,00 km (volume compactado) | D19: ='Memória de Cálculo'!D18 -> M3xKM | E19: ='Memória de Cálculo'!E18 -> 46800 | F19: 1.9 | G19: =ROUND(F19+(F19*$H$7),2) -> 2.44 | H19: =ROUND((E19*G19),2) -> 114192
A20: 3.4 | B20: ='Memória de Cálculo'!B19 -> ED-7623 | C20: ='Memória de Cálculo'!C19 -> EXECUÇÃO E APLICAÇÃO DE CONCRETO BETUMINOSO USINADO A QUENTE (CBUQ), MASSA COMERCIAL, INCLUINDO FORNECIMENTO E TRANSPORTE DOS AGREGADOS E MATERIAL BETUMINOSO. | D20: ='Memória de Cálculo'!D19 -> M³ | E20: ='Memória de Cálculo'!E19 -> 1040 | F20: 1666.25 | G20: =ROUND(F20+(F20*$H$7),2) -> 2141.3 | H20: =ROUND((E20*G20),2) -> 2226952 | I20: CÓDIGO ED planilha jan/24
A21: 2ª CAMADA
A22: 3.5 | B22: ='Memória de Cálculo'!B21 -> RO-41375 | C22: ='Memória de Cálculo'!C21 -> Transporte de material de qualquer natureza. Distância média de transporte de 40,10 a 50,00 km | D22: ='Memória de Cálculo'!D21 -> TxKM | E22: ='Memória de Cálculo'!E21 -> 1170 | F22: 0.79 | G22: =ROUND(F22+(F22*$H$7),2) -> 1.02 | H22: =ROUND((E22*G22),2) -> 1193.4
A23: 3.6 | B23: ='Memória de Cálculo'!B22 -> RO-51229 | C23: ='Memória de Cálculo'!C22 -> PINTURA DE LIGAÇÃO (EXECUÇÃO E FORNECIMENTO DO MATERIAL BETUMINOSO, EXCLUSIVE TRANSPORTE DO MATERIAL BETUMINOSO) | D23: ='Memória de Cálculo'!D22 -> M² | E23: ='Memória de Cálculo'!E22 -> 52000 | F23: 1.89 | G23: =ROUND(F23+(F23*$H$7),2) -> 2.43 | H23: =ROUND((E23*G23),2) -> 126360
A24: 3.7 | B24: ='Memória de Cálculo'!B23 -> RO-14037 | C24: ='Memória de Cálculo'!C23 -> Transporte de Concreto Betuminoso Usinado a Quente. Distância média de transporte de 40,10 a 50,00 km (volume compactado) | D24: ='Memória de Cálculo'!D23 -> M3xKM | E24: ='Memória de Cálculo'!E23 -> 70200 | F24: 1.9 | G24: =ROUND(F24+(F24*$H$7),2) -> 2.44 | H24: =ROUND((E24*G24),2) -> 171288
A25: 3.8 | B25: ='Memória de Cálculo'!B24 -> ED-7623 | C25: ='Memória de Cálculo'!C24 -> EXECUÇÃO E APLICAÇÃO DE CONCRETO BETUMINOSO USINADO A QUENTE (CBUQ), MASSA COMERCIAL, INCLUINDO FORNECIMENTO E TRANSPORTE DOS AGREGADOS E MATERIAL BETUMINOSO. | D25: ='Memória de Cálculo'!D24 -> M³ | E25: ='Memória de Cálculo'!E24 -> 1560 | F25: 1666.25 | G25: =ROUND(F25+(F25*$H$7),2) -> 2141.3 | H25: =ROUND((E25*G25),2) -> 3340428
A26: 5.3 | B26: ='Memória de Cálculo'!B25 -> RO-41844 | C26: ='Memória de Cálculo'!C25 -> PLACA DE AÇO CARBONO COM PELÍCULA REFLETIVA GRAU TÉCNICO TIPO I DA ABNT - PLACA QUADRADA (EXECUÇÃO, INCLUINDO FORNECIMENTO E TRANSPORTE DE TODOS OS MATERIAIS, INCLUSIVE POSTE | D26: ='Memória de Cálculo'!D25 -> M² | F26: 620.28 | G26: =ROUND(F26+(F26*$H$7),2) -> 797.12 | H26: =ROUND((E26*G26),2) -> 0
A27: VALOR TOTAL DA OBRA | H27: =H9+H11+H15 -> 6367076.8
C31: ='Memória de Cálculo'!C30 -> José Airton Junho dos Reis
C32: ='Memória de Cálculo'!C31 -> Engenheiro Civil
C33: ='Memória de Cálculo'!C32 -> CREA/MG Nº: 56.250/D
C37: ='Memória de Cálculo'!C36 -> Luís Fernando Rosa de Castro
C38: ='Memória de Cálculo'!C37 -> Prefeito Municipal

Sheet BDI

Sheet Cronograma
A2: CRONOGRAMA FÍSICO-FINANCEIRO
A3: ='Planilha Orcamentária'!A3 -> PREFEITURA MUNICIPAL DE CONCEIÇÃO DOS OUROS | C3: VALOR DO CONVÊNIO: | D3: =D18 -> 6367076.8 | E3: DATA: | G3: 45407 | H3: FOLHA Nº: 01/01
A4: ='Planilha Orcamentária'!A4 -> OBRA: RECAPEAMENTO ASFÁLTICO EM CBUQ | E4: PREVISÃO DE EXECUÇÃO DAS OBRAS: 01 MÊS
A5: ='Planilha Orcamentária'!A5 -> LOCAL: Ruas Diversas no Município de Conceição dos Ouros/MG
A6: ITENS | B6: ETAPAS/DESCRIÇÃO | C6: FÍSICO/ FINANCEIRO | D6: TOTAL ETAPAS | E6: MÊS 1 | F6: MÊS 2 | G6: MÊS 3 | H6: MÊS 4
A7: ='Planilha Orcamentária'!A9 -> 1.0 | B7: ='Planilha Orcamentária'!C9 -> SERVIÇOS PRELIMINARES | C7: Físico % | D7: =D8/$D$18 -> 0.00027432212 | E7: 1 | F7: 0 | G7: 0 | H7: 0
C8: Financeiro | D8: ='Planilha Orcamentária'!H9 -> 1746.63 | E8: =E7*$D$8 -> 1746.63 | F8: =F7*$D$8 -> 0 | G8: =G7*$D$8 -> 0 | H8: =H7*$D$8 -> 0
A9: ='Planilha Orcamentária'!A11 -> 2.0 | B9: ='Planilha Orcamentária'!C11 -> REPERFILAMENTO | C9: Físico % | D9: =D10/$D$18 -> 0.040420956 | E9: 1
C10: Financeiro | D10: ='Planilha Orcamentária'!H11 -> 257363.33 | E10: =E9*$D$10 -> 257363.33 | F10: =F9*$D$10 -> 0 | G10: =G9*$D$10 -> 0 | H10: =H9*$D$10 -> 0
A11: ='Planilha Orcamentária'!A15 -> 3.0 | B11: ='Planilha Orcamentária'!C15 -> RECAPEAMENTO ASFÁLTICO SOBRE CALÇAMENTO | C11: Físico % | D11: =D12/$D$18 -> 0.95930472 | E11: 1 | F11: 0 | G11: 0 | H11: 0
C12: Financeiro | D12: ='Planilha Orcamentária'!H15 -> 6107966.8 | E12: =E11*$D$12 -> 6107966.8 | F12: =F11*$D$12 -> 0 | G12: =G11*$D$12 -> 0
C13: Físico % | D13: =D14/$D$18 -> 0 | G13: 0 | H13: 0
C14: Financeiro | E14: =E13*$D$14 -> 0 | F14: =F13*$D$14 -> 0 | G14: =G13*$D$14 -> 0 | H14: =H13*$D$14 -> 0
C15: Físico % | D15: =D16/$D$18 -> 0 | F15: 0 | G15: 0 | H15: 0
C16: Financeiro | E16: =E15*$D$16 -> 0 | F16: =F15*$D$16 -> 0 | G16: =G15*$D$16 -> 0 | H16: =H15*$D$16 -> 0
A17: TOTAL | C17: Físico % | D17: =D7+D9+D11+D13+D15 -> 1 | E17: =E18/$D$18 -> 1 | F17: =F18/$D$18 -> 0 | G17: =G18/$D$18 -> 0 | H17: =H18/$D$18 -> 0
C18: Financeiro | D18: =D8+D10+D12+D14+D16 -> 6367076.8 | E18: =E8+E10+E12+E14+E16 -> 6367076.8 | F18: =F8+F10+F12+F14+F16 -> 0 | G18: =G8+G10+G12+G14+G16 -> 0 | H18: =H8+H10+H12+H14+H16 -> 0
G19: Observações:
B21: ='Memória de Cálculo'!C30 -> José Airton Junho dos Reis
B22: ='Memória de Cálculo'!C31 -> Engenheiro Civil
B23: ='Memória de Cálculo'!C32 -> CREA/MG Nº: 56.250/D
B26: ='Memória de Cálculo'!C36 -> Luís Fernando Rosa de Castro
B27: ='Memória de Cálculo'!C37 -> Prefeito Municipal

Sheet 7 - CCU-001
A2: COMPOSIÇÃO DE CUSTOS UNITÁRIOS - CCU 001
A3: ='Memória de Cálculo'!A3:D3 -> PREFEITURA MUNICIPAL DE CONCEIÇÃO DOS OUROS | E3: FOLHA Nº: | G3: 7
A4: ='Memória de Cálculo'!A4:D4 -> OBRA: RECAPEAMENTO ASFÁLTICO EM CBUQ | E4: DATA: | G4: 45404
A5: ='Memória de Cálculo'!A5:D5 -> LOCAL: Ruas Diversas no Município de Conceição dos Ouros/MG | E5: FORMA DE EXECUÇÃO:
A6: ='Planilha Orcamentária'!A6:D6 -> REGIÃO/MÊS DE REFERÊNCIA: TABELA SEINFRA - REGIÃO SUL - JANEIRO 2024 - COM DESONERAÇÃO; TABELA SEINFRA - REGIÃO SUL - OUTUBRO 2023 - COM DESONERAÇÃO | E6: ( X ) | F6: INDIRETA
A8: ITEM | B8: CÓDIGO | C8: DESCRIÇÃO | D8: UNIDADE | E8: QUANTIDADE | F8: PREÇO TOTAL
A10: 1.0 | B10: CCU-001 | C10: ADMINISTRAÇÃO LOCAL | D10: UNIDADE | E10: 1 | F10: =SUM(G12:G12) -> 1785.92
D11: UNIDADE | E11: CONSUMO | F11: CUSTO UNITÁRIO S/ BDI | G11: CUSTO TOTAL
A12: 1.1 | B12: ED-21769 | C12: ENGENHEIRO CIVIL DE OBRA JÚNIOR COM ENCARGOS COMPLEMENTARES | D12: MÊS | E12: =D20 -> 0.098409091 | F12: 18147.9 | G12: =ROUND(E12*F12,2) -> 1785.92 | I12: 1 Hora/d x 22 d/mês = 22 horas
B15: Considerando:
B17: Engenheiro civil júnior: | I17: =0.75*220 -> 165
B18: 5 dias por semana: 5x1h/dia x 4,33 semanas/mês = | D18: =5*1*4.33 -> 21.65 | E18: horas/mês
B19: Para o coeficiente da composição unitária:
B20: 1 mês x (21,65 horas/mês) / 220 horas/mês = | D20: =1*D18/220 -> 0.098409091 | E20: mês
C27: José Airton Junho dos Reis
C28: Engenheiro Civil
C29: CREA/MG Nº: 56.250/D
C33: Luís Fernando Rosa de Castro
C34: Prefeito Municipal

Sheet 8 - CCU-002 NÃO USAR
A2: COMPOSIÇÃO DE CUSTOS UNITÁRIOS - CCU 002
A3: ='Memória de Cálculo'!A3:D3 -> PREFEITURA MUNICIPAL DE CONCEIÇÃO DOS OUROS
A4: ='Memória de Cálculo'!A4:D4 -> OBRA: RECAPEAMENTO ASFÁLTICO EM CBUQ
A5: ='Memória de Cálculo'!A5:D5 -> LOCAL: Ruas Diversas no Município de Conceição dos Ouros/MG
A6: ='Planilha Orcamentária'!A6:D6 -> REGIÃO/MÊS DE REFERÊNCIA: TABELA SEINFRA - REGIÃO SUL - JANEIRO 2024 - COM DESONERAÇÃO; TABELA SEINFRA - REGIÃO SUL - OUTUBRO 2023 - COM DESONERAÇÃO
A7: CÓDIGO | B7: DESCRIÇÃO | C7: UNIDADE | D7: QUANTIDADE | E7: PREÇO TOTAL
A8: SARJETA DE CONCRETO URBANO (SCU), TIPO 1, COM FCK 15 MPA, LARGURA DE 30CM COM INCLINAÇÃO DE 3%, ESP. 10CM, PADRÃO DER-MG, EXCLUSIVE MEIO-FIO, INCLUSIVE ESCAVAÇÃO, APILAOMENTO E TRANSPORTE COM RETIRADA DO MATERIAL ESCAVADO (EM CAÇAMBA) | C8: M | D8: 1 | E8: =F14 -> 30.9468
C9: UNIDADE | D9: CONSUMO | E9: CUSTO UNITÁRIO S/ BDI | F9: CUSTO TOTAL
A10: ED-51093 | B10: APILOAMENTO MANUAL EM FUNDO DE VALA COM SOQUETE, EXCLUSIVE ESCAVAÇÃO | C10: M2 | D10: 0.3 | E10: 20.84 | F10: =D10*E10 -> 6.252
A11: ED-51107 | B11: ESCAVAÇÃO MANUAL DE VALA COM PROFUNDIDADE MENOR OU IGUAL A 1,5M, INCLUSIVE DESCARGA LATERAL | C11: M3 | D11: =D10*0.1 -> 0.03 | E11: 61.8 | F11: =D11*E11 -> 1.854
A12: ED-49784 | B12: FORNECIMENTO DE CONCRETO NÃO ESTRUTURAL, PREPARADO EM OBRA COM BETONEIRA, COM FCK 15MPA, INCLUSIVE LANÇAMENTO, ADENSAMENTO E ACABAMENTO (FUNDAÇÃO) | C12: M3 | D12: =D11 -> 0.03 | E12: 695.36 | F12: =D12*E12 -> 20.8608
A13: ED-51125 | B13: TRANSPORTE DE MATERIAL DEMOLIDO EM CAÇAMBA, EXCLUSIVE CARGA MANUAL OU MECÂNICA | C13: M3 | D13: =D11 -> 0.03 | E13: 66 | F13: =D13*E13 -> 1.98
A14: TOTAL | F14: =SUM(F10:F13) -> 30.9468
B20: José Airton Junho dos Reis
B21: Engenheiro Civil
B22: CREA/MG Nº: 56.250/D
B26: Luís Fernando Rosa de Castro
B27: Prefeito Municipal
