Workbook
Name Fonte: #REF!
Name nao: #REF!

Sheet ORÇAMENTO
A2: PLANILHA ORÇAMENTÁRIA
A3: OBRA: SUBSTITUIÇÃO DE LUMINÁRIAS DO ESTÁDIO JOÃO RIBEIRO DE CARVALHO | H3: DATA: 15/03/2022
A4: LOCAL: TRAVESSA SANTOS DUMONT - CONCEIÇÃO DOS OUROS-MG | F4: FORMA DE EXECUÇÃO:
A5: REGIÃO/MÊS DE REF.: SETOP / SINAPI - 12/2021 | F5: ( ) | G5: DIRETA | H5: ( x ) | I5: INDIRETA
A6: PRAZO DE EXECUÇÃO: 01 MÊS | H6: BDI | I6: 0.25
A7: VALOR ESTIMADO DA OBRA: | D7: =I16 -> 95854.23
A9: ITEM | B9: FONTE | C9: CÓDIGO | D9: DESCRIÇÃO | E9: UND. | F9: QUANT. | G9: PREÇO UNITÁRIO S/ BDI | H9: PREÇO UNITÁRIO C/ BDI | I9: PREÇO TOTAL
A10: 1.0 | B10: SERVIÇOS PRELIMINARES
A11: 1.1 | B11: SETOP | C11: ED-5154 | D11: FORNECIMENTO E COLOCAÇÃO DE PLACA DE OBRA EM CHAPA GALVANIZADA (3,00 X 1,50 M) - EM CHAPA GALVANIZADA 0,26 AFIXADAS COM REBITES 540 E PARAFUSOS 3/8, EM ESTRUTURA METÁLICA VIGA U 2" ENRIJECIDA COM METALON 20 X 20, SUPORTE EM EUCALIPTO AUTOCLAVADO PINTADAS | E11: UN | F11: ='MEMORIAL DE CÁLCULO'!M15 -> 1 | G11: 1685.11 | H11: =ROUND(G11*(1+$I$6),2) -> 2106.39 | I11: =ROUND((F11*H11),2) -> 2106.39
A12: TOTAL ITEM | E12: =A10 -> 1.0 | F12: = | G12: =ROUND(SUM(I11:I11),2) -> 2106.39
A13: 2.0 | B13: INSTALAÇÃO ELÉTRICA
A14: 2.1 | B14: COMPOSIÇÃO | C14: ='COMPOSIÇÕES '!B9 -> A | D14: ='COMPOSIÇÕES '!C9 -> REMOÇÃO, FORNECIMENTO E INSTALAÇÃO DE LUMINÁRIA ESPORTIVA 200 WATTS | E14: UN | F14: ='MEMORIAL DE CÁLCULO'!M22 -> 48 | G14: ='COMPOSIÇÕES '!G9 -> 1562.4617 | H14: =ROUND(G14*(1+$I$6),2) -> 1953.08 | I14: =ROUND((F14*H14),2) -> 93747.84
A15: TOTAL ITEM | E15: =A13 -> 2.0 | F15: = | G15: =ROUND(SUM(I14:I14),2) -> 93747.84
A16: TOTAL GERAL | I16: =ROUND(SUM(I11:I15),2) -> 95854.23
A22: ____________________________________________________
A23: Responsável Técnico:
A24: Engenheiro Eletricista

Sheet CRONOGRAMA
A2: CRONOGRAMA FÍSICO-FINANCEIRO
A3: =ORÇAMENTO!A3 -> OBRA: SUBSTITUIÇÃO DE LUMINÁRIAS DO ESTÁDIO JOÃO RIBEIRO DE CARVALHO | H3: =ORÇAMENTO!H3 -> DATA: 15/03/2022
A4: =ORÇAMENTO!A4 -> LOCAL: TRAVESSA SANTOS DUMONT - CONCEIÇÃO DOS OUROS-MG
A5: =ORÇAMENTO!A5 -> REGIÃO/MÊS DE REF.: SETOP / SINAPI - 12/2021
A6: =ORÇAMENTO!A6 -> PRAZO DE EXECUÇÃO: 01 MÊS
A7: =ORÇAMENTO!A7 -> VALOR ESTIMADO DA OBRA: | B7: =ORÇAMENTO!D7 -> 95854.23
A9: ETAPAS | B9: FÍSICO / FINANCEIRO | C9: TOTAL ETAPAS | D9: 1º SEMANA | E9: 2º SEMANA | F9: 3º SEMANA | G9: 4º SEMANA | H9: TOTAL
A10: =ORÇAMENTO!B10 -> SERVIÇOS PRELIMINARES | B10: Físico % | C10: 1 | D10: 1 | H10: =SUM(D10:G10) -> 1
B11: Financeiro | C11: =ORÇAMENTO!G12 -> 2106.39 | D11: =D10*$C$11 -> 2106.39 | H11: =SUM(D11:G11) -> 2106.39
A12: ILUMINAÇÃO DO CENTRO ESPORTIVO | B12: Físico % | C12: 1 | D12: 0.25 | E12: 0.25 | F12: 0.25 | G12: 0.25 | H12: =SUM(D12:G12) -> 1
B13: Financeiro | C13: =ORÇAMENTO!G15 -> 93747.84 | D13: =C13*0.25 -> 23436.96 | E13: =C13*0.25 -> 23436.96 | F13: =C13*0.25 -> 23436.96 | G13: =C13*0.25 -> 23436.96 | H13: =SUM(D13:G13) -> 93747.84
A14: TOTAL | B14: Físico % | C14: 1 | D14: =D15/$C$15 -> 0.2664812 | E14: =E15/$C$15 -> 0.24450627 | F14: =F15/$C$15 -> 0.24450627 | G14: =G15/$C$15 -> 0.24450627 | H14: =SUM(D14:G14) -> 1
B15: Financeiro | C15: =C11+C13 -> 95854.23 | D15: =D11+D13 -> 25543.35 | E15: =E11+E13 -> 23436.96 | F15: =F11+F13 -> 23436.96 | G15: =G11+G13 -> 23436.96 | H15: =SUM(D15:G15) -> 95854.23 | J15: =IF(SUM(B7)=C15,TRUE,FALSE) -> TRUE
A20: =ORÇAMENTO!A22 -> ____________________________________________________
A21: =ORÇAMENTO!A23 -> Responsável Técnico:
A22: =ORÇAMENTO!A24 -> Engenheiro Eletricista

Sheet COMPOSIÇÕES 
A2: COMPOSIÇÃO DE CUSTO
A3: =ORÇAMENTO!A3 -> OBRA: SUBSTITUIÇÃO DE LUMINÁRIAS DO ESTÁDIO JOÃO RIBEIRO DE CARVALHO | F3: =ORÇAMENTO!H3 -> DATA: 15/03/2022
A4: =ORÇAMENTO!A4 -> LOCAL: TRAVESSA SANTOS DUMONT - CONCEIÇÃO DOS OUROS-MG
A5: =ORÇAMENTO!A5 -> REGIÃO/MÊS DE REF.: SETOP / SINAPI - 12/2021
A6: =ORÇAMENTO!A6 -> PRAZO DE EXECUÇÃO: 01 MÊS
A7: =ORÇAMENTO!A7 -> VALOR ESTIMADO DA OBRA: | C7: =ORÇAMENTO!D7 -> 95854.23
A9: SETOP | B9: A | C9: REMOÇÃO, FORNECIMENTO E INSTALAÇÃO DE LUMINÁRIA ESPORTIVA 200 WATTS | D9: PÇ | F9: SETOP | G9: =SUM(G11:G14) -> 1562.4617
A10: FONTE | B10: CÓDIGO | C10: DESCRIÇÃO | D10: UNIDADE | E10: COEFICIENTE | F10: CUSTO UNITÁRIO | G10: CUSTO TOTAL
A11: MATERIAL | B11: COTAÇÃO | C11: ='COTAÇÃO '!A9 -> LUMINÁRIA LED, ILUMINAÇÃO ESPORTIVA 200 WATTS | D11: UNID. | E11: 1 | F11: ='COTAÇÃO '!E9 -> 1407.6767 | G11: =E11*F11 -> 1407.6767
A12: SERVIÇO | B12: 91467 | C12: GUINDAUTO HIDRÁULICO, CAPACIDADE MÁXIMA DE CARGA 6200 KG, MOMENTO MÁXIMO DE CARGA 11,7 TM, ALCANCE MÁXIMO HORIZONTAL 9,70 M, INCLUSIVE CAMINHÃO TOCO PBT 16.000 KG, POTÊNCIA DE 189 CV - CHP DIURNO. AF_06/2014 | D12: CHP | E12: 1 | F12: 140.6 | G12: =E12*F12 -> 140.6
A13: SERVIÇO | B13: ED-50362 | C13: AJUDANTE DE ELETRICISTA COM ENCARGOS COMPLEMENTARES | D13: H | E13: 0.5 | F13: 15.95 | G13: =E13*F13 -> 7.975
A14: SERVIÇO | B14: ED-50373 | C14: ELETRICISTA COM ENCARGOS COMPLEMENTARES | D14: H | E14: 0.3 | F14: 20.7 | G14: =E14*F14 -> 6.21
A21: =ORÇAMENTO!A22 -> ____________________________________________________
A22: =ORÇAMENTO!A23 -> Responsável Técnico:
A23: =ORÇAMENTO!A24 -> Engenheiro Eletricista

Sheet COTAÇÃO 
A2: COTAÇÃO
A3: =ORÇAMENTO!A3 -> OBRA: SUBSTITUIÇÃO DE LUMINÁRIAS DO ESTÁDIO JOÃO RIBEIRO DE CARVALHO | D3: =ORÇAMENTO!H3 -> DATA: 15/03/2022
A4: =ORÇAMENTO!A4 -> LOCAL: TRAVESSA SANTOS DUMONT - CONCEIÇÃO DOS OUROS-MG
A5: =ORÇAMENTO!A5 -> REGIÃO/MÊS DE REF.: SETOP / SINAPI - 12/2021
A6: =ORÇAMENTO!A6 -> PRAZO DE EXECUÇÃO: 01 MÊS
A7: DESCRIÇÃO | B7: PROPOSTAS | E7: PÇ ADOTADO
B8: LUMINÁRIA LEDSTAR | C8: LUMINÁRIA CONEXLED | D8: LUMINÁRIAS ILUMATIC | E8: Média
A9: LUMINÁRIA LED, ILUMINAÇÃO ESPORTIVA 200 WATTS | B9: 1683.5 | C9: 1352.83 | D9: 1186.7 | E9: =SUM(B9:D9)/3 -> 1407.6767
A15: =ORÇAMENTO!A22 -> ____________________________________________________
A16: =ORÇAMENTO!A23 -> Responsável Técnico:
A17: =ORÇAMENTO!A24 -> Engenheiro Eletricista

Sheet MEMORIAL DE CÁLCULO
A2: MEMÓRIA DE CÁLCULO
A3: =ORÇAMENTO!A3 -> OBRA: SUBSTITUIÇÃO DE LUMINÁRIAS DO ESTÁDIO JOÃO RIBEIRO DE CARVALHO | L3: =ORÇAMENTO!H3 -> DATA: 15/03/2022
A4: =ORÇAMENTO!A4 -> LOCAL: TRAVESSA SANTOS DUMONT - CONCEIÇÃO DOS OUROS-MG | J4: FORMA DE EXECUÇÃO:
A5: =ORÇAMENTO!A5 -> REGIÃO/MÊS DE REF.: SETOP / SINAPI - 12/2021 | J5: ( ) | K5: DIRETA | L5: ( x ) | M5: INDIRETA
A6: =ORÇAMENTO!A6 -> PRAZO DE EXECUÇÃO: 01 MÊS | L6: BDI | M6: =ORÇAMENTO!I6 -> 0.25
A7: =ORÇAMENTO!A7 -> VALOR ESTIMADO DA OBRA: | D7: =ORÇAMENTO!D7 -> 95854.23
A9: Item | C9: Serviços
A11: =ORÇAMENTO!A10 -> 1.0 | C11: =ORÇAMENTO!B10 -> SERVIÇOS PRELIMINARES
A13: =ORÇAMENTO!A11 -> 1.1 | C13: =ORÇAMENTO!D11 -> FORNECIMENTO E COLOCAÇÃO DE PLACA DE OBRA EM CHAPA GALVANIZADA (3,00 X 1,50 M) - EM CHAPA GALVANIZADA 0,26 AFIXADAS COM REBITES 540 E PARAFUSOS 3/8, EM ESTRUTURA METÁLICA VIGA U 2" ENRIJECIDA COM METALON 20 X 20, SUPORTE EM EUCALIPTO AUTOCLAVADO PINTADAS
B15: Quantidade | L15: = | M15: 1
A18: =ORÇAMENTO!A13 -> 2.0 | C18: =ORÇAMENTO!B13 -> INSTALAÇÃO ELÉTRICA
B20: OBS: Substituição de Luminárias atuais por Luminárias LED.
B22: Quantidade de Luminárias à substituir | L22: = | M22: 48
