Workbook

Sheet PLANILHA
A1: PREFEITURA MUNICIPAL DE CONCEIÇÃO DOS OUROS Praça José Maria de Souza, nº 01 - Centro, CEP 37548-000
A2: PLANILHA ORÇAMENTÁRIA
A3: MUNICÍPIO: CONCEIÇÃO DOS OUROS/MG
A4: OBRA: AMPLIAÇÃO DE 2 SALAS NA ESCOLA MUNICIPAL JOSÉ OLÍMPIO DA SILVA
A5: END.: BAIRRO CAMPO DO MEIO
A6: DATA: 05/07/2021
A7: REFERÊNCIA: | C7: SETOP-SUL JANEIRO/2021 | H7: BDI: | I7: 0.2984
A8: ITEM | B8: FONTE | C8: CÓDIGO | D8: DESCRIÇÃO | E8: UNID | F8: QUANT | G8: CUSTO UNITÁRIO (R$) | H8: UNITÁRIO COM BDI (R$) | I8: VALOR TOTAL COM BDI (R$)
A9: AMPLIAÇÃO DE 2 SALAS NA ESCOLA MUNICIPAL JOSÉ OLÍMPIO DA SILVA
A10: 1 | D10: SERVIÇOS PRELIMINARES | F10: 0 | G10: 0 | H10: 0 | I10: =SUM(I11:I13) -> 9342.84
A11: 1.1 | B11: SETOP | C11: IIO-PLA-005 | D11: FORNECIMENTO E COLOCAÇÃO DE PLACA DE OBRA EM CHAPA GALVANIZADA (3,00 X 1,5 0 M) - EM CHAPA GALVANIZADA 0,26 AFIXADAS COM REBITES 540 E PARAFUSOS 3/8, EM ESTRUTURA METÁLICA VIGA U 2" ENRIJECIDA COM METALON 20 X 20, SUPORTE EM EUCALIPTO AUTOCLAVADO PINTADAS | E11: UNID. | F11: ='MEMÓRIA DE CÁLCULO'!E5 -> 1 | G11: 1099.62 | H11: =ROUND(G11+(G11*$I$7),2) -> 1427.75 | I11: =ROUND(F11*H11,2) -> 1427.75
A12: 1.2 | B12: SETOP | C12: IIO-BAR-015 | D12: BARRACÃO DEPÓSITO E FERRAMENTARIA TIPO I, A = 14,52 M2 (OBRA DE PEQUENO PORTE, EFETIVO ATÉ 30 HOMENS), INCLUSIVE MOBILIÁRIO - PADRÃO DEER-MG | E12: UNID. | F12: ='MEMÓRIA DE CÁLCULO'!E9 -> 1 | G12: 5444.61 | H12: =ROUND(G12+(G12*$I$7),2) -> 7069.28 | I12: =ROUND(F12*H12,2) -> 7069.28
A13: 1.3 | B13: SETOP | C13: LOC-OBR-005 | D13: LOCAÇÃO DA OBRA (GABARITO) | E13: M2 | F13: 89.98 | G13: 7.24 | H13: =ROUND(G13+(G13*$I$7),2) -> 9.4 | I13: =ROUND(F13*H13,2) -> 845.81
A14: 2 | D14: FUNDAÇÃO E SUPERESTRUTURA | F14: ='MEMÓRIA DE CÁLCULO'!E21 -> 0 | H14: =ROUND(G14+(G14*$I$7),2) -> 0 | I14: =SUM(I15:I26) -> 77626.26
A15: 2.1 | B15: SETOP | C15: TER-ESC-035 | D15: ESCAVAÇÃO MANUAL DE VALAS H <= 1,50 M | E15: M3 | F15: 7.8 | G15: 47.94 | H15: =ROUND(G15+(G15*$I$7),2) -> 62.25 | I15: =ROUND(F15*H15,2) -> 485.55
A16: 2.2 | B16: SETOP | C16: FUN-TRA-010 | D16: PERFURAÇÃO DE ESTACA BROCA A TRADO MANUAL D = 200 MM | E16: M | F16: 108 | G16: 47.94 | H16: =ROUND(G16+(G16*$I$7),2) -> 62.25 | I16: =ROUND(F16*H16,2) -> 6723
A17: 2.3 | B17: SETOP | C17: FUN-FOR-005 | D17: FORMA E DESFORMA DE TÁBUA E SARRAFO, REAPROVEITAMENTO (3X) (FUNDAÇÃO) | E17: M2 | F17: 92.04 | G17: 40.56 | H17: =ROUND(G17+(G17*$I$7),2) -> 52.66 | I17: =ROUND(F17*H17,2) -> 4846.83
A18: 2.4 | B18: SETOP | C18: FUN-CON-140 | D18: FORNECIMENTO DE CONCRETO ESTRUTURAL, USINADO BOMBEADO, COM FCK 30 MPA, INCLUSIVE LANÇAMENTO, ADENSAMENTO E ACABAMENTO | E18: M3 | F18: 13.22 | G18: 358.74 | H18: =ROUND(G18+(G18*$I$7),2) -> 465.79 | I18: =ROUND(F18*H18,2) -> 6157.74
A19: 2.5 | B19: SETOP | C19: ARM-AÇO-020 | D19: CORTE, DOBRA E MONTAGEM DE AÇO CA-50/60 | E19: KG | F19: 1454.2 | G19: 12.3 | H19: =ROUND(G19+(G19*$I$7),2) -> 15.97 | I19: =ROUND(F19*H19,2) -> 23223.57
A20: 2.6 | B20: SETOP | C20: ALV-BLO-010 | D20: ALVENARIA DE VEDAÇÃO COM BLOCO DE CONCRETO, ESP. 14CM, PARA REVESTIMENTO, INCLUSIVE ARGAMASSA PARA ASSENTAMENTO | E20: M2 | F20: 141.75 | G20: 40.5 | H20: =ROUND(G20+(G20*$I$7),2) -> 52.59 | I20: =ROUND(F20*H20,2) -> 7454.63
A21: 2.7 | B21: SETOP | C21: CIN-BLO-010 | D21: CINTA DE AMARRAÇÃO DE ALVENARIA COM BLOCO DE CONCRETO ESTRUTURAL, CANALETA TIPO "U", ESP. 14CM, (FBK 4,5MPA), PARA REVESTIMENTO, INCLUSIVE ARGAMASSA PARA ASSENTAMENTO, EXCLUSIVE GRAUTE E ARMAÇÃO | E21: M | F21: 94.5 | G21: 13.81 | H21: =ROUND(G21+(G21*$I$7),2) -> 17.93 | I21: =ROUND(F21*H21,2) -> 1694.39
A22: 2.8 | B22: SETOP | C22: REV-CHA-005 | D22: CHAPISCO COM ARGAMASSA, TRAÇO 1:3 (CIMENTO E AREIA), ESP. 5MM, APLICADO EM ALVENARIA / ESTRUTURA DE CONCRETO COM COLHER, PREPARO MECÂNICO | E22: M2 | F22: 283.5 | G22: 6.47 | H22: =ROUND(G22+(G22*$I$7),2) -> 8.4 | I22: =ROUND(F22*H22,2) -> 2381.4
A23: 2.9 | B23: SETOP | C23: REV-REB-015 | D23: REBOCO COM ARGAMASSA, TRAÇO 1:2:8 (CIMENTO, CAL E AREIA), ESP. 20MM, APLICAÇÃO MANUAL, PREPARO MECÂNICO | E23: M2 | F23: 283.5 | G23: 23.87 | H23: =ROUND(G23+(G23*$I$7),2) -> 30.99 | I23: =ROUND(F23*H23,2) -> 8785.67
A24: 2.10 | B24: SETOP | C24: IMP-ARG-005 | D24: IMPERMEABILIZAÇÃO COM ARGAMASSA TRAÇO 1:3, E = 2,50 CM COM ADITIVO | E24: M2 | F24: 18.9 | G24: 31.83 | H24: =ROUND(G24+(G24*$I$7),2) -> 41.33 | I24: =ROUND(F24*H24,2) -> 781.14
A25: 2.11 | B25: SETOP | C25: 92273 | D25: FABRICAÇÃO DE ESCORAS DO TIPO PONTALETE, EM MADEIRA, PARA PÉ-DIREITO SIMPLES. AF_09/2020 | E25: M2 | F25: 269.94 | G25: 10.49 | H25: =ROUND(G25+(G25*$I$7),2) -> 13.62 | I25: =ROUND(F25*H25,2) -> 3676.58
A26: 2.12 | B26: SETOP | C26: LAJ-REV-015 | D26: LAJE PRÉ-MOLDADA, A REVESTIR, INCLUSIVE CAPEAMENTO E = 4CM, SC = 100 KG/M2, L = 5,00 M | E26: M2 | F26: 89.98 | G26: 97.71 | H26: =ROUND(G26+(G26*$I$7),2) -> 126.87 | I26: =ROUND(F26*H26,2) -> 11415.76
A27: 3 | D27: COBERTURA | F27: ='MEMÓRIA DE CÁLCULO'!E47 -> 0 | H27: =ROUND(G27+(G27*$I$7),2) -> 0 | I27: =SUM(I28:I31) -> 38737.83
A28: 3.1 | B28: SETOP | C28: COB-ENG-005 | D28: ENGRADAMENTO PARA TELHAS CERÂMICA OU CONCRETO EM MADEIRA PARAJU | E28: M2 | F28: 138.58 | G28: 123.21 | H28: =ROUND(G28+(G28*$I$7),2) -> 159.98 | I28: =ROUND(F28*H28,2) -> 22170.03
A29: 3.2 | B29: SETOP | C29: COB-TEL-010 | D29: COBERTURA EM TELHA CERÂMICA COLONIAL PLANA, 24 UNID/M2 | E29: M2 | F29: 138.58 | G29: 57.49 | H29: =ROUND(G29+(G29*$I$7),2) -> 74.65 | I29: =ROUND(F29*H29,2) -> 10345
A30: 3.3 | B30: SETOP | C30: PLU-CAL-045 | D30: CALHA DE CHAPA GALVANIZADA Nº. 24 GSG, DESENVOLVIMENTO = 50 CM | E30: M | F30: 60 | G30: 62.74 | H30: =ROUND(G30+(G30*$I$7),2) -> 81.46 | I30: =ROUND(F30*H30,2) -> 4887.6
A31: 3.4 | B31: SETOP | C31: PLU-CON-005 | D31: CONDUTOR DE AP DO TELHADO EM TUBO PVC ESGOTO, INCLUSIVE CONEXÕES E SUPORTES, 100MM | E31: M | F31: 16 | G31: 64.27 | H31: =ROUND(G31+(G31*$I$7),2) -> 83.45 | I31: =ROUND(F31*H31,2) -> 1335.2
A32: 4 | D32: PISOS E AZULEJOS | F32: ='MEMÓRIA DE CÁLCULO'!E71 -> 0 | H32: =ROUND(G32+(G32*$I$7),2) -> 0 | I32: =SUM(I33:I37) -> 18679.8
A33: 4.1 | B33: SETOP | C33: ED-9317 | D33: PISO EM CONCRETO, PREPARADO EM OBRA COM BETONEIRA, FCK 10MPA, SEM ARMAÇÃO, ACABAMENTO RÚSTICO, ESP. 5CM, INCLUSIVE FORNECIMENTO, LANÇAMENTO, ADENSAMENTO, SARRAFEAMENTO, EXCLUSIVE JUNTA DE DILATAÇÃO | E33: M2 | F33: 89.98 | G33: 37.54 | H33: =ROUND(G33+(G33*$I$7),2) -> 48.74 | I33: =ROUND(F33*H33,2) -> 4385.63
A34: 4.2 | B34: SETOP | C34: PIS-CON-015 | D34: CONTRAPISO DESEMPENADO COM ARGAMASSA, TRAÇO 1:3 (CIMENTO E AREIA), ESP. 30MM | E34: M2 | F34: 89.98 | G34: 29.93 | H34: =ROUND(G34+(G34*$I$7),2) -> 38.86 | I34: =ROUND(F34*H34,2) -> 3496.62
A35: 4.3 | B35: SETOP | C35: PIS-CER-010 | D35: REVESTIMENTO COM CERÂMICA APLICADO EM PISO, ACABAMENTO ESMALTADO, AMBIENTE INTERNO, PADRÃO EXTRA, DIMENSÃO DA PEÇA ATÉ 2025 CM2, PEI V, ASSENTAMENTO COM ARGAMASSA INDUSTRIALIZADA, INCLUSIVE REJUNTAMENTO | E35: M2 | F35: 89.98 | G35: 70.56 | H35: =ROUND(G35+(G35*$I$7),2) -> 91.62 | I35: =ROUND(F35*H35,2) -> 8243.97
A36: 4.4 | B36: SETOP | C36: ROD-ARG-015 | D36: RODAPÉ COM ARGAMASSA, TRAÇO 1:3 (CIMENTO E AREIA), ESP. 2CM, ALTURA 10CM, DESEMPENADO / ALISADO COM COLHER | E36: M | F36: 53.7 | G36: 14.67 | H36: =ROUND(G36+(G36*$I$7),2) -> 19.05 | I36: =ROUND(F36*H36,2) -> 1022.99
A37: 4.5 | B37: SETOP | C37: URB-PAS-006 | D37: PASSEIOS DE CONCRETO E = 6 CM, FCK = 10 MPA, JUNTA SECA | E37: M2 | F37: 27.9 | G37: 42.25 | H37: =ROUND(G37+(G37*$I$7),2) -> 54.86 | I37: =ROUND(F37*H37,2) -> 1530.59
A38: 5 | D38: ESQUADRIAS | F38: ='MEMÓRIA DE CÁLCULO'!E78 -> 0 | H38: =ROUND(G38+(G38*$I$7),2) -> 0 | I38: =SUM(I39:I43) -> 10250.63
A39: 5.1 | B39: SETOP | C39: SEE-SER-165 | D39: PORTA METÁLICA 80 X 210 CM , INCLUINDO FECHADURA TIPO EXTERNA E FERRAGENS | E39: UN | F39: 2 | G39: 479.43 | H39: =ROUND(G39+(G39*$I$7),2) -> 622.49 | I39: =ROUND(F39*H39,2) -> 1244.98
A40: 5.2 | B40: SETOP | C40: SEDS-ESQ-035 | D40: JANELA VENEZIANA FIXA EM CHAPA 14 - PADRÃO SEDS | E40: M2 | F40: 11.18 | G40: 489.54 | H40: =ROUND(G40+(G40*$I$7),2) -> 635.62 | I40: =ROUND(F40*H40,2) -> 7106.23
A41: 5.3 | B41: SETOP | C41: VID-LIS-010 | D41: VIDRO COMUM LISO INCOLOR, ESP. 4MM, INCLUSIVE FIXAÇÃO E VEDAÇÃO COM GUARNIÇÃO/GAXETA DE BORRACHA NEOPRENE, FORNECIMENTO E INSTALAÇÃO, EXCLUSIVE CAIXILHO/PERFIL | E41: M2 | F41: 11.18 | G41: 92.54 | H41: =ROUND(G41+(G41*$I$7),2) -> 120.15 | I41: =ROUND(F41*H41,2) -> 1343.28
A42: 5.4 | B42: SETOP | C42: SOL-GRA-005 | D42: SOLEIRA DE GRANITO CINZA ANDORINHA E = 2 CM | E42: M² | F42: 0.4 | G42: 204.28 | H42: =ROUND(G42+(G42*$I$7),2) -> 265.24 | I42: =ROUND(F42*H42,2) -> 106.1
A43: 5.5 | B43: SETOP | C43: PEI-GRA-005 | D43: PEITORIL DE GRANITO CINZA ANDORINHA E = 2 CM | E43: M² | F43: 1.72 | G43: 201.52 | H43: =ROUND(G43+(G43*$I$7),2) -> 261.65 | I43: =ROUND(F43*H43,2) -> 450.04
A44: 6 | D44: FORRO E PINTURA | F44: ='MEMÓRIA DE CÁLCULO'!E88 -> 0 | H44: =ROUND(G44+(G44*$I$7),2) -> 0 | I44: =SUM(I45:I48) -> 15310.6
A45: 6.1 | B45: SETOP | C45: PIN-ESM-015 | D45: PINTURA ESMALTE EM ESQUADRIA DE MADEIRA, DUAS (2) DEMÃOS, INCLUSIVE UMA (1) DEMÃO DE FUNDO NIVELADOR, EXCLUSIVE MASSA A ÓLEO | E45: M2 | F45: 113.97 | G45: 17.62 | H45: =ROUND(G45+(G45*$I$7),2) -> 22.88 | I45: =ROUND(F45*H45,2) -> 2607.63
A46: 6.2 | B46: SETOP | C46: FOR-MAD-005 | D46: FORRO DE MADEIRA EM ANGELIM | E46: M2 | F46: 77 | G46: 70.23 | H46: =ROUND(G46+(G46*$I$7),2) -> 91.19 | I46: =ROUND(F46*H46,2) -> 7021.63
A47: 6.3 | B47: SETOP | C47: PIN-ACR-005 | D47: PINTURA ACRÍLICA EM PAREDE, DUAS (2) DEMÃOS, EXCLUSIVE SELADOR ACRÍLICO E MASSA ACRÍLICA/CORRIDA (PVA) | E47: M2 | F47: 283.5 | G47: 10.95 | H47: =ROUND(G47+(G47*$I$7),2) -> 14.22 | I47: =ROUND(F47*H47,2) -> 4031.37
A48: 6.4 | B48: SETOP | C48: PIN-SEL-005 | D48: PREPARAÇÃO PARA EMASSAMENTO OU PINTURA (LÁTEX/ACRÍLICA) EM PAREDE, INCLUSIVE UMA (1) DEMÃO DE SELADOR ACRÍLICO | E48: M2 | F48: 283.5 | G48: 4.48 | H48: =ROUND(G48+(G48*$I$7),2) -> 5.82 | I48: =ROUND(F48*H48,2) -> 1649.97
A49: 7 | D49: INSTALAÇÃO ELÉTRICA | F49: ='MEMÓRIA DE CÁLCULO'!E96 -> 0 | H49: =ROUND(G49+(G49*$I$7),2) -> 0 | I49: =SUM(I50:I63) -> 7346.18
A50: 7.1 | B50: SETOP | C50: 97592 | D50: LUMINÁRIA TIPO PLAFON, DE SOBREPOR, COM 1 LÂMPADA LED DE 12/13 W, SEM REATOR - FORNECIMENTO E INSTALAÇÃO. AF_02/2020 | E50: UN | F50: 6 | G50: 36.72 | H50: =ROUND(G50+(G50*$I$7),2) -> 47.68 | I50: =ROUND(F50*H50,2) -> 286.08
A51: 7.2 | B51: SETOP | C51: ELE-CAB-235 | D51: CABO DE COBRE FLEXÍVEL, CLASSE 5, ISOLAMENTO TIPO LSHF/ATOX, NÃO HALOGENADO, ANTICHAMA, TERMOPLÁSTICO, UNIPOLAR, SEÇÃO 2,5 MM2, 70°C, 450/750V | E51: M | F51: 200 | G51: 4.08 | H51: =ROUND(G51+(G51*$I$7),2) -> 5.3 | I51: =ROUND(F51*H51,2) -> 1060
A52: 7.3 | B52: SETOP | C52: ELE-CAB-245 | D52: CABO DE COBRE FLEXÍVEL, CLASSE 5, ISOLAMENTO TIPO LSHF/ATOX, NÃO HALOGENADO, ANTICHAMA, TERMOPLÁSTICO, UNIPOLAR, SEÇÃO 6 MM2, 70°C, 450/750V | E52: M | F52: 200 | G52: 8.18 | H52: =ROUND(G52+(G52*$I$7),2) -> 10.62 | I52: =ROUND(F52*H52,2) -> 2124
A53: 7.4 | B53: SETOP | C53: ELE-TOM-005 | D53: TOMADA SIMPLES - 2P + T - 10A COM PLACA | E53: UN | F53: 10 | G53: 22.62 | H53: =ROUND(G53+(G53*$I$7),2) -> 29.37 | I53: =ROUND(F53*H53,2) -> 293.7
A54: 7.5 | B54: SETOP | C54: ELE-INT-026 | D54: CONJUNTO 2 INTERRUPTORES SIMPLES COM PLACA | E54: UN | F54: 4 | G54: 21.75 | H54: =ROUND(G54+(G54*$I$7),2) -> 28.24 | I54: =ROUND(F54*H54,2) -> 112.96
A55: 7.6 | B55: SETOP | C55: ELE-QUA-006 | D55: QUADRO DE DISTRIBUIÇÃO PARA 12 MÓDULOS COM BARRAMENTO E CHAVE | E55: UN | F55: 1 | G55: 160.23 | H55: =ROUND(G55+(G55*$I$7),2) -> 208.04 | I55: =ROUND(F55*H55,2) -> 208.04
A56: 7.7 | B56: SETOP | C56: ELE-DIS-008 | D56: DISJUNTOR MONOPOLAR TERMOMAGNETICO 10A 30A | E56: UN | F56: 2 | G56: 17.56 | H56: =ROUND(G56+(G56*$I$7),2) -> 22.8 | I56: =ROUND(F56*H56,2) -> 45.6
A57: 7.8 | B57: SETOP | C57: ELE-TOM-005 | D57: TOMADA SIMPLES - 2P + T - 10A COM PLACA (ALTA) | E57: UN | F57: 4 | G57: 22.62 | H57: =ROUND(G57+(G57*$I$7),2) -> 29.37 | I57: =ROUND(F57*H57,2) -> 117.48
A58: 7.9 | B58: SETOP | C58: 91936 | D58: CAIXA OCTOGONAL 4" X 4", PVC, INSTALADA EM LAJE - FORNECIMENTO E INSTALAÇÃO. AF_12/2015 | E58: UN | F58: 6 | G58: 10.83 | H58: =ROUND(G58+(G58*$I$7),2) -> 14.06 | I58: =ROUND(F58*H58,2) -> 84.36
A59: 7.10 | B59: SETOP | C59: ELE-PLA-040 | D59: PLACA PARA CAIXA 2" X 4", 1 POSTO | E59: UN | F59: 16 | G59: 3.32 | H59: =ROUND(G59+(G59*$I$7),2) -> 4.31 | I59: =ROUND(F59*H59,2) -> 68.96
A60: 7.11 | B60: SETOP | C60: ELE-MAN-020 | D60: ELETRODUTO FLEXÍVEL CORRUGADO, PVC, ANTI-CHAMA DN 25 MM (3/4") - APLICAÇÃO EM ALVENARIA | E60: M | F60: 200 | G60: 6.47 | H60: =ROUND(G60+(G60*$I$7),2) -> 8.4 | I60: =ROUND(F60*H60,2) -> 1680
A61: 7.12 | B61: SETOP | C61: ELE-CAB-230 | D61: CABO DE COBRE FLEXÍVEL, CLASSE 5, ISOLAMENTO TIPO LSHF/ATOX, NÃO HALOGENADO, ANTICHAMA, TERMOPLÁSTICO, UNIPOLAR, SEÇÃO 1,5 MM2, 70°C, 450/750V | E61: M | F61: 200 | G61: 2.5 | H61: =ROUND(G61+(G61*$I$7),2) -> 3.25 | I61: =ROUND(F61*H61,2) -> 650
... A63: 7.14 | B63: SETOP | C63: INST-STVAL-010 | D63: PONTO SECO PARA INSTALAÇÃO DE SOM, TV, ALARME E LÓGICA, INCLUINDO ELETRODUTO DE PVC FLEXÍVEL CORRUGADO E CAIXA COM ESPELHO | E63: UN | F63: 2 | G63: 106.05 | H63: =ROUND(G63+(G63*$I$7),2) -> 137.7 | I63: =ROUND(F63*H63,2) -> 275.4
A64: 8 | D64: LIMPEZA | F64: ='MEMÓRIA DE CÁLCULO'!E143 -> 0 | H64: =ROUND(G64+(G64*$I$7),2) -> 0 | I64: =SUM(I65:I65) -> 563.27
A65: 8.1 | B65: SETOP | C65: LIM-GER-005 | D65: LIMPEZA PERMANENTE E GERAL DE OBRA | E65: M2 | F65: 89.98 | G65: 4.82 | H65: =ROUND(G65+(G65*$I$7),2) -> 6.26 | I65: =ROUND(F65*H65,2) -> 563.27
A67: TOTAL GERAL DA OBRA | I67: =SUM(I10+I14+I27+I32+I38+I44+I49+I64) -> 177857.41
A72: Engº. Civil: JOSÉ AIRTON JUNHO DOS REIS | E72: LUÍS FERNANDO ROSA DE CASTRO
A73: CREA: 56.250/D | E73: PREFEITO MUNICIPAL

Sheet MEMÓRIA DE CÁLCULO
A1: PREFEITURA MUNICIPAL DE CONCEIÇÃO DOS OUROS Praça José Maria de Souza, nº 01 - Centro, CEP 37548-000
A2: ITEM | B2: CÓDIGO | C2: DESCRIÇÃO | D2: UNID | E2: QUANT | F2: MEMÓRIA DE CÁLCULO | H2: DESCRIÇÃO | I2: UNID | J2: QUANT | K2: MEMÓRIA DE CÁLCULO
A3: 1 | C3: CONSTRUÇÃO DO CENTRO MUNICIPAL DE EDUCAÇÃO INFANTIL | E3: 0 | H3: CONSTRUÇÃO DE ESCOLA MUNICIPAL | J3: 0
A4: =PLANILHA!A10 -> 1 | B4: =PLANILHA!C10 -> 0 | C4: =PLANILHA!D10 -> SERVIÇOS PRELIMINARES | D4: =PLANILHA!E10 | E4: 0 | H4: SERVIÇOS PRELIMINARES | J4: 0
A5: =PLANILHA!A11 -> 1.1 | B5: =PLANILHA!C11 -> IIO-PLA-005 | C5: =PLANILHA!D11 -> FORNECIMENTO E COLOCAÇÃO DE PLACA DE OBRA EM CHAPA GALVANIZADA (3,00 X 1,5 0 M) - EM CHAPA GALVANIZADA 0,26 AFIXADAS COM REBITES 540 E PARAFUSOS 3/8, EM ESTRUTURA METÁLICA VIGA U 2" ENRIJECIDA COM METALON 20 X 20, SUPORTE EM EUCALIPTO AUTOCLAVADO PINTADAS | D5: =PLANILHA!E11 -> UNID. | E5: 1 | F5: Placa de Obra 3,00x1,50 m | H5: PLACA DE OBRA EM CHAPA DE ACO GALVANIZADO | I5: M2 | J5: 4.5 | K5: Placa de Obra 3,00x1,50 m
A6: =PLANILHA!#REF! -> #REF! | B6: =PLANILHA!#REF! -> #REF! | C6: =PLANILHA!#REF! -> #REF! | D6: =PLANILHA!#REF! -> #REF! | E6: 1 | F6: 1
A7: =PLANILHA!#REF! -> #REF! | B7: =PLANILHA!#REF! -> #REF! | C7: =PLANILHA!#REF! -> #REF! | D7: =PLANILHA!#REF! -> #REF! | E7: 1 | F7: 1
A8: =PLANILHA!#REF! -> #REF! | B8: =PLANILHA!#REF! -> #REF! | C8: =PLANILHA!#REF! -> #REF! | D8: =PLANILHA!#REF! -> #REF! | E8: 20 | F8: 2,50*8,00 m
A9: 1.1.5 | B9: =PLANILHA!C12 -> IIO-BAR-015 | C9: =PLANILHA!D12 -> BARRACÃO DEPÓSITO E FERRAMENTARIA TIPO I, A = 14,52 M2 (OBRA DE PEQUENO PORTE, EFETIVO ATÉ 30 HOMENS), INCLUSIVE MOBILIÁRIO - PADRÃO DEER-MG | D9: UNID. | E9: 1 | F9: 1
A10: =PLANILHA!#REF! -> #REF! | B10: =PLANILHA!#REF! -> #REF! | C10: =PLANILHA!#REF! -> #REF! | D10: =PLANILHA!#REF! -> #REF! | E10: 1 | F10: 1% do valor da obra
A11: =PLANILHA!A13 -> 1.3 | B11: =PLANILHA!C13 -> LOC-OBR-005 | C11: =PLANILHA!D13 -> LOCAÇÃO DA OBRA (GABARITO) | D11: =PLANILHA!E13 -> M2 | E11: 880.53 | F11: 880,53m²
A12: =PLANILHA!#REF! -> #REF! | B12: =PLANILHA!#REF! -> #REF! | C12: =PLANILHA!#REF! -> #REF! | D12: =PLANILHA!#REF! -> #REF!
A13: =PLANILHA!#REF! -> #REF! | B13: =PLANILHA!#REF! -> #REF! | C13: =PLANILHA!#REF! -> #REF! | D13: =PLANILHA!#REF! -> #REF! | E13: 1 | F13: 1 prancha A1
A14: =PLANILHA!#REF! -> #REF! | B14: =PLANILHA!#REF! -> #REF! | C14: =PLANILHA!#REF! -> #REF! | D14: =PLANILHA!#REF! -> #REF! | E14: 2 | F14: 2 pranchas A1
A15: =PLANILHA!#REF! -> #REF! | B15: =PLANILHA!#REF! -> #REF! | C15: =PLANILHA!#REF! -> #REF! | D15: =PLANILHA!#REF! -> #REF! | E15: 2 | F15: 2 pranchas A1
A16: =PLANILHA!#REF! -> #REF! | B16: =PLANILHA!#REF! -> #REF! | C16: =PLANILHA!#REF! -> #REF! | D16: =PLANILHA!#REF! -> #REF! | E16: 2 | F16: 2 pranchas A1
A17: =PLANILHA!#REF! -> #REF! | B17: =PLANILHA!#REF! -> #REF! | C17: =PLANILHA!#REF! -> #REF! | D17: =PLANILHA!#REF! -> #REF! | E17: 2 | F17: 2 pranchas A1
A18: =PLANILHA!#REF! -> #REF! | B18: =PLANILHA!#REF! -> #REF! | C18: =PLANILHA!#REF! -> #REF! | D18: =PLANILHA!#REF! -> #REF! | E18: 2 | F18: 2 pranchas A1
A19: =PLANILHA!#REF! -> #REF! | B19: =PLANILHA!#REF! -> #REF! | C19: =PLANILHA!#REF! -> #REF! | D19: =PLANILHA!#REF! -> #REF! | E19: 2 | F19: 2 pranchas A1
A20: =PLANILHA!#REF! -> #REF! | B20: =PLANILHA!#REF! -> #REF! | C20: =PLANILHA!#REF! -> #REF! | D20: =PLANILHA!#REF! -> #REF! | E20: 2 | F20: 1 prancha A1
A21: =PLANILHA!A14 -> 2 | B21: =PLANILHA!C14 -> 0 | C21: =PLANILHA!D14 -> FUNDAÇÃO E SUPERESTRUTURA | D21: =PLANILHA!E14 | H21: FUNDAÇÃO E SUPERESTRUTURA | J21: 0
A22: =PLANILHA!#REF! -> #REF! | B22: =PLANILHA!#REF! -> #REF! | C22: =PLANILHA!#REF! -> #REF! | D22: =PLANILHA!#REF! -> #REF! | E22: 56.56 | F22: (50,15*4 + 5,19 + 6 + 6 + 1,5 + 2,15 + 4,15 + 5*1,25 + 23,9*2 + 1,5 + 3*2 + 5,85*12)*0,3*0,4 + (0,6*0,6*0,5*76) | H22: ESCAVAÇÃO MANUAL DE VALA COM PROFUNDIDADE MENOR OU IGUAL A 1,30 M. AF_03/2016 | I22: M3 | J22: 65.4916 | K22: (482,43*0,3*0,4)+(0,5*0,5*0,4*76)
A23: =PLANILHA!#REF! -> #REF! | B23: =PLANILHA!#REF! -> #REF! | C23: =PLANILHA!#REF! -> #REF! | D23: =PLANILHA!#REF! -> #REF! | E23: 1 | F23: 1 vb
A24: =PLANILHA!#REF! -> #REF! | B24: =PLANILHA!#REF! -> #REF! | C24: =PLANILHA!#REF! -> #REF! | D24: =PLANILHA!#REF! -> #REF! | E24: 1020 | F24: 85*12 | H24: ESTACA PRÉ-MOLDADA DE CONCRETO, SEÇÃO QUADRADA, CAPACIDADE DE 25 TONELADAS, COMPRIMENTO TOTAL CRAVADO ACIMA DE 5M ATÉ 12M, BATE-ESTACAS POR GRAVIDADE SOBRE ROLOS (EXCLUSIVE MOBILIZAÇÃO E DESMOBILIZAÇÃO). AF_03/2016 | I24: M | J24: 912 | K24: (76)*12
A25: =PLANILHA!A17 -> 2.3 | B25: =PLANILHA!C17 -> FUN-FOR-005 | C25: =PLANILHA!D17 -> FORMA E DESFORMA DE TÁBUA E SARRAFO, REAPROVEITAMENTO (3X) (FUNDAÇÃO) | D25: =PLANILHA!E17 -> M2 | E25: 305.6 | F25: (50,15*4 + 5,19 + 6 + 6 + 1,5 + 2,15 + 4,15 + 5*1,25 + 23,9*2 + 1,5 + 3*2 + 5,85*12)*0,3*2 + (0,6*4*0,5*76) | H25: FABRICAÇÃO, MONTAGEM E DESMONTAGEM DE FÔRMA PARA VIGA BALDRAME, EM MADEIRA SERRADA, E=25 MM, 4 UTILIZAÇÕES. AF_06/2017 | I25: M2 | J25: 509.858 | K25: (((482,43*2)*0,3)+((76*0,8*3,5)+(0,5*0,5*0,4)*76))
A26: =PLANILHA!#REF! -> #REF! | B26: =PLANILHA!#REF! -> #REF! | C26: =PLANILHA!#REF! -> #REF! | D26: =PLANILHA!#REF! -> #REF! | H26: PISO EM CONCRETO 20MPA PREPARO MECANICO, ESPESSURA 7 CM, COM ARMACAO EM TELA SOLDADA | I26: M2 | J26: 880.525 | K26: (50,15*8,15)+(41,85*8,15)+(15,75*8,3)
A27: =PLANILHA!#REF! -> #REF! | B27: =PLANILHA!#REF! -> #REF! | C27: =PLANILHA!#REF! -> #REF! | D27: =PLANILHA!#REF! -> #REF! | E27: 16.23 | F27: 231,8*0,07 | H27: ARMAÇÃO DE PILAR OU VIGA DE UMA ESTRUTURA CONVENCIONAL DE CONCRETO ARMADO EM UMA EDIFICAÇÃO TÉRREA OU SOBRADO UTILIZANDO AÇO CA-50 DE 10,0 MM - MONTAGEM. AF_12/2015 | I27: KG | J27: 5121.6 | K27: 46,56*110
A28: =PLANILHA!#REF! -> #REF! | B28: =PLANILHA!#REF! -> #REF! | C28: =PLANILHA!#REF! -> #REF! | D28: =PLANILHA!#REF! -> #REF! | E28: 61.64 | F28: (880,53*0,07) | H28: ATERRO MANUAL DE VALAS COM SOLO ARGILO-ARENOSO E COMPACTAÇÃO MECANIZADA. AF_05/2016 | I28: M3 | J28: 264.159 | K28: 880,53*0,3
A29: =PLANILHA!#REF! -> #REF! | B29: =PLANILHA!#REF! -> #REF! | C29: =PLANILHA!#REF! -> #REF! | D29: =PLANILHA!#REF! -> #REF! | E29: 880.53 | F29: 880.53 | H29: CONCRETO FCK = 25MPA, TRAÇO 1:2,3:2,7 (CIMENTO/ AREIA MÉDIA/ BRITA 1) - PREPARO MECÂNICO COM BETONEIRA 400 L. AF_07/2016 | I29: M3 | J29: 46.5558 | K29: ((482,43*0,3*0,2)+(72*3,5*0,15*0,25)+(4*3,5*0,2*0,2)+(76*0,5*0,5*0,4))
A30: =PLANILHA!#REF! -> #REF! | B30: =PLANILHA!#REF! -> #REF! | C30: =PLANILHA!#REF! -> #REF! | D30: =PLANILHA!#REF! -> #REF! | E30: 1303.18 | F30: 1,48*880,53 | H30: ALVENARIA DE VEDAÇÃO DE BLOCOS VAZADOS DE CONCRETO DE 14X19X39CM (ESPESSURA 14CM) DE PAREDES COM ÁREA LÍQUIDA MAIOR OU IGUAL A 6M² COM VÃOS E ARGAMASSA DE ASSENTAMENTO COM PREPARO EM BETONEIRA. AF_06/2014 | I30: M2 | J30: 1202.915 | K30: ((44*2)+(41,85*2)+(6,15*13)+(15,75*2)+(6,3*5)+(29,04))*3,5
A31: =PLANILHA!#REF! -> #REF! | B31: =PLANILHA!#REF! -> #REF! | C31: =PLANILHA!#REF! -> #REF! | D31: =PLANILHA!#REF! -> #REF! | E31: 880.53 | F31: 880.53 | H31: CINTA DE AMARRAÇÃO DE ALVENARIA MOLDADA IN LOCO EM CONCRETO. AF_03/2016 | I31: M | J31: 240.4 | K31: (44*2+6,15*2)+(15,75*2+6,3*2)+(41,85*2+6,15*2)
A32: =PLANILHA!#REF! -> #REF! | B32: =PLANILHA!#REF! -> #REF! | C32: =PLANILHA!#REF! -> #REF! | D32: =PLANILHA!#REF! -> #REF! | E32: 11236.15 | F32: 85*(107,22+24,97) | H32: CHAPISCO APLICADO EM ALVENARIAS E ESTRUTURAS DE CONCRETO INTERNAS, COM COLHER DE PEDREIRO. ARGAMASSA TRAÇO 1:3 COM PREPARO EM BETONEIRA 400L. AF_06/2014 | I32: M2 | J32: 2405.84 | K32: Chapisco 1.202,92 x 2 Lados
A33: =PLANILHA!#REF! -> #REF! | B33: =PLANILHA!#REF! -> #REF! | C33: =PLANILHA!#REF! -> #REF! | D33: =PLANILHA!#REF! -> #REF! | E33: 264.16 | F33: 880,53*0,3 | H33: MASSA ÚNICA, PARA RECEBIMENTO DE PINTURA, EM ARGAMASSA TRAÇO 1:2:8, PREPARO MECÂNICO COM BETONEIRA 400L, APLICADA MANUALMENTE EM FACES INTERNAS DE PAREDES, ESPESSURA DE 20MM, COM EXECUÇÃO DE TALISCAS. AF_06/2014 | I33: M2 | J33: 2405.84 | K33: Reboco 1.202,92 x 2 Lados
A34: =PLANILHA!#REF! -> #REF! | B34: =PLANILHA!#REF! -> #REF! | C34: =PLANILHA!#REF! -> #REF! | D34: =PLANILHA!#REF! -> #REF! | E34: 107.22 | F34: ((50,15*4 + 5,19 + 6 + 6 + 1,5 + 2,15 + 4,15 + 5*1,25 + 23,9*2 + 1,5 + 3*2 + 5,85*12)*0,2*0,3) + (0,6*0,6*0,5*76)+ (1020*3,1416*0,30*0,30/4) | H34: MOBILIZAÇÃO E DESMOBILIZAÇÃO DE EQUIPAMENTO PARA ESTACA PRÉ-MOLDADA DE CONCRETO ARMADO, CRAVADA. | I34: UNIDADE | J34: 1 | K34: MOBILIZAÇÃO E DESMOBILIZAÇÃO DO EQUIPAMENTO BATE ESTACA
A35: =PLANILHA!A20 -> 2.6 | B35: =PLANILHA!C20 -> ALV-BLO-010 | C35: =PLANILHA!D20 -> ALVENARIA DE VEDAÇÃO COM BLOCO DE CONCRETO, ESP. 14CM, PARA REVESTIMENTO, INCLUSIVE ARGAMASSA PARA ASSENTAMENTO | D35: =PLANILHA!E20 -> M2 | E35: 967.32 | F35: ((44*2)+(41,85*2)+(6,15*13)+(15,75*2)+(6,3*5)+(5,19)+(1,5*2))*2,9 + ((3*2)+(1,4*5)+(0,3*6))*2,1 | H35: ALVENARIA DE VEDAÇÃO DE BLOCOS VAZADOS DE CONCRETO DE 19X19X39CM (ESPESSURA 19CM) DE PAREDES COM ÁREA LÍQUIDA MAIOR OU IGUAL A 6M² COM VÃOS E ARGAMASSA DE ASSENTAMENTO COM PREPARO EM BETONEIRA. AF_06/2014 | I35: M2 | J35: 171.84571 | K35: Alvenaria de Base (1202,92/3,5)*0,5
A36: =PLANILHA!A21 -> 2.7 | B36: =PLANILHA!C21 -> CIN-BLO-010 | C36: =PLANILHA!D21 -> CINTA DE AMARRAÇÃO DE ALVENARIA COM BLOCO DE CONCRETO ESTRUTURAL, CANALETA TIPO "U", ESP. 14CM, (FBK 4,5MPA), PARA REVESTIMENTO, INCLUSIVE ARGAMASSA PARA ASSENTAMENTO, EXCLUSIVE GRAUTE E ARMAÇÃO | D36: =PLANILHA!E21 -> M | E36: 943.95 | F36: ((44*2)+(41,85*2)+(6,15*13)+(15,75*2)+(6,3*5))*3 | H36: CHAPISCO APLICADO EM ALVENARIAS E ESTRUTURAS DE CONCRETO INTERNAS, COM COLHER DE PEDREIRO. ARGAMASSA TRAÇO 1:3 COM PREPARO EM BETONEIRA 400L. AF_06/2014 | I36: M2 | J36: 343.7 | K36: (171,85*2)
A37: =PLANILHA!A22 -> 2.8 | B37: =PLANILHA!C22 -> REV-CHA-005 | C37: =PLANILHA!D22 -> CHAPISCO COM ARGAMASSA, TRAÇO 1:3 (CIMENTO E AREIA), ESP. 5MM, APLICADO EM ALVENARIA / ESTRUTURA DE CONCRETO COM COLHER, PREPARO MECÂNICO | D37: =PLANILHA!E22 -> M2 | E37: 1161.02 | F37: ((44*2)+(41,85*2)+(6,15*13)+(15,75*2)+(6,3*5)+(5,19)+(1,5*2))*3,5 + ((3*2)+(1,4*5)+(0,3*6))*2,1 | H37: REBOCO COM ARGAMASSA, TRAÇO 1:2:9 (CIMENTO, CAL E AREIA), COM ADITIVO IMPERMEABILIZANTE, ESP.20MM, APLICAÇÃO MANUAL, PREPARO MECÂNICO | I37: M2 | J37: 343.7 | K37: (171,85*2)
A38: =PLANILHA!A23 -> 2.9 | B38: =PLANILHA!C23 -> REV-REB-015 | C38: =PLANILHA!D23 -> REBOCO COM ARGAMASSA, TRAÇO 1:2:8 (CIMENTO, CAL E AREIA), ESP. 20MM, APLICAÇÃO MANUAL, PREPARO MECÂNICO | D38: =PLANILHA!E23 -> M2 | E38: 1161.02 | F38: ((44*2)+(41,85*2)+(6,15*13)+(15,75*2)+(6,3*5)+(5,19)+(1,5*2))*3,5 + ((3*2)+(1,4*5)+(0,3*6))*2,1 | H38: IMPERMEABILIZAÇÃO DE PAREDES COM ARGAMASSA DE CIMENTO E AREIA, COM ADITIVO IMPERMEABILIZANTE, E = 2CM. AF_06/2018 | I38: M2 | J38: 171.84571 | K38: (1202,92/3,5)*0,5
A39: =PLANILHA!#REF! -> #REF! | B39: =PLANILHA!#REF! -> #REF! | C39: =PLANILHA!#REF! -> #REF! | D39: =PLANILHA!#REF! -> #REF! | E39: 64.57 | F39: ((44*2)+(41,85*2)+(6,15*13)+(15,75*2)+(6,3*5)+(5,19)+(1,5*2))*0,2 | H39: COBERTURA | J39: 0
A40: =PLANILHA!#REF! -> #REF! | B40: =PLANILHA!#REF! -> #REF! | C40: =PLANILHA!#REF! -> #REF! | D40: =PLANILHA!#REF! -> #REF! | E40: 129.14 | F40: (((44*2)+(41,85*2)+(6,15*13)+(15,75*2)+(6,3*5)+(5,19)+(1,5*2))*0,2)*2 | H40: ESTRUTURA DE AÇO PARA COBERTURA EM ARCO, ESPAÇAMENTO ENTRE ARCOS 4 M, VÃO 15 M | I40: M2 | J40: 880.525 | K40: (50,15*8,15)+(41,85*8,15)+(15,75*8,3)
A41: =PLANILHA!#REF! -> #REF! | B41: =PLANILHA!#REF! -> #REF! | C41: =PLANILHA!#REF! -> #REF! | D41: =PLANILHA!#REF! -> #REF! | E41: 129.14 | F41: (((44*2)+(41,85*2)+(6,15*13)+(15,75*2)+(6,3*5)+(5,19)+(1,5*2))*0,2)*2 | H41: COBERTURA EM TELHA METÁLICA GALVANIZADA TRAPEZOIDAL, TIPO DUPLA TERMOACÚSTICA COM DUAS FACES TRAPEZOIDAIS, ESP.0,43MM, PREENCHIMENTO EM POLIESTIRENO EXPANDIDO/ISOPOR COM ESP.30MM, ACABAMENTO NATURAL, INCLUSIVE ACESSÓRIOS PARA FIXAÇÃO, FORNECIMENTO E INSTALAÇÃO | I41: M2 | J41: 880.525 | K41: (50,15*8,15)+(41,85*8,15)+(15,75*8,3)
A42: =PLANILHA!A24 -> 2.10 | B42: =PLANILHA!C24 -> IMP-ARG-005 | C42: =PLANILHA!D24 -> IMPERMEABILIZAÇÃO COM ARGAMASSA TRAÇO 1:3, E = 2,50 CM COM ADITIVO | D42: =PLANILHA!E24 -> M2 | E42: 161.42 | F42: =((44*2)+(41.85*2)+(6.15*13)+(15.75*2)+(6.3*5)+(5.19)+(1.5*2))*0.5 -> 161.42 | H42: CALHA EM CHAPA DE AÇO GALVANIZADO NÚMERO 24, DESENVOLVIMENTO DE 50 CM, INCLUSO TRANSPORTE VERTICAL. AF_06/2016 | I42: M | J42: 217.35 | K42: (51,15+41,85+24,9+15,75+41,85+41,85)
A43: =PLANILHA!A25 -> 2.11 | B43: =PLANILHA!C25 -> 92273 | C43: =PLANILHA!D25 -> FABRICAÇÃO DE ESCORAS DO TIPO PONTALETE, EM MADEIRA, PARA PÉ-DIREITO SIMPLES. AF_09/2020 | D43: =PLANILHA!E25 -> M2 | E43: =E44+E45 -> 76.48 | F43: (6,3*6,45) + (1,8*1,8) + (5,30*6,15)
A44: =PLANILHA!#REF! -> #REF! | B44: =PLANILHA!#REF! -> #REF! | C44: =PLANILHA!#REF! -> #REF! | D44: =PLANILHA!#REF! -> #REF! | E44: 43.88 | F44: (6,3*6,45) + (1,8*1,8)
A45: =PLANILHA!A26 -> 2.12 | B45: =PLANILHA!C26 -> LAJ-REV-015 | C45: =PLANILHA!D26 -> LAJE PRÉ-MOLDADA, A REVESTIR, INCLUSIVE CAPEAMENTO E = 4CM, SC = 100 KG/M2, L = 5,00 M | D45: =PLANILHA!E26 -> M2 | E45: 32.6 | F45: 5,3*6,15
A46: 1.2.20 | B46: =PLANILHA!#REF! -> #REF! | C46: =PLANILHA!#REF! -> #REF! | D46: =PLANILHA!#REF! -> #REF! | E46: 24.97 | F46: (85*0,1*0,1*3,5*3) + ((44*2)+(41,85*2)+(6,15*13)+(15,75*2)+(6,3*5))*3*0,1*0,17
A47: =PLANILHA!A27 -> 3 | B47: =PLANILHA!C27 -> 0 | C47: =PLANILHA!D27 -> COBERTURA | D47: =PLANILHA!E27 | H47: TUBO PVC, SÉRIE R, ÁGUA PLUVIAL, DN 100 MM, FORNECIDO E INSTALADO EM CONDUTORES VERTICAIS DE ÁGUAS PLUVIAIS. AF_12/2014 | I47: M | J47: 98 | K47: (14*2)*3,5
A48: =PLANILHA!A28 -> 3.1 | B48: =PLANILHA!C28 -> COB-ENG-005 | C48: =PLANILHA!D28 -> ENGRADAMENTO PARA TELHAS CERÂMICA OU CONCRETO EM MADEIRA PARAJU | D48: =PLANILHA!E28 -> M2 | E48: 14961.45 | F48: 15*997,43 | H48: INSTALAÇÃO HIDRO-SANITÁRIA | J48: 0
A49: =PLANILHA!A29 -> 3.2 | B49: =PLANILHA!C29 -> COB-TEL-010 | C49: =PLANILHA!D29 -> COBERTURA EM TELHA CERÂMICA COLONIAL PLANA, 24 UNID/M2 | D49: =PLANILHA!E29 -> M2 | E49: 997.43 | F49: 997.43 | H49: PONTO DE ESGOTO, INCLUINDO TUBO DE PVC RÍGIDO SOLDÁVEL DE 40 MM E CONEXÕES (LAVATÓRIOS, MICTÓRIOS, RALOS SIFONADOS, ETC.) | I49: UN. | J49: 11 | K49: 11 unidades
A50: =PLANILHA!A30 -> 3.3 | B50: =PLANILHA!C30 -> PLU-CAL-045 | C50: =PLANILHA!D30 -> CALHA DE CHAPA GALVANIZADA Nº. 24 GSG, DESENVOLVIMENTO = 50 CM | D50: =PLANILHA!E30 -> M | E50: 235.8 | F50: 235.8 | H50: PONTO DE ESGOTO, INCLUINDO TUBO DE PVC RÍGIDO SOLDÁVEL DE 100 MM E CONEXÕES (VASO SANITÁRIO) | I50: UN. | J50: 9 | K50: 9 unidades
A51: =PLANILHA!A31 -> 3.4 | B51: =PLANILHA!C31 -> PLU-CON-005 | C51: =PLANILHA!D31 -> CONDUTOR DE AP DO TELHADO EM TUBO PVC ESGOTO, INCLUSIVE CONEXÕES E SUPORTES, 100MM | D51: =PLANILHA!E31 -> M | E51: 98 | F51: 14*2*3,5 | H51: CAIXA SIFONADA, PVC, DN 100 X 100 X 50 MM, FORNECIDA E INSTALADA EM RAMAIS DE ENCAMINHAMENTO DE ÁGUA PLUVIAL. AF_12/2014 | I51: UN | J51: 5 | K51: 5 unidades
A52: =PLANILHA!#REF! -> #REF! | B52: =PLANILHA!#REF! -> #REF! | C52: =PLANILHA!#REF! -> #REF! | D52: =PLANILHA!#REF! -> #REF! | H52: PONTO DE CONSUMO TERMINAL DE ÁGUA FRIA (SUBRAMAL) COM TUBULAÇÃO DE PVC, DN 25 MM, INSTALADO EM RAMAL DE ÁGUA, INCLUSOS RASGO E CHUMBAMENTO EM ALVENARIA. AF_12/2014 | I52: UN | J52: 9 | K52: 9 unidades
A53: =PLANILHA!#REF! -> #REF! | B53: =PLANILHA!#REF! -> #REF! | C53: =PLANILHA!#REF! -> #REF! | D53: =PLANILHA!#REF! -> #REF! | E53: 16 | F53: 8 lavatórios, 3 mictórios 5 ralos sifonados | H53: CAIXA D´ÁGUA EM POLIETILENO, 1000 LITROS, COM ACESSÓRIOS | I53: UN | J53: 3 | K53: 3 unidades
A54: =PLANILHA!#REF! -> #REF! | B54: =PLANILHA!#REF! -> #REF! | C54: =PLANILHA!#REF! -> #REF! | D54: =PLANILHA!#REF! -> #REF! | E54: 9 | F54: 9 vasos | H54: TORNEIRA DE BOIA, ROSCÁVEL, 3/4 , FORNECIDA E INSTALADA EM RESERVAÇÃO DE ÁGUA. AF_06/2016 | I54: UN | J54: 1 | K54: 1 unidade
A55: =PLANILHA!#REF! -> #REF! | B55: =PLANILHA!#REF! -> #REF! | C55: =PLANILHA!#REF! -> #REF! | D55: =PLANILHA!#REF! -> #REF! | E55: 5 | F55: 2 pias, 2 tanques e 1 máquina | H55: BARRA DE APOIO RETA, EM ACO INOX POLIDO, COMPRIMENTO 80CM, DIAMETRO MINIMO 3 CM | I55: UN | J55: 2 | K55: 2 unidades
A56: =PLANILHA!#REF! -> #REF! | B56: =PLANILHA!#REF! -> #REF! | C56: =PLANILHA!#REF! -> #REF! | D56: =PLANILHA!#REF! -> #REF! | E56: 5 | F56: 2 banheiros, 1 wc, 1 cozinha e 1 lavanderia | H56: BARRA DE APOIO RETA, EM ACO INOX POLIDO, COMPRIMENTO 90 CM, DIAMETRO MINIMO 3 CM | I56: UN | J56: 2 | K56: 2 unidades
A57: =PLANILHA!#REF! -> #REF! | B57: =PLANILHA!#REF! -> #REF! | C57: =PLANILHA!#REF! -> #REF! | D57: =PLANILHA!#REF! -> #REF! | E57: 16 | F57: 8 lavatórios, 3 mictórios, 2 pias, 2 tanques e 1 máquina | H57: PISOS E AZULEJOS | J57: 0
A58: =PLANILHA!#REF! -> #REF! | B58: =PLANILHA!#REF! -> #REF! | C58: =PLANILHA!#REF! -> #REF! | D58: =PLANILHA!#REF! -> #REF! | E58: 3 | F58: 2 banheiros e 1 cozinha | H58: REVESTIMENTO CERÂMICO PARA PAREDES INTERNAS COM PLACAS TIPO ESMALTADA EXTRA DE DIMENSÕES 20X20 CM APLICADAS EM AMBIENTES DE ÁREA MAIOR QUE 5 M² A MEIA ALTURA DAS PAREDES. AF_06/2014 | I58: M2 | J58: 206.6 | K58: (((6*2)+(4*3)+(3*1,5)+(1,65+1,99+2,14))+((6*2)+(4*3)+(4,16*2)+(6*1,5)))*2+((4*1,5)*2)+((5+5+5,85+5,85))*2
A59: =PLANILHA!#REF! -> #REF! | B59: =PLANILHA!#REF! -> #REF! | C59: =PLANILHA!#REF! -> #REF! | D59: =PLANILHA!#REF! -> #REF! | E59: 3 | F59: 3 entradas caixas d'água | H59: (COMPOSIÇÃO REPRESENTATIVA) DO SERVIÇO DE CONTRAPISO EM ARGAMASSA TRAÇO 1:4 (CIM E AREIA), EM BETONEIRA 400 L, ESPESSURA 3 CM ÁREAS SECAS E 3 CM ÁREAS MOLHADAS, PARA EDIFICAÇÃO HABITACIONAL UNIFAMILIAR (CASA) E EDIFICAÇÃO PÚBLICA PADRÃO. AF_11/2014 | I59: M2 | J59: 880.53 | K59: 880.53
A60: =PLANILHA!#REF! -> #REF! | B60: =PLANILHA!#REF! -> #REF! | C60: =PLANILHA!#REF! -> #REF! | D60: =PLANILHA!#REF! -> #REF! | E60: 3 | F60: 3 saídas caixas d'água | H60: REVESTIMENTO CERÂMICO PARA PISO COM PLACAS TIPO ESMALTADA EXTRA DE DIMENSÕES 45X45 CM APLICADA EM AMBIENTES DE ÁREA ENTRE 5 M2 E 10 M2. AF_06/2014 | I60: M2 | J60: 880.53 | K60: 880.53
A61: =PLANILHA!#REF! -> #REF! | B61: =PLANILHA!#REF! -> #REF! | C61: =PLANILHA!#REF! -> #REF! | D61: =PLANILHA!#REF! -> #REF! | E61: 3 | F61: 3 caixas d'água | H61: RODAPÉ CERÂMICO DE 7CM DE ALTURA COM PLACAS TIPO ESMALTADA EXTRA DE DIMENSÕES 45X45CM. AF_06/2014 | I61: M | J61: 468.78 | K61: ((8,19*2)+(5,85*2))*9+((5,19*4+2,85*4)+(5*2+5,85*2)+(6*2+4*2)+(6*2+5*2))+(44+6,15+6,3+15,75+6,15+41,85)
A62: =PLANILHA!#REF! -> #REF! | B62: =PLANILHA!#REF! -> #REF! | C62: =PLANILHA!#REF! -> #REF! | D62: =PLANILHA!#REF! -> #REF! | E62: 1 | F62: 1 reservatório enterrado | H62: EXECUÇÃO DE PASSEIO (CALÇADA) OU PISO DE CONCRETO COM CONCRETO MOLDADO IN LOCO, FEITO EM OBRA, ACABAMENTO CONVENCIONAL, NÃO ARMADO. AF_07/2016 | I62: M3 | J62: 13.671 | K62: ((53,15+53,15+29,3+8,15+8,15)*1,5)*0,06
A63: =PLANILHA!#REF! -> #REF! | B63: =PLANILHA!#REF! -> #REF! | C63: =PLANILHA!#REF! -> #REF! | D63: =PLANILHA!#REF! -> #REF! | E63: 1 | F63: 1 reservatório enterrado
A64: =PLANILHA!#REF! -> #REF! | B64: =PLANILHA!#REF! -> #REF! | C64: =PLANILHA!#REF! -> #REF! | D64: =PLANILHA!#REF! -> #REF! | E64: 1 | F64: 1
A65: =PLANILHA!#REF! -> #REF! | B65: =PLANILHA!#REF! -> #REF! | C65: =PLANILHA!#REF! -> #REF! | D65: =PLANILHA!#REF! -> #REF! | E65: 1 | F65: 1
A66: =PLANILHA!#REF! -> #REF! | B66: =PLANILHA!#REF! -> #REF! | C66: =PLANILHA!#REF! -> #REF! | D66: =PLANILHA!#REF! -> #REF! | E66: 5 | F66: 5
A67: =PLANILHA!#REF! -> #REF! | B67: =PLANILHA!#REF! -> #REF! | C67: =PLANILHA!#REF! -> #REF! | D67: =PLANILHA!#REF! -> #REF! | E67: 28 | F67: 28 (águas pluviais)
A68: =PLANILHA!#REF! -> #REF! | B68: =PLANILHA!#REF! -> #REF! | C68: =PLANILHA!#REF! -> #REF! | D68: =PLANILHA!#REF! -> #REF! | E68: 100 | F68: 100,00m
A69: =PLANILHA!#REF! -> #REF! | B69: =PLANILHA!#REF! -> #REF! | C69: =PLANILHA!#REF! -> #REF! | D69: =PLANILHA!#REF! -> #REF! | E69: 30 | F69: 30,00m
A70: =PLANILHA!#REF! -> #REF! | B70: =PLANILHA!#REF! -> #REF! | C70: =PLANILHA!#REF! -> #REF! | D70: =PLANILHA!#REF! -> #REF! | E70: 100 | F70: 100,00m
A71: =PLANILHA!A32 -> 4 | B71: =PLANILHA!C32 -> 0 | C71: =PLANILHA!D32 -> PISOS E AZULEJOS | D71: =PLANILHA!E32 | E71: 0
A72: =PLANILHA!#REF! -> #REF! | B72: =PLANILHA!#REF! -> #REF! | C72: =PLANILHA!#REF! -> #REF! | D72: =PLANILHA!#REF! -> #REF! | E72: 299.29 | F72: ((5,19+2,85+5+5,85)*2*3,5) + ((6,15+6,3+1,5+1,5)*2,1) + ((3*8 + 1,25*10 + 0,3*12 + 6*4))*2,1
A73: =PLANILHA!A34 -> 4.2 | B73: =PLANILHA!C34 -> PIS-CON-015 | C73: =PLANILHA!D34 -> CONTRAPISO DESEMPENADO COM ARGAMASSA, TRAÇO 1:3 (CIMENTO E AREIA), ESP. 30MM | D73: =PLANILHA!E34 -> M2 | E73: 119.25 | F73: (5,85*5)+(5*6)+(4*6)+((3*6)*2)
A74: =PLANILHA!A35 -> 4.3 | B74: =PLANILHA!C35 -> PIS-CER-010 | C74: =PLANILHA!D35 -> REVESTIMENTO COM CERÂMICA APLICADO EM PISO, ACABAMENTO ESMALTADO, AMBIENTE INTERNO, PADRÃO EXTRA, DIMENSÃO DA PEÇA ATÉ 2025 CM2, PEI V, ASSENTAMENTO COM ARGAMASSA INDUSTRIALIZADA, INCLUSIVE REJUNTAMENTO | D74: =PLANILHA!E35 -> M2 | E74: 119.25 | F74: 119.25
A75: =PLANILHA!#REF! -> #REF! | B75: =PLANILHA!#REF! -> #REF! | C75: =PLANILHA!#REF! -> #REF! | D75: =PLANILHA!#REF! -> #REF! | E75: 318.06 | F75: (41,85*7,6)
A76: =PLANILHA!A36 -> 4.4 | B76: =PLANILHA!C36 -> ROD-ARG-015 | C76: =PLANILHA!D36 -> RODAPÉ COM ARGAMASSA, TRAÇO 1:3 (CIMENTO E AREIA), ESP. 2CM, ALTURA 10CM, DESEMPENADO / ALISADO COM COLHER | D76: =PLANILHA!E36 -> M | E76: 432.05 | F76: ((8,19*2)+(5,85*2))*9+((5,19*2,85*2)+(6*2+5*2)+(6*2+4*2))+(44+15,75+6,15+41,85)
A77: =PLANILHA!A37 -> 4.5 | B77: =PLANILHA!C37 -> URB-PAS-006 | C77: =PLANILHA!D37 -> PASSEIOS DE CONCRETO E = 6 CM, FCK = 10 MPA, JUNTA SECA | D77: =PLANILHA!E37 -> M2 | E77: 219.75 | F77: ((53,15+53,15+23,9+8,15+8,15)*1,5)
A78: =PLANILHA!A38 -> 5 | B78: =PLANILHA!C38 -> 0 | C78: =PLANILHA!D38 -> ESQUADRIAS | D78: =PLANILHA!E38 | E78: 0 | H78: ESQUADRIAS | J78: 0
A79: =PLANILHA!#REF! -> #REF! | B79: =PLANILHA!#REF! -> #REF! | C79: =PLANILHA!#REF! -> #REF! | D79: =PLANILHA!#REF! -> #REF! | E79: 16 | F79: 16 unidades | H79: ADUELA / MARCO / BATENTE PARA PORTA DE 90X210CM, PADRÃO POPULAR - FORNECIMENTO E MONTAGEM. AF_08/2015 | I79: UN | J79: 13 | K79: 13 unidades
A80: =PLANILHA!A39 -> 5.1 | B80: =PLANILHA!C39 -> SEE-SER-165 | C80: =PLANILHA!D39 -> PORTA METÁLICA 80 X 210 CM , INCLUINDO FECHADURA TIPO EXTERNA E FERRAGENS | D80: =PLANILHA!E39 -> UN | E80: 16 | F80: 16 unidades | H80: PORTA DE MADEIRA PARA PINTURA, SEMI-OCA (LEVE OU MÉDIA), 90X210CM, ESPESSURA DE 3,5CM, INCLUSO DOBRADIÇAS - FORNECIMENTO E INSTALAÇÃO. AF_08/2015 | I80: UN | J80: 13 | K80: 13 unidades
A81: =PLANILHA!A40 -> 5.2 | B81: =PLANILHA!C40 -> SEDS-ESQ-035 | C81: =PLANILHA!D40 -> JANELA VENEZIANA FIXA EM CHAPA 14 - PADRÃO SEDS | D81: =PLANILHA!E40 -> M2 | E81: 107.28 | F81: (2*1,2)*43+((3*0,6))*2+((0,8*0,6))*1 | H81: VIDRO TEMPERADO INCOLOR, ESPESSURA 8MM, FORNECIMENTO E INSTALACAO, INCLUSIVE MASSA PARA VEDACAO | I81: M2 | J81: 107.28 | K81: (2*1,2)*43+((3*0,6))*2+((0,8*0,6))*1
A82: =PLANILHA!#REF! -> #REF! | B82: =PLANILHA!#REF! -> #REF! | C82: =PLANILHA!#REF! -> #REF! | D82: =PLANILHA!#REF! -> #REF! | E82: 16 | F82: 16 unidades | H82: FECHADURA DE EMBUTIR COM CILINDRO, EXTERNA, COMPLETA, ACABAMENTO PADRÃO POPULAR, INCLUSO EXECUÇÃO DE FURO - FORNECIMENTO E INSTALAÇÃO. AF_08/2015 | I82: UN | J82: 20 | K82: 20 unidades
A83: =PLANILHA!#REF! -> #REF! | B83: =PLANILHA!#REF! -> #REF! | C83: =PLANILHA!#REF! -> #REF! | D83: =PLANILHA!#REF! -> #REF! | E83: 48 | F83: 16,00*3
A84: =PLANILHA!#REF! -> #REF! | B84: =PLANILHA!#REF! -> #REF! | C84: =PLANILHA!#REF! -> #REF! | D84: =PLANILHA!#REF! -> #REF! | E84: 9 | F84: 9 unidades | H84: QUADRO PARA GIZ E CARTAZES, 310 X 131 CM - MOLDURA EM MADEIRA | I84: U | J84: 9 | K84: 9 unidades
A85: =PLANILHA!A42 -> 5.4 | B85: =PLANILHA!C42 -> SOL-GRA-005 | C85: =PLANILHA!D42 -> SOLEIRA DE GRANITO CINZA ANDORINHA E = 2 CM | D85: =PLANILHA!E42 -> M² | E85: 2.7 | F85: 20*0,9*0,15 | H85: SOLEIRA/ PEITORIL EM MARMORE, POLIDO, BRANCO COMUM, L= *15* CM, E= *2* CM, CORTE RETO | I85: M | J85: 17.2 | K85: (0,9*13)+(0,8*6)+(0,7*1)
A86: =PLANILHA!A43 -> 5.5 | B86: =PLANILHA!C43 -> PEI-GRA-005 | C86: =PLANILHA!D43 -> PEITORIL DE GRANITO CINZA ANDORINHA E = 2 CM | D86: =PLANILHA!E43 -> M² | E86: 18.16 | F86: ((43*2,00)+(2*3,00)+(1*0,8))*0,20 | H86: ADUELA / MARCO / BATENTE PARA PORTA DE 80X210CM, PADRÃO POPULAR - FORNECIMENTO E MONTAGEM. AF_08/2015 | I86: UN | J86: 6 | K86: 6 unidades
A87: =PLANILHA!#REF! -> #REF! | B87: =PLANILHA!#REF! -> #REF! | C87: =PLANILHA!#REF! -> #REF! | D87: =PLANILHA!#REF! -> #REF! | E87: 14.76 | F87: (4*0,9*2,10) + (6*0,60*2,00) | H87: PORTA EM ALUMÍNIO DE ABRIR TIPO VENEZIANA COM GUARNIÇÃO, FIXAÇÃO COM PARAFUSOS - FORNECIMENTO E INSTALAÇÃO. AF_08/2015 | I87: M2 | J87: 7.2 | K87: (0,6*2)*6
A88: =PLANILHA!A44 -> 6 | B88: =PLANILHA!C44 -> 0 | C88: =PLANILHA!D44 -> FORRO E PINTURA | D88: =PLANILHA!E44 | E88: 0 | H88: PINTURA | J88: 0
A89: =PLANILHA!A45 -> 6.1 | B89: =PLANILHA!C45 -> PIN-ESM-015 | C89: =PLANILHA!D45 -> PINTURA ESMALTE EM ESQUADRIA DE MADEIRA, DUAS (2) DEMÃOS, INCLUSIVE UMA (1) DEMÃO DE FUNDO NIVELADOR, EXCLUSIVE MASSA A ÓLEO | D89: =PLANILHA!E45 -> M2 | E89: 60.48 | F89: (0,9*2,1)*16*2 | H89: PINTURA ESMALTE ACETINADO EM MADEIRA, DUAS DEMAOS | I89: M2 | J89: 72.24 | K89: ((0,9*2,1)*13*2)+((0,8*2,1)*6*2)+((0,7*2,1)*1*2)
A90: =PLANILHA!A47 -> 6.3 | B90: =PLANILHA!C47 -> PIN-ACR-005 | C90: =PLANILHA!D47 -> PINTURA ACRÍLICA EM PAREDE, DUAS (2) DEMÃOS, EXCLUSIVE SELADOR ACRÍLICO E MASSA ACRÍLICA/CORRIDA (PVA) | D90: =PLANILHA!E47 -> M2 | E90: 861.74 | F90: (((44*2)+(41,85*2)+(6,15*13)+(15,75*2)+(6,3*5)+(5,19)+(1,5*2))*3,5 + ((3*2)+(1,4*5)+(0,3*6))*2,1) - (((5,19+2,85+5+5,85)*2*3,5) + ((6,15+6,3+1,5+1,5)*2,1) + ((3*8 + 1,25*10 + 0,3*12 + 6*4))*2,1) | H90: APLICAÇÃO MANUAL DE PINTURA COM TINTA LÁTEX PVA EM PAREDES, DUAS DEMÃOS. AF_06/2014 | I90: M2 | J90: 2405.84 | K90: 1202,92*2
A91: =PLANILHA!A48 -> 6.4 | B91: =PLANILHA!C48 -> PIN-SEL-005 | C91: =PLANILHA!D48 -> PREPARAÇÃO PARA EMASSAMENTO OU PINTURA (LÁTEX/ACRÍLICA) EM PAREDE, INCLUSIVE UMA (1) DEMÃO DE SELADOR ACRÍLICO | D91: =PLANILHA!E48 -> M2 | E91: =E90 -> 861.74 | F91: (((44*2)+(41,85*2)+(6,15*13)+(15,75*2)+(6,3*5)+(5,19)+(1,5*2))*3,5 + ((3*2)+(1,4*5)+(0,3*6))*2,1) - (((5,19+2,85+5+5,85)*2*3,5) + ((6,15+6,3+1,5+1,5)*2,1) + ((3*8 + 1,25*10 + 0,3*12 + 6*4))*2,1) | H91: APLICAÇÃO MANUAL DE PINTURA COM TINTA LÁTEX ACRÍLICA EM PAREDES, DUAS DEMÃOS. AF_06/2014 | I91: M2 | J91: 1031.0743 | K91: ((1202,92/3,5)*1,5)*2
A92: =PLANILHA!#REF! -> #REF! | B92: =PLANILHA!#REF! -> #REF! | C92: =PLANILHA!#REF! -> #REF! | D92: =PLANILHA!#REF! -> #REF! | E92: 67.5 | F92: (6,0*3,00*2) + (1,5*1,5) + (5,00*5,85)
A93: =PLANILHA!#REF! -> #REF! | B93: =PLANILHA!#REF! -> #REF! | C93: =PLANILHA!#REF! -> #REF! | D93: =PLANILHA!#REF! -> #REF! | E93: =E92 -> 67.5 | F93: (6,0*3,00*2) + (1,5*1,5) + (5,00*5,85)
A94: =PLANILHA!#REF! -> #REF! | B94: =PLANILHA!#REF! -> #REF! | C94: =PLANILHA!#REF! -> #REF! | D94: =PLANILHA!#REF! -> #REF! | E94: =E93 -> 67.5 | F94: (6,0*3,00*2) + (1,5*1,5) + (5,00*5,85)
A95: 1.7.7 | B95: =PLANILHA!#REF! -> #REF! | C95: =PLANILHA!#REF! -> #REF! | D95: M² | E95: 997.43 | F95: 997.43
A96: =PLANILHA!A49 -> 7 | B96: =PLANILHA!C49 -> 0 | C96: =PLANILHA!D49 -> INSTALAÇÃO ELÉTRICA | D96: =PLANILHA!E49 | E96: 0 | H96: INSTALAÇÃO ELÉTRICA | J96: 0
A97: =PLANILHA!A50 -> 7.1 | B97: =PLANILHA!C50 -> 97592 | C97: =PLANILHA!D50 -> LUMINÁRIA TIPO PLAFON, DE SOBREPOR, COM 1 LÂMPADA LED DE 12/13 W, SEM REATOR - FORNECIMENTO E INSTALAÇÃO. AF_02/2020 | D97: =PLANILHA!E50 -> UN | E97: 70 | F97: (10*4)+(7*2)+(16*1) | H97: LUMINARIA DE SOBREPOR EM CHAPA DE ACO PARA 2 LAMPADAS FLUORESCENTES DE *36* W, ALETADA, COMPLETA (LAMPADAS E REATOR INCLUSOS) | I97: UN | J97: 70 | K97: (10*4)+(7*2)+(16*1)
A98: =PLANILHA!A51 -> 7.2 | B98: =PLANILHA!C51 -> ELE-CAB-235 | C98: =PLANILHA!D51 -> CABO DE COBRE FLEXÍVEL, CLASSE 5, ISOLAMENTO TIPO LSHF/ATOX, NÃO HALOGENADO, ANTICHAMA, TERMOPLÁSTICO, UNIPOLAR, SEÇÃO 2,5 MM2, 70°C, 450/750V | D98: =PLANILHA!E51 -> M | E98: 2000 | F98: 2000,00 metros | H98: CABO DE COBRE FLEXÍVEL ISOLADO, 2,5 MM², ANTI-CHAMA 450/750 V, PARA CIRCUITOS TERMINAIS - FORNECIMENTO E INSTALAÇÃO. AF_12/2015 | I98: M | J98: 2000 | K98: 2000,00 metros
A99: =PLANILHA!A52 -> 7.3 | B99: =PLANILHA!C52 -> ELE-CAB-245 | C99: =PLANILHA!D52 -> CABO DE COBRE FLEXÍVEL, CLASSE 5, ISOLAMENTO TIPO LSHF/ATOX, NÃO HALOGENADO, ANTICHAMA, TERMOPLÁSTICO, UNIPOLAR, SEÇÃO 6 MM2, 70°C, 450/750V | D99: =PLANILHA!E52 -> M | E99: 2000 | F99: 2000,00 metros | H99: CABO DE COBRE FLEXÍVEL ISOLADO, 6 MM², ANTI-CHAMA 450/750 V, PARA CIRCUITOS TERMINAIS - FORNECIMENTO E INSTALAÇÃO. AF_12/2015 | I99: M | J99: 2000 | K99: 2000,00 metros
A100: =PLANILHA!A53 -> 7.4 | B100: =PLANILHA!C53 -> ELE-TOM-005 | C100: =PLANILHA!D53 -> TOMADA SIMPLES - 2P + T - 10A COM PLACA | D100: =PLANILHA!E53 -> UN | E100: 52 | F100: (4*12)+(2*2) | H100: TOMADA BAIXA DE EMBUTIR (1 MÓDULO), 2P+T 10 A, INCLUINDO SUPORTE E PLACA - FORNECIMENTO E INSTALAÇÃO. AF_12/2015 | I100: UN | J100: 52 | K100: (4*12)+(2*2)
...
