Workbook

Sheet PLANILHA
A1: PREFEITURA MUNICIPAL DE CONCEIÇÃO DOS OUROS Praça José Maria de Souza, nº 01 - Centro, CEP 37548-000
A2: PLANILHA ORÇAMENTÁRIA
A3: MUNICÍPIO: CONCEIÇÃO DOS OUROS/MG
A4: OBRA: AMPLIAÇÃO DE 2 SALAS NA ESCOLA MUNICIPAL JOSÉ OLÍMPIO DA SILVA
A5: END.: BAIRRO CAMPO DO MEIO
A6: DATA: 05/07/2021
A7: REFERÊNCIA: | C7: SETOP-SUL JANEIRO/2021 | H7: BDI: | I7: 0.2984
A8: ITEM | B8: FONTE | C8: CÓDIGO | D8: DESCRIÇÃO | E8: UNID | F8: QUANT | G8: CUSTO UNITÁRIO (R$) | H8: UNITÁRIO COM BDI (R$) | I8: VALOR TOTAL COM BDI (R$)
A9: AMPLIAÇÃO DE 2 SALAS NA ESCOLA MUNICIPAL JOSÉ OLÍMPIO DA SILVA
A10: 1 | D10: SERVIÇOS PRELIMINARES | F10: 0 | G10: 0 | H10: 0 | I10: =SUM(I11:I13) -> 9342.84
A11: 1.1 | B11: SETOP | C11: IIO-PLA-005 | D11: FORNECIMENTO E COLOCAÇÃO DE PLACA DE OBRA EM CHAPA GALVANIZADA (3,00 X 1,5 0 M) - EM CHAPA GALVANIZADA 0,26 AFIXADAS COM REBITES 540 E PARAFUSOS 3/8, EM ESTRUTURA METÁLICA VIGA U 2" ENRIJECIDA COM METALON 20 X 20, SUPORTE EM EUCALIPTO AUTOCLAVADO PINTADAS | E11: UNID. | F11: ='MEMÓRIA DE CÁLCULO'!E5 -> 1 | G11: 1099.62 | H11: =ROUND(G11+(G11*$I$7),2) -> 1427.75 | I11: =ROUND(F11*H11,2) -> 1427.75
A12: 1.2 | B12: SETOP | C12: IIO-BAR-015 | D12: BARRACÃO DEPÓSITO E FERRAMENTARIA TIPO I, A = 14,52 M2 (OBRA DE PEQUENO PORTE, EFETIVO ATÉ 30 HOMENS), INCLUSIVE MOBILIÁRIO - PADRÃO DEER-MG | E12: UNID. | F12: ='MEMÓRIA DE CÁLCULO'!E9 -> 1 | G12: 5444.61 | H12: =ROUND(G12+(G12*$I$7),2) -> 7069.28 | I12: =ROUND(F12*H12,2) -> 7069.28
A13: 1.3 | B13: SETOP | C13: LOC-OBR-005 | D13: LOCAÇÃO DA OBRA (GABARITO) | E13: M2 | F13: 89.98 | G13: 7.24 | H13: =ROUND(G13+(G13*$I$7),2) -> 9.4 | I13: =ROUND(F13*H13,2) -> 845.81
A14: 2 | D14: FUNDAÇÃO E SUPERESTRUTURA | F14: ='MEMÓRIA DE CÁLCULO'!E21 -> 0 | H14: =ROUND(G14+(G14*$I$7),2) -> 0 | I14: =SUM(I15:I26) -> 77626.26
A15: 2.1 | B15: SETOP | C15: TER-ESC-035 | D15: ESCAVAÇÃO MANUAL DE VALAS H <= 1,50 M | E15: M3 | F15: 7.8 | G15: 47.94 | H15: =ROUND(G15+(G15*$I$7),2) -> 62.25 | I15: =ROUND(F15*H15,2) -> 485.55
A16: 2.2 | B16: SETOP | C16: FUN-TRA-010 | D16: PERFURAÇÃO DE ESTACA BROCA A TRADO MANUAL D = 200 MM | E16: M | F16: 108 | G16: 47.94 | H16: =ROUND(G16+(G16*$I$7),2) -> 62.25 | I16: =ROUND(F16*H16,2) -> 6723
A17: 2.3 | B17: SETOP | C17: FUN-FOR-005 | D17: FORMA E DESFORMA DE TÁBUA E SARRAFO, REAPROVEITAMENTO (3X) (FUNDAÇÃO) | E17: M2 | F17: 92.04 | G17: 40.56 | H17: =ROUND(G17+(G17*$I$7),2) -> 52.66 | I17: =ROUND(F17*H17,2) -> 4846.83
A18: 2.4 | B18: SETOP | C18: FUN-CON-140 | D18: FORNECIMENTO DE CONCRETO ESTRUTURAL, USINADO BOMBEADO, COM FCK 30 MPA, INCLUSIVE LANÇAMENTO, ADENSAMENTO E ACABAMENTO | E18: M3 | F18: 13.22 | G18: 358.74 | H18: =ROUND(G18+(G18*$I$7),2) -> 465.79 | I18: =ROUND(F18*H18,2) -> 6157.74
A19: 2.5 | B19: SETOP | C19: ARM-AÇO-020 | D19: CORTE, DOBRA E MONTAGEM DE AÇO CA-50/60 | E19: KG | F19: 1454.2 | G19: 12.3 | H19: =ROUND(G19+(G19*$I$7),2) -> 15.97 | I19: =ROUND(F19*H19,2) -> 23223.57
A20: 2.6 | B20: SETOP | C20: ALV-BLO-010 | D20: ALVENARIA DE VEDAÇÃO COM BLOCO DE CONCRETO, ESP. 14CM, PARA REVESTIMENTO, INCLUSIVE ARGAMASSA PARA ASSENTAMENTO | E20: M2 | F20: 141.75 | G20: 40.5 | H20: =ROUND(G20+(G20*$I$7),2) -> 52.59 | I20: =ROUND(F20*H20,2) -> 7454.63
A21: 2.7 | B21: SETOP | C21: CIN-BLO-010 | D21: CINTA DE AMARRAÇÃO DE ALVENARIA COM BLOCO DE CONCRETO ESTRUTURAL, CANALETA TIPO "U", ESP. 14CM, (FBK 4,5MPA), PARA REVESTIMENTO, INCLUSIVE ARGAMASSA PARA ASSENTAMENTO, EXCLUSIVE GRAUTE E ARMAÇÃO | E21: M | F21: 94.5 | G21: 13.81 | H21: =ROUND(G21+(G21*$I$7),2) -> 17.93 | I21: =ROUND(F21*H21,2) -> 1694.39
A22: 2.8 | B22: SETOP | C22: REV-CHA-005 | D22: CHAPISCO COM ARGAMASSA, TRAÇO 1:3 (CIMENTO E AREIA), ESP. 5MM, APLICADO EM ALVENARIA / ESTRUTURA DE CONCRETO COM COLHER, PREPARO MECÂNICO | E22: M2 | F22: 283.5 | G22: 6.47 | H22: =ROUND(G22+(G22*$I$7),2) -> 8.4 | I22: =ROUND(F22*H22,2) -> 2381.4
A23: 2.9 | B23: SETOP | C23: REV-REB-015 | D23: REBOCO COM ARGAMASSA, TRAÇO 1:2:8 (CIMENTO, CAL E AREIA), ESP. 20MM, APLICAÇÃO MANUAL, PREPARO MECÂNICO | E23: M2 | F23: 283.5 | G23: 23.87 | H23: =ROUND(G23+(G23*$I$7),2) -> 30.99 | I23: =ROUND(F23*H23,2) -> 8785.67
A24: 2.10 | B24: SETOP | C24: IMP-ARG-005 | D24: IMPERMEABILIZAÇÃO COM ARGAMASSA TRAÇO 1:3, E = 2,50 CM COM ADITIVO | E24: M2 | F24: 18.9 | G24: 31.83 | H24: =ROUND(G24+(G24*$I$7),2) -> 41.33 | I24: =ROUND(F24*H24,2) -> 781.14
A25: 2.11 | B25: SETOP | C25: 92273 | D25: FABRICAÇÃO DE ESCORAS DO TIPO PONTALETE, EM MADEIRA, PARA PÉ-DIREITO SIMPLES. AF_09/2020 | E25: M2 | F25: 269.94 | G25: 10.49 | H25: =ROUND(G25+(G25*$I$7),2) -> 13.62 | I25: =ROUND(F25*H25,2) -> 3676.58
A26: 2.12 | B26: SETOP | C26: LAJ-REV-015 | D26: LAJE PRÉ-MOLDADA, A REVESTIR, INCLUSIVE CAPEAMENTO E = 4CM, SC = 100 KG/M2, L = 5,00 M | E26: M2 | F26: 89.98 | G26: 97.71 | H26: =ROUND(G26+(G26*$I$7),2) -> 126.87 | I26: =ROUND(F26*H26,2) -> 11415.76
A27: 3 | D27: COBERTURA | F27: ='MEMÓRIA DE CÁLCULO'!E47 -> 0 | H27: =ROUND(G27+(G27*$I$7),2) -> 0 | I27: =SUM(I28:I31) -> 38737.83
A28: 3.1 | B28: SETOP | C28: COB-ENG-005 | D28: ENGRADAMENTO PARA TELHAS CERÂMICA OU CONCRETO EM MADEIRA PARAJU | E28: M2 | F28: 138.58 | G28: 123.21 | H28: =ROUND(G28+(G28*$I$7),2) -> 159.98 | I28: =ROUND(F28*H28,2) -> 22170.03
A29: 3.2 | B29: SETOP | C29: COB-TEL-010 | D29: COBERTURA EM TELHA CERÂMICA COLONIAL PLANA, 24 UNID/M2 | E29: M2 | F29: 138.58 | G29: 57.49 | H29: =ROUND(G29+(G29*$I$7),2) -> 74.65 | I29: =ROUND(F29*H29,2) -> 10345
A30: 3.3 | B30: SETOP | C30: PLU-CAL-045 | D30: CALHA DE CHAPA GALVANIZADA Nº. 24 GSG, DESENVOLVIMENTO = 50 CM | E30: M | F30: 60 | G30: 62.74 | H30: =ROUND(G30+(G30*$I$7),2) -> 81.46 | I30: =ROUND(F30*H30,2) -> 4887.6
A31: 3.4 | B31: SETOP | C31: PLU-CON-005 | D31: CONDUTOR DE AP DO TELHADO EM TUBO PVC ESGOTO, INCLUSIVE CONEXÕES E SUPORTES, 100MM | E31: M | F31: 16 | G31: 64.27 | H31: =ROUND(G31+(G31*$I$7),2) -> 83.45 | I31: =ROUND(F31*H31,2) -> 1335.2
A32: 4 | D32: PISOS E AZULEJOS | F32: ='MEMÓRIA DE CÁLCULO'!E71 -> 0 | H32: =ROUND(G32+(G32*$I$7),2) -> 0 | I32: =SUM(I33:I37) -> 18679.8
A33: 4.1 | B33: SETOP | C33: ED-9317 | D33: PISO EM CONCRETO, PREPARADO EM OBRA COM BETONEIRA, FCK 10MPA, SEM ARMAÇÃO, ACABAMENTO RÚSTICO, ESP. 5CM, INCLUSIVE FORNECIMENTO, LANÇAMENTO, ADENSAMENTO, SARRAFEAMENTO, EXCLUSIVE JUNTA DE DILATAÇÃO | E33: M2 | F33: 89.98 | G33: 37.54 | H33: =ROUND(G33+(G33*$I$7),2) -> 48.74 | I33: =ROUND(F33*H33,2) -> 4385.63
A34: 4.2 | B34: SETOP | C34: PIS-CON-015 | D34: CONTRAPISO DESEMPENADO COM ARGAMASSA, TRAÇO 1:3 (CIMENTO E AREIA), ESP. 30MM | E34: M2 | F34: 89.98 | G34: 29.93 | H34: =ROUND(G34+(G34*$I$7),2) -> 38.86 | I34: =ROUND(F34*H34,2) -> 3496.62
A35: 4.3 | B35: SETOP | C35: PIS-CER-010 | D35: REVESTIMENTO COM CERÂMICA APLICADO EM PISO, ACABAMENTO ESMALTADO, AMBIENTE INTERNO, PADRÃO EXTRA, DIMENSÃO DA PEÇA ATÉ 2025 CM2, PEI V, ASSENTAMENTO COM ARGAMASSA INDUSTRIALIZADA, INCLUSIVE REJUNTAMENTO | E35: M2 | F35: 89.98 | G35: 70.56 | H35: =ROUND(G35+(G35*$I$7),2) -> 91.62 | I35: =ROUND(F35*H35,2) -> 8243.97
A36: 4.4 | B36: SETOP | C36: ROD-ARG-015 | D36: RODAPÉ COM ARGAMASSA, TRAÇO 1:3 (CIMENTO E AREIA), ESP. 2CM, ALTURA 10CM, DESEMPENADO / ALISADO COM COLHER | E36: M | F36: 53.7 | G36: 14.67 | H36: =ROUND(G36+(G36*$I$7),2) -> 19.05 | I36: =ROUND(F36*H36,2) -> 1022.99
A37: 4.5 | B37: SETOP | C37: URB-PAS-006 | D37: PASSEIOS DE CONCRETO E = 6 CM, FCK = 10 MPA, JUNTA SECA | E37: M2 | F37: 27.9 | G37: 42.25 | H37: =ROUND(G37+(G37*$I$7),2) -> 54.86 | I37: =ROUND(F37*H37,2) -> 1530.59
A38: 5 | D38: ESQUADRIAS | F38: ='MEMÓRIA DE CÁLCULO'!E78 -> 0 | H38: =ROUND(G38+(G38*$I$7),2) -> 0 | I38: =SUM(I39:I43) -> 10250.63
A39: 5.1 | B39: SETOP | C39: SEE-SER-165 | D39: PORTA METÁLICA 80 X 210 CM , INCLUINDO FECHADURA TIPO EXTERNA E FERRAGENS | E39: UN | F39: 2 | G39: 479.43 | H39: =ROUND(G39+(G39*$I$7),2) -> 622.49 | I39: =ROUND(F39*H39,2) -> 1244.98
A40: 5.2 | B40: SETOP | C40: SEDS-ESQ-035 | D40: JANELA VENEZIANA FIXA EM CHAPA 14 - PADRÃO SEDS | E40: M2 | F40: 11.18 | G40: 489.54 | H40: =ROUND(G40+(G40*$I$7),2) -> 635.62 | I40: =ROUND(F40*H40,2) -> 7106.23
...

Sheet MEMÓRIA DE CÁLCULO
A1: PREFEITURA MUNICIPAL DE CONCEIÇÃO DOS OUROS Praça José Maria de Souza, nº 01 - Centro, CEP 37548-000
A2: ITEM | B2: CÓDIGO | C2: DESCRIÇÃO | D2: UNID | E2: QUANT | F2: MEMÓRIA DE CÁLCULO | H2: DESCRIÇÃO | I2: UNID | J2: QUANT | K2: MEMÓRIA DE CÁLCULO
A3: 1 | C3: CONSTRUÇÃO DO CENTRO MUNICIPAL DE EDUCAÇÃO INFANTIL | E3: 0 | H3: CONSTRUÇÃO DE ESCOLA MUNICIPAL | J3: 0
A4: =PLANILHA!A10 -> 1 | B4: =PLANILHA!C10 -> 0 | C4: =PLANILHA!D10 -> SERVIÇOS PRELIMINARES | D4: =PLANILHA!E10 | E4: 0 | H4: SERVIÇOS PRELIMINARES | J4: 0
A5: =PLANILHA!A11 -> 1.1 | B5: =PLANILHA!C11 -> IIO-PLA-005 | C5: =PLANILHA!D11 -> FORNECIMENTO E COLOCAÇÃO DE PLACA DE OBRA EM CHAPA GALVANIZADA (3,00 X 1,5 0 M) - EM CHAPA GALVANIZADA 0,26 AFIXADAS COM REBITES 540 E PARAFUSOS 3/8, EM ESTRUTURA METÁLICA VIGA U 2" ENRIJECIDA COM METALON 20 X 20, SUPORTE EM EUCALIPTO AUTOCLAVADO PINTADAS | D5: =PLANILHA!E11 -> UNID. | E5: 1 | F5: Placa de Obra 3,00x1,50 m | H5: PLACA DE OBRA EM CHAPA DE ACO GALVANIZADO | I5: M2 | J5: 4.5 | K5: Placa de Obra 3,00x1,50 m
A6: =PLANILHA!#REF! -> #REF! | B6: =PLANILHA!#REF! -> #REF! | C6: =PLANILHA!#REF! -> #REF! | D6: =PLANILHA!#REF! -> #REF! | E6: 1 | F6: 1
A7: =PLANILHA!#REF! -> #REF! | B7: =PLANILHA!#REF! -> #REF! | C7: =PLANILHA!#REF! -> #REF! | D7: =PLANILHA!#REF! -> #REF! | E7: 1 | F7: 1
A8: =PLANILHA!#REF! -> #REF! | B8: =PLANILHA!#REF! -> #REF! | C8: =PLANILHA!#REF! -> #REF! | D8: =PLANILHA!#REF! -> #REF! | E8: 20 | F8: 2,50*8,00 m
A9: 1.1.5 | B9: =PLANILHA!C12 -> IIO-BAR-015 | C9: =PLANILHA!D12 -> BARRACÃO DEPÓSITO E FERRAMENTARIA TIPO I, A = 14,52 M2 (OBRA DE PEQUENO PORTE, EFETIVO ATÉ 30 HOMENS), INCLUSIVE MOBILIÁRIO - PADRÃO DEER-MG | D9: UNID. | E9: 1 | F9: 1
A10: =PLANILHA!#REF! -> #REF! | B10: =PLANILHA!#REF! -> #REF! | C10: =PLANILHA!#REF! -> #REF! | D10: =PLANILHA!#REF! -> #REF! | E10: 1 | F10: 1% do valor da obra
A11: =PLANILHA!A13 -> 1.3 | B11: =PLANILHA!C13 -> LOC-OBR-005 | C11: =PLANILHA!D13 -> LOCAÇÃO DA OBRA (GABARITO) | D11: =PLANILHA!E13 -> M2 | E11: 880.53 | F11: 880,53m²
A12: =PLANILHA!#REF! -> #REF! | B12: =PLANILHA!#REF! -> #REF! | C12: =PLANILHA!#REF! -> #REF! | D12: =PLANILHA!#REF! -> #REF!
A13: =PLANILHA!#REF! -> #REF! | B13: =PLANILHA!#REF! -> #REF! | C13: =PLANILHA!#REF! -> #REF! | D13: =PLANILHA!#REF! -> #REF! | E13: 1 | F13: 1 prancha A1
A14: =PLANILHA!#REF! -> #REF! | B14: =PLANILHA!#REF! -> #REF! | C14: =PLANILHA!#REF! -> #REF! | D14: =PLANILHA!#REF! -> #REF! | E14: 2 | F14: 2 pranchas A1
A15: =PLANILHA!#REF! -> #REF! | B15: =PLANILHA!#REF! -> #REF! | C15: =PLANILHA!#REF! -> #REF! | D15: =PLANILHA!#REF! -> #REF! | E15: 2 | F15: 2 pranchas A1
A16: =PLANILHA!#REF! -> #REF! | B16: =PLANILHA!#REF! -> #REF! | C16: =PLANILHA!#REF! -> #REF! | D16: =PLANILHA!#REF! -> #REF! | E16: 2 | F16: 2 pranchas A1
A17: =PLANILHA!#REF! -> #REF! | B17: =PLANILHA!#REF! -> #REF! | C17: =PLANILHA!#REF! -> #REF! | D17: =PLANILHA!#REF! -> #REF! | E17: 2 | F17: 2 pranchas A1
A18: =PLANILHA!#REF! -> #REF! | B18: =PLANILHA!#REF! -> #REF! | C18: =PLANILHA!#REF! -> #REF! | D18: =PLANILHA!#REF! -> #REF! | E18: 2 | F18: 2 pranchas A1
A19: =PLANILHA!#REF! -> #REF! | B19: =PLANILHA!#REF! -> #REF! | C19: =PLANILHA!#REF! -> #REF! | D19: =PLANILHA!#REF! -> #REF! | E19: 2 | F19: 2 pranchas A1
A20: =PLANILHA!#REF! -> #REF! | B20: =PLANILHA!#REF! -> #REF! | C20: =PLANILHA!#REF! -> #REF! | D20: =PLANILHA!#REF! -> #REF! | E20: 2 | F20: 1 prancha A1
A21: =PLANILHA!A14 -> 2 | B21: =PLANILHA!C14 -> 0 | C21: =PLANILHA!D14 -> FUNDAÇÃO E SUPERESTRUTURA | D21: =PLANILHA!E14 | H21: FUNDAÇÃO E SUPERESTRUTURA | J21: 0
A22: =PLANILHA!#REF! -> #REF! | B22: =PLANILHA!#REF! -> #REF! | C22: =PLANILHA!#REF! -> #REF! | D22: =PLANILHA!#REF! -> #REF! | E22: 56.56 | F22: (50,15*4 + 5,19 + 6 + 6 + 1,5 + 2,15 + 4,15 + 5*1,25 + 23,9*2 + 1,5 + 3*2 + 5,85*12)*0,3*0,4 + (0,6*0,6*0,5*76) | H22: ESCAVAÇÃO MANUAL DE VALA COM PROFUNDIDADE MENOR OU IGUAL A 1,30 M. AF_03/2016 | I22: M3 | J22: 65.4916 | K22: (482,43*0,3*0,4)+(0,5*0,5*0,4*76)
A23: =PLANILHA!#REF! -> #REF! | B23: =PLANILHA!#REF! -> #REF! | C23: =PLANILHA!#REF! -> #REF! | D23: =PLANILHA!#REF! -> #REF! | E23: 1 | F23: 1 vb
A24: =PLANILHA!#REF! -> #REF! | B24: =PLANILHA!#REF! -> #REF! | C24: =PLANILHA!#REF! -> #REF! | D24: =PLANILHA!#REF! -> #REF! | E24: 1020 | F24: 85*12 | H24: ESTACA PRÉ-MOLDADA DE CONCRETO, SEÇÃO QUADRADA, CAPACIDADE DE 25 TONELADAS, COMPRIMENTO TOTAL CRAVADO ACIMA DE 5M ATÉ 12M, BATE-ESTACAS POR GRAVIDADE SOBRE ROLOS (EXCLUSIVE MOBILIZAÇÃO E DESMOBILIZAÇÃO). AF_03/2016 | I24: M | J24: 912 | K24: (76)*12
A25: =PLANILHA!A17 -> 2.3 | B25: =PLANILHA!C17 -> FUN-FOR-005 | C25: =PLANILHA!D17 -> FORMA E DESFORMA DE TÁBUA E SARRAFO, REAPROVEITAMENTO (3X) (FUNDAÇÃO) | D25: =PLANILHA!E17 -> M2 | E25: 305.6 | F25: (50,15*4 + 5,19 + 6 + 6 + 1,5 + 2,15 + 4,15 + 5*1,25 + 23,9*2 + 1,5 + 3*2 + 5,85*12)*0,3*2 + (0,6*4*0,5*76) | H25: FABRICAÇÃO, MONTAGEM E DESMONTAGEM DE FÔRMA PARA VIGA BALDRAME, EM MADEIRA SERRADA, E=25 MM, 4 UTILIZAÇÕES. AF_06/2017 | I25: M2 | J25: 509.858 | K25: (((482,43*2)*0,3)+((76*0,8*3,5)+(0,5*0,5*0,4)*76))
A26: =PLANILHA!#REF! -> #REF! | B26: =PLANILHA!#REF! -> #REF! | C26: =PLANILHA!#REF! -> #REF! | D26: =PLANILHA!#REF! -> #REF! | H26: PISO EM CONCRETO 20MPA PREPARO MECANICO, ESPESSURA 7 CM, COM ARMACAO EM TELA SOLDADA | I26: M2 | J26: 880.525 | K26: (50,15*8,15)+(41,85*8,15)+(15,75*8,3)
A27: =PLANILHA!#REF! -> #REF! | B27: =PLANILHA!#REF! -> #REF! | C27: =PLANILHA!#REF! -> #REF! | D27: =PLANILHA!#REF! -> #REF! | E27: 16.23 | F27: 231,8*0,07 | H27: ARMAÇÃO DE PILAR OU VIGA DE UMA ESTRUTURA CONVENCIONAL DE CONCRETO ARMADO EM UMA EDIFICAÇÃO TÉRREA OU SOBRADO UTILIZANDO AÇO CA-50 DE 10,0 MM - MONTAGEM. AF_12/2015 | I27: KG | J27: 5121.6 | K27: 46,56*110
A28: =PLANILHA!#REF! -> #REF! | B28: =PLANILHA!#REF! -> #REF! | C28: =PLANILHA!#REF! -> #REF! | D28: =PLANILHA!#REF! -> #REF! | E28: 61.64 | F28: (880,53*0,07) | H28: ATERRO MANUAL DE VALAS COM SOLO ARGILO-ARENOSO E COMPACTAÇÃO MECANIZADA. AF_05/2016 | I28: M3 | J28: 264.159 | K28: 880,53*0,3
A29: =PLANILHA!#REF! -> #REF! | B29: =PLANILHA!#REF! -> #REF! | C29: =PLANILHA!#REF! -> #REF! | D29: =PLANILHA!#REF! -> #REF! | E29: 880.53 | F29: 880.53 | H29: CONCRETO FCK = 25MPA, TRAÇO 1:2,3:2,7 (CIMENTO/ AREIA MÉDIA/ BRITA 1) - PREPARO MECÂNICO COM BETONEIRA 400 L. AF_07/2016 | I29: M3 | J29: 46.5558 | K29: ((482,43*0,3*0,2)+(72*3,5*0,15*0,25)+(4*3,5*0,2*0,2)+(76*0,5*0,5*0,4))
A30: =PLANILHA!#REF! -> #REF! | B30: =PLANILHA!#REF! -> #REF! | C30: =PLANILHA!#REF! -> #REF! | D30: =PLANILHA!#REF! -> #REF! | E30: 1303.18 | F30: 1,48*880,53 | H30: ALVENARIA DE VEDAÇÃO DE BLOCOS VAZADOS DE CONCRETO DE 14X19X39CM (ESPESSURA 14CM) DE PAREDES COM ÁREA LÍQUIDA MAIOR OU IGUAL A 6M² COM VÃOS E ARGAMASSA DE ASSENTAMENTO COM PREPARO EM BETONEIRA. AF_06/2014 | I30: M2 | J30: 1202.915 | K30: ((44*2)+(41,85*2)+(6,15*13)+(15,75*2)+(6,3*5)+(29,04))*3,5
A31: =PLANILHA!#REF! -> #REF! | B31: =PLANILHA!#REF! -> #REF! | C31: =PLANILHA!#REF! -> #REF! | D31: =PLANILHA!#REF! -> #REF! | E31: 880.53 | F31: 880.53 | H31: CINTA DE AMARRAÇÃO DE ALVENARIA MOLDADA IN LOCO EM CONCRETO. AF_03/2016 | I31: M | J31: 240.4 | K31: (44*2+6,15*2)+(15,75*2+6,3*2)+(41,85*2+6,15*2)
A32: =PLANILHA!#REF! -> #REF! | B32: =PLANILHA!#REF! -> #REF! | C32: =PLANILHA!#REF! -> #REF! | D32: =PLANILHA!#REF! -> #REF! | E32: 11236.15 | F32: 85*(107,22+24,97) | H32: CHAPISCO APLICADO EM ALVENARIAS E ESTRUTURAS DE CONCRETO INTERNAS, COM COLHER DE PEDREIRO. ARGAMASSA TRAÇO 1:3 COM PREPARO EM BETONEIRA 400L. AF_06/2014 | I32: M2 | J32: 2405.84 | K32: Chapisco 1.202,92 x 2 Lados
A33: =PLANILHA!#REF! -> #REF! | B33: =PLANILHA!#REF! -> #REF! | C33: =PLANILHA!#REF! -> #REF! | D33: =PLANILHA!#REF! -> #REF! | E33: 264.16 | F33: 880,53*0,3 | H33: MASSA ÚNICA, PARA RECEBIMENTO DE PINTURA, EM ARGAMASSA TRAÇO 1:2:8, PREPARO MECÂNICO COM BETONEIRA 400L, APLICADA MANUALMENTE EM FACES INTERNAS DE PAREDES, ESPESSURA DE 20MM, COM EXECUÇÃO DE TALISCAS. AF_06/2014 | I33: M2 | J33: 2405.84 | K33: Reboco 1.202,92 x 2 Lados
A34: =PLANILHA!#REF! -> #REF! | B34: =PLANILHA!#REF! -> #REF! | C34: =PLANILHA!#REF! -> #REF! | D34: =PLANILHA!#REF! -> #REF! | E34: 107.22 | F34: ((50,15*4 + 5,19 + 6 + 6 + 1,5 + 2,15 + 4,15 + 5*1,25 + 23,9*2 + 1,5 + 3*2 + 5,85*12)*0,2*0,3) + (0,6*0,6*0,5*76)+ (1020*3,1416*0,30*0,30/4) | H34: MOBILIZAÇÃO E DESMOBILIZAÇÃO DE EQUIPAMENTO PARA ESTACA PRÉ-MOLDADA DE CONCRETO ARMADO, CRAVADA. | I34: UNIDADE | J34: 1 | K34: MOBILIZAÇÃO E DESMOBILIZAÇÃO DO EQUIPAMENTO BATE ESTACA
A35: =PLANILHA!A20 -> 2.6 | B35: =PLANILHA!C20 -> ALV-BLO-010 | C35: =PLANILHA!D20 -> ALVENARIA DE VEDAÇÃO COM BLOCO DE CONCRETO, ESP. 14CM, PARA REVESTIMENTO, INCLUSIVE ARGAMASSA PARA ASSENTAMENTO | D35: =PLANILHA!E20 -> M2 | E35: 967.32 | F35: ((44*2)+(41,85*2)+(6,15*13)+(15,75*2)+(6,3*5)+(5,19)+(1,5*2))*2,9 + ((3*2)+(1,4*5)+(0,3*6))*2,1 | H35: ALVENARIA DE VEDAÇÃO DE BLOCOS VAZADOS DE CONCRETO DE 19X19X39CM (ESPESSURA 19CM) DE PAREDES COM ÁREA LÍQUIDA MAIOR OU IGUAL A 6M² COM VÃOS E ARGAMASSA DE ASSENTAMENTO COM PREPARO EM BETONEIRA. AF_06/2014 | I35: M2 | J35: 171.84571 | K35: Alvenaria de Base (1202,92/3,5)*0,5
A36: =PLANILHA!A21 -> 2.7 | B36: =PLANILHA!C21 -> CIN-BLO-010 | C36: =PLANILHA!D21 -> CINTA DE AMARRAÇÃO DE ALVENARIA COM BLOCO DE CONCRETO ESTRUTURAL, CANALETA TIPO "U", ESP. 14CM, (FBK 4,5MPA), PARA REVESTIMENTO, INCLUSIVE ARGAMASSA PARA ASSENTAMENTO, EXCLUSIVE GRAUTE E ARMAÇÃO | D36: =PLANILHA!E21 -> M | E36: 943.95 | F36: ((44*2)+(41,85*2)+(6,15*13)+(15,75*2)+(6,3*5))*3 | H36: CHAPISCO APLICADO EM ALVENARIAS E ESTRUTURAS DE CONCRETO INTERNAS, COM COLHER DE PEDREIRO. ARGAMASSA TRAÇO 1:3 COM PREPARO EM BETONEIRA 400L. AF_06/2014 | I36: M2 | J36: 343.7 | K36: (171,85*2)
A37: =PLANILHA!A22 -> 2.8 | B37: =PLANILHA!C22 -> REV-CHA-005 | C37: =PLANILHA!D22 -> CHAPISCO COM ARGAMASSA, TRAÇO 1:3 (CIMENTO E AREIA), ESP. 5MM, APLICADO EM ALVENARIA / ESTRUTURA DE CONCRETO COM COLHER, PREPARO MECÂNICO | D37: =PLANILHA!E22 -> M2 | E37: 1161.02 | F37: ((44*2)+(41,85*2)+(6,15*13)+(15,75*2)+(6,3*5)+(5,19)+(1,5*2))*3,5 + ((3*2)+(1,4*5)+(0,3*6))*2,1 | H37: REBOCO COM ARGAMASSA, TRAÇO 1:2:9 (CIMENTO, CAL E AREIA), COM ADITIVO IMPERMEABILIZANTE, ESP.20MM, APLICAÇÃO MANUAL, PREPARO MECÂNICO | I37: M2 | J37: 343.7 | K37: (171,85*2)
A38: =PLANILHA!A23 -> 2.9 | B38: =PLANILHA!C23 -> REV-REB-015 | C38: =PLANILHA!D23 -> REBOCO COM ARGAMASSA, TRAÇO 1:2:8 (CIMENTO, CAL E AREIA), ESP. 20MM, APLICAÇÃO MANUAL, PREPARO MECÂNICO | D38: =PLANILHA!E23 -> M2 | E38: 1161.02 | F38: ((44*2)+(41,85*2)+(6,15*13)+(15,75*2)+(6,3*5)+(5,19)+(1,5*2))*3,5 + ((3*2)+(1,4*5)+(0,3*6))*2,1 | H38: IMPERMEABILIZAÇÃO DE PAREDES COM ARGAMASSA DE CIMENTO E AREIA, COM ADITIVO IMPERMEABILIZANTE, E = 2CM. AF_06/2018 | I38: M2 | J38: 171.84571 | K38: (1202,92/3,5)*0,5
A39: =PLANILHA!#REF! -> #REF! | B39: =PLANILHA!#REF! -> #REF! | C39: =PLANILHA!#REF! -> #REF! | D39: =PLANILHA!#REF! -> #REF! | E39: 64.57 | F39: ((44*2)+(41,85*2)+(6,15*13)+(15,75*2)+(6,3*5)+(5,19)+(1,5*2))*0,2 | H39: COBERTURA | J39: 0
A40: =PLANILHA!#REF! -> #REF! | B40: =PLANILHA!#REF! -> #REF! | C40: =PLANILHA!#REF! -> #REF! | D40: =PLANILHA!#REF! -> #REF! | E40: 129.14 | F40: (((44*2)+(41,85*2)+(6,15*13)+(15,75*2)+(6,3*5)+(5,19)+(1,5*2))*0,2)*2 | H40: ESTRUTURA DE AÇO PARA COBERTURA EM ARCO, ESPAÇAMENTO ENTRE ARCOS 4 M, VÃO 15 M | I40: M2 | J40: 880.525 | K40: (50,15*8,15)+(41,85*8,15)+(15,75*8,3)
...
